BEGIN:VCALENDAR
VERSION:2.0
PRODID:-//Salem Home - ECPv6.15.20//NONSGML v1.0//EN
CALSCALE:GREGORIAN
METHOD:PUBLISH
X-WR-CALNAME:Salem Home
X-ORIGINAL-URL:https://www.salemhome.ca
X-WR-CALDESC:Events for Salem Home
REFRESH-INTERVAL;VALUE=DURATION:PT1H
X-Robots-Tag:noindex
X-PUBLISHED-TTL:PT1H
BEGIN:VTIMEZONE
TZID:America/Winnipeg
BEGIN:DAYLIGHT
TZOFFSETFROM:-0600
TZOFFSETTO:-0500
TZNAME:CDT
DTSTART:20220313T080000
END:DAYLIGHT
BEGIN:STANDARD
TZOFFSETFROM:-0500
TZOFFSETTO:-0600
TZNAME:CST
DTSTART:20221106T070000
END:STANDARD
BEGIN:DAYLIGHT
TZOFFSETFROM:-0600
TZOFFSETTO:-0500
TZNAME:CDT
DTSTART:20230312T080000
END:DAYLIGHT
BEGIN:STANDARD
TZOFFSETFROM:-0500
TZOFFSETTO:-0600
TZNAME:CST
DTSTART:20231105T070000
END:STANDARD
BEGIN:DAYLIGHT
TZOFFSETFROM:-0600
TZOFFSETTO:-0500
TZNAME:CDT
DTSTART:20240310T080000
END:DAYLIGHT
BEGIN:STANDARD
TZOFFSETFROM:-0500
TZOFFSETTO:-0600
TZNAME:CST
DTSTART:20241103T070000
END:STANDARD
END:VTIMEZONE
BEGIN:VEVENT
DTSTART;TZID=America/Winnipeg:20230420T150000
DTEND;TZID=America/Winnipeg:20230420T160000
DTSTAMP:20260423T181102
CREATED:20230322T220013Z
LAST-MODIFIED:20230419T224602Z
UID:24625-1682002800-1682006400@www.salemhome.ca
SUMMARY:Connect 4
DESCRIPTION:
URL:https://www.salemhome.ca/event/connect-4/
CATEGORIES:Maple South
END:VEVENT
BEGIN:VEVENT
DTSTART;TZID=America/Winnipeg:20230421T100000
DTEND;TZID=America/Winnipeg:20230421T110000
DTSTAMP:20260423T181102
CREATED:20230322T220013Z
LAST-MODIFIED:20230420T224516Z
UID:24626-1682071200-1682074800@www.salemhome.ca
SUMMARY:1 on 1 Visits
DESCRIPTION:
URL:https://www.salemhome.ca/event/1-on-1-visits-66/
CATEGORIES:Maple South
END:VEVENT
BEGIN:VEVENT
DTSTART;TZID=America/Winnipeg:20230421T150000
DTEND;TZID=America/Winnipeg:20230421T160000
DTSTAMP:20260423T181102
CREATED:20230322T220013Z
LAST-MODIFIED:20230420T224516Z
UID:24627-1682089200-1682092800@www.salemhome.ca
SUMMARY:Crokinole
DESCRIPTION:
URL:https://www.salemhome.ca/event/crokinole-3/
CATEGORIES:Maple South
END:VEVENT
BEGIN:VEVENT
DTSTART;TZID=America/Winnipeg:20230422T100000
DTEND;TZID=America/Winnipeg:20230422T110000
DTSTAMP:20260423T181102
CREATED:20230131T220831Z
LAST-MODIFIED:20230421T224536Z
UID:22438-1682157600-1682161200@www.salemhome.ca
SUMMARY:Bingo
DESCRIPTION:
URL:https://www.salemhome.ca/event/bingo-154/
CATEGORIES:Maple South
END:VEVENT
BEGIN:VEVENT
DTSTART;TZID=America/Winnipeg:20230423T094500
DTEND;TZID=America/Winnipeg:20230423T104500
DTSTAMP:20260423T181102
CREATED:20230322T220013Z
LAST-MODIFIED:20230422T224547Z
UID:24628-1682243100-1682246700@www.salemhome.ca
SUMMARY:Chapel: Winkler EMMC
DESCRIPTION:
URL:https://www.salemhome.ca/event/chapel-winkler-emmc/
CATEGORIES:Maple South
END:VEVENT
BEGIN:VEVENT
DTSTART;TZID=America/Winnipeg:20230424T100000
DTEND;TZID=America/Winnipeg:20230424T110000
DTSTAMP:20260423T181102
CREATED:20230322T220013Z
LAST-MODIFIED:20230423T224516Z
UID:24629-1682330400-1682334000@www.salemhome.ca
SUMMARY:Men's Group with Kris (Oma's Kitchen)
DESCRIPTION:
URL:https://www.salemhome.ca/event/mens-group-with-kris-omas-kitchen-3/
CATEGORIES:Maple South
END:VEVENT
BEGIN:VEVENT
DTSTART;TZID=America/Winnipeg:20230424T150000
DTEND;TZID=America/Winnipeg:20230424T160000
DTSTAMP:20260423T181102
CREATED:20230322T220013Z
LAST-MODIFIED:20230423T224517Z
UID:24630-1682348400-1682352000@www.salemhome.ca
SUMMARY:Baking
DESCRIPTION:
URL:https://www.salemhome.ca/event/baking-14/
CATEGORIES:Maple South
END:VEVENT
BEGIN:VEVENT
DTSTART;TZID=America/Winnipeg:20230424T180000
DTEND;TZID=America/Winnipeg:20230424T190000
DTSTAMP:20260423T181102
CREATED:20230322T220013Z
LAST-MODIFIED:20230424T224512Z
UID:24631-1682359200-1682362800@www.salemhome.ca
SUMMARY:Bingo
DESCRIPTION:
URL:https://www.salemhome.ca/event/bingo-216/
CATEGORIES:Maple South
END:VEVENT
BEGIN:VEVENT
DTSTART;TZID=America/Winnipeg:20230425T100000
DTEND;TZID=America/Winnipeg:20230425T110000
DTSTAMP:20260423T181102
CREATED:20230322T220013Z
LAST-MODIFIED:20230424T224512Z
UID:24632-1682416800-1682420400@www.salemhome.ca
SUMMARY:Ball Toss
DESCRIPTION:
URL:https://www.salemhome.ca/event/ball-toss-2/
CATEGORIES:Maple South
END:VEVENT
BEGIN:VEVENT
DTSTART;TZID=America/Winnipeg:20230425T150000
DTEND;TZID=America/Winnipeg:20230425T160000
DTSTAMP:20260423T181102
CREATED:20230322T220014Z
LAST-MODIFIED:20230424T224512Z
UID:24633-1682434800-1682438400@www.salemhome.ca
SUMMARY:Puzzle Time
DESCRIPTION:
URL:https://www.salemhome.ca/event/puzzle-time-2/
CATEGORIES:Maple South
END:VEVENT
BEGIN:VEVENT
DTSTART;TZID=America/Winnipeg:20230426T100000
DTEND;TZID=America/Winnipeg:20230426T103000
DTSTAMP:20260423T181102
CREATED:20230131T220832Z
LAST-MODIFIED:20230425T224518Z
UID:22440-1682503200-1682505000@www.salemhome.ca
SUMMARY:Chapel
DESCRIPTION:
URL:https://www.salemhome.ca/event/chapel-149/
CATEGORIES:Maple South
END:VEVENT
BEGIN:VEVENT
DTSTART;TZID=America/Winnipeg:20230426T103000
DTEND;TZID=America/Winnipeg:20230426T113000
DTSTAMP:20260423T181102
CREATED:20230131T220831Z
LAST-MODIFIED:20230425T224518Z
UID:22439-1682505000-1682508600@www.salemhome.ca
SUMMARY:1 on 1 Visits
DESCRIPTION:
URL:https://www.salemhome.ca/event/1-on-1-visits-18/
CATEGORIES:Maple South
END:VEVENT
BEGIN:VEVENT
DTSTART;TZID=America/Winnipeg:20230426T150000
DTEND;TZID=America/Winnipeg:20230426T160000
DTSTAMP:20260423T181102
CREATED:20230322T220014Z
LAST-MODIFIED:20230425T224518Z
UID:24634-1682521200-1682524800@www.salemhome.ca
SUMMARY:Picture Find
DESCRIPTION:
URL:https://www.salemhome.ca/event/picture-find/
CATEGORIES:Maple South
END:VEVENT
BEGIN:VEVENT
DTSTART;TZID=America/Winnipeg:20230427T094500
DTEND;TZID=America/Winnipeg:20230427T104500
DTSTAMP:20260423T181102
CREATED:20230328T221530Z
LAST-MODIFIED:20230426T224512Z
UID:25106-1682588700-1682592300@www.salemhome.ca
SUMMARY:Chapel: Winkler MB
DESCRIPTION:
URL:https://www.salemhome.ca/event/chapel-winkler-mb/
CATEGORIES:Maple South
END:VEVENT
BEGIN:VEVENT
DTSTART;TZID=America/Winnipeg:20230427T100000
DTEND;TZID=America/Winnipeg:20230427T110000
DTSTAMP:20260423T181102
CREATED:20230131T220832Z
LAST-MODIFIED:20230327T221558Z
UID:22441-1682589600-1682593200@www.salemhome.ca
SUMMARY:Hymn Sing
DESCRIPTION:
URL:https://www.salemhome.ca/event/hymn-sing-125/
CATEGORIES:Maple South
END:VEVENT
BEGIN:VEVENT
DTSTART;TZID=America/Winnipeg:20230427T101500
DTEND;TZID=America/Winnipeg:20230427T111500
DTSTAMP:20260423T181102
CREATED:20230328T221530Z
LAST-MODIFIED:20230426T224512Z
UID:25105-1682590500-1682594100@www.salemhome.ca
SUMMARY:Hymn Sing
DESCRIPTION:
URL:https://www.salemhome.ca/event/hymn-sing-186/
CATEGORIES:Maple South
END:VEVENT
BEGIN:VEVENT
DTSTART;TZID=America/Winnipeg:20230427T150000
DTEND;TZID=America/Winnipeg:20230427T160000
DTSTAMP:20260423T181102
CREATED:20230322T220014Z
LAST-MODIFIED:20230426T224512Z
UID:24635-1682607600-1682611200@www.salemhome.ca
SUMMARY:Sneaker Club
DESCRIPTION:
URL:https://www.salemhome.ca/event/sneaker-club-3/
CATEGORIES:Maple South
END:VEVENT
BEGIN:VEVENT
DTSTART;TZID=America/Winnipeg:20230428T100000
DTEND;TZID=America/Winnipeg:20230428T110000
DTSTAMP:20260423T181102
CREATED:20230322T220014Z
LAST-MODIFIED:20230427T224700Z
UID:24636-1682676000-1682679600@www.salemhome.ca
SUMMARY:Drum To The Beat
DESCRIPTION:
URL:https://www.salemhome.ca/event/drum-to-the-beat/
CATEGORIES:Maple South
END:VEVENT
BEGIN:VEVENT
DTSTART;TZID=America/Winnipeg:20230428T150000
DTEND;TZID=America/Winnipeg:20230428T160000
DTSTAMP:20260423T181102
CREATED:20230322T220014Z
LAST-MODIFIED:20230427T224700Z
UID:24637-1682694000-1682697600@www.salemhome.ca
SUMMARY:Birthday Party
DESCRIPTION:
URL:https://www.salemhome.ca/event/birthday-party-18/
CATEGORIES:Maple South
END:VEVENT
BEGIN:VEVENT
DTSTART;TZID=America/Winnipeg:20230430T094500
DTEND;TZID=America/Winnipeg:20230430T104500
DTSTAMP:20260423T181102
CREATED:20230322T220014Z
LAST-MODIFIED:20230429T224513Z
UID:24638-1682847900-1682851500@www.salemhome.ca
SUMMARY:Chapel: Old Colony Mennonite
DESCRIPTION:
URL:https://www.salemhome.ca/event/chapel-old-colony-mennonite/
CATEGORIES:Maple South
END:VEVENT
BEGIN:VEVENT
DTSTART;TZID=America/Winnipeg:20230430T094500
DTEND;TZID=America/Winnipeg:20230430T104500
DTSTAMP:20260423T181102
CREATED:20230322T220014Z
LAST-MODIFIED:20230429T224513Z
UID:24639-1682847900-1682851500@www.salemhome.ca
SUMMARY:Chapel: Old Colony Mennonite
DESCRIPTION:
URL:https://www.salemhome.ca/event/chapel-old-colony-mennonite-2/
CATEGORIES:Maple South
END:VEVENT
BEGIN:VEVENT
DTSTART;TZID=America/Winnipeg:20230501T100000
DTEND;TZID=America/Winnipeg:20230501T110000
DTSTAMP:20260423T181102
CREATED:20230322T220014Z
LAST-MODIFIED:20230430T224512Z
UID:24640-1682935200-1682938800@www.salemhome.ca
SUMMARY:Men's Group with Kris (Oma's Kitchen)
DESCRIPTION:
URL:https://www.salemhome.ca/event/mens-group-with-kris-omas-kitchen-4/
CATEGORIES:Maple South
END:VEVENT
BEGIN:VEVENT
DTSTART;TZID=America/Winnipeg:20230501T150000
DTEND;TZID=America/Winnipeg:20230501T160000
DTSTAMP:20260423T181102
CREATED:20230428T224623Z
LAST-MODIFIED:20230430T224512Z
UID:26002-1682953200-1682956800@www.salemhome.ca
SUMMARY:1 on 1 Visits
DESCRIPTION:
URL:https://www.salemhome.ca/event/1-on-1-visits-71/
CATEGORIES:Maple South
END:VEVENT
BEGIN:VEVENT
DTSTART;TZID=America/Winnipeg:20230501T180000
DTEND;TZID=America/Winnipeg:20230501T190000
DTSTAMP:20260423T181102
CREATED:20230428T224623Z
LAST-MODIFIED:20230501T224539Z
UID:26003-1682964000-1682967600@www.salemhome.ca
SUMMARY:Bingo
DESCRIPTION:
URL:https://www.salemhome.ca/event/bingo-223/
CATEGORIES:Maple South
END:VEVENT
BEGIN:VEVENT
DTSTART;TZID=America/Winnipeg:20230502T100000
DTEND;TZID=America/Winnipeg:20230502T110000
DTSTAMP:20260423T181102
CREATED:20230428T224623Z
LAST-MODIFIED:20230501T224539Z
UID:26004-1683021600-1683025200@www.salemhome.ca
SUMMARY:1 on 1 Visits
DESCRIPTION:
URL:https://www.salemhome.ca/event/1-on-1-visits-72/
CATEGORIES:Maple South
END:VEVENT
BEGIN:VEVENT
DTSTART;TZID=America/Winnipeg:20230502T150000
DTEND;TZID=America/Winnipeg:20230502T160000
DTSTAMP:20260423T181102
CREATED:20230428T224623Z
LAST-MODIFIED:20230501T224539Z
UID:26005-1683039600-1683043200@www.salemhome.ca
SUMMARY:Coffee Chat
DESCRIPTION:
URL:https://www.salemhome.ca/event/coffee-chat/
CATEGORIES:Maple South
END:VEVENT
BEGIN:VEVENT
DTSTART;TZID=America/Winnipeg:20230503T100000
DTEND;TZID=America/Winnipeg:20230503T103000
DTSTAMP:20260423T181102
CREATED:20230131T220832Z
LAST-MODIFIED:20230502T224513Z
UID:22442-1683108000-1683109800@www.salemhome.ca
SUMMARY:Chapel
DESCRIPTION:
URL:https://www.salemhome.ca/event/chapel-150/
CATEGORIES:Maple South
END:VEVENT
BEGIN:VEVENT
DTSTART;TZID=America/Winnipeg:20230503T103000
DTEND;TZID=America/Winnipeg:20230503T113000
DTSTAMP:20260423T181102
CREATED:20230131T220832Z
LAST-MODIFIED:20230502T224513Z
UID:22443-1683109800-1683113400@www.salemhome.ca
SUMMARY:1 on 1 Visits
DESCRIPTION:
URL:https://www.salemhome.ca/event/1-on-1-visits-19/
CATEGORIES:Maple South
END:VEVENT
BEGIN:VEVENT
DTSTART;TZID=America/Winnipeg:20230503T150000
DTEND;TZID=America/Winnipeg:20230503T160000
DTSTAMP:20260423T181102
CREATED:20230428T224624Z
LAST-MODIFIED:20230502T224513Z
UID:26006-1683126000-1683129600@www.salemhome.ca
SUMMARY:Reading
DESCRIPTION:
URL:https://www.salemhome.ca/event/reading-3/
CATEGORIES:Maple South
END:VEVENT
BEGIN:VEVENT
DTSTART;TZID=America/Winnipeg:20230503T180000
DTEND;TZID=America/Winnipeg:20230503T190000
DTSTAMP:20260423T181102
CREATED:20230428T224624Z
LAST-MODIFIED:20230503T230533Z
UID:26007-1683136800-1683140400@www.salemhome.ca
SUMMARY:K & Friends
DESCRIPTION:
URL:https://www.salemhome.ca/event/k-friends-5/
CATEGORIES:Maple South
END:VEVENT
END:VCALENDAR