BEGIN:VCALENDAR
VERSION:2.0
PRODID:-//Salem Home - ECPv6.15.20//NONSGML v1.0//EN
CALSCALE:GREGORIAN
METHOD:PUBLISH
X-ORIGINAL-URL:https://www.salemhome.ca
X-WR-CALDESC:Events for Salem Home
REFRESH-INTERVAL;VALUE=DURATION:PT1H
X-Robots-Tag:noindex
X-PUBLISHED-TTL:PT1H
BEGIN:VTIMEZONE
TZID:America/Winnipeg
BEGIN:DAYLIGHT
TZOFFSETFROM:-0600
TZOFFSETTO:-0500
TZNAME:CDT
DTSTART:20220313T080000
END:DAYLIGHT
BEGIN:STANDARD
TZOFFSETFROM:-0500
TZOFFSETTO:-0600
TZNAME:CST
DTSTART:20221106T070000
END:STANDARD
BEGIN:DAYLIGHT
TZOFFSETFROM:-0600
TZOFFSETTO:-0500
TZNAME:CDT
DTSTART:20230312T080000
END:DAYLIGHT
BEGIN:STANDARD
TZOFFSETFROM:-0500
TZOFFSETTO:-0600
TZNAME:CST
DTSTART:20231105T070000
END:STANDARD
BEGIN:DAYLIGHT
TZOFFSETFROM:-0600
TZOFFSETTO:-0500
TZNAME:CDT
DTSTART:20240310T080000
END:DAYLIGHT
BEGIN:STANDARD
TZOFFSETFROM:-0500
TZOFFSETTO:-0600
TZNAME:CST
DTSTART:20241103T070000
END:STANDARD
END:VTIMEZONE
BEGIN:VEVENT
DTSTART;TZID=America/Winnipeg:20230214T150000
DTEND;TZID=America/Winnipeg:20230214T160000
DTSTAMP:20260425T072459
CREATED:20230201T225944Z
LAST-MODIFIED:20230214T211511Z
UID:22691-1676386800-1676390400@www.salemhome.ca
SUMMARY:Live Music: Tom & Fred
DESCRIPTION:
URL:https://www.salemhome.ca/event/live-music-tom-fred-4/
CATEGORIES:Maple South
END:VEVENT
BEGIN:VEVENT
DTSTART;TZID=America/Winnipeg:20230214T183000
DTEND;TZID=America/Winnipeg:20230214T193000
DTSTAMP:20260425T072459
CREATED:20230201T225944Z
LAST-MODIFIED:20230214T211511Z
UID:22693-1676399400-1676403000@www.salemhome.ca
SUMMARY:Lorne Abrams
DESCRIPTION:
URL:https://www.salemhome.ca/event/lorne-abrams-3/
CATEGORIES:Maple South
END:VEVENT
BEGIN:VEVENT
DTSTART;TZID=America/Winnipeg:20230215T100000
DTEND;TZID=America/Winnipeg:20230215T103000
DTSTAMP:20260425T072459
CREATED:20230131T220829Z
LAST-MODIFIED:20230214T211511Z
UID:22392-1676455200-1676457000@www.salemhome.ca
SUMMARY:Chapel
DESCRIPTION:
URL:https://www.salemhome.ca/event/chapel-139/
CATEGORIES:Maple South
END:VEVENT
BEGIN:VEVENT
DTSTART;TZID=America/Winnipeg:20230215T103000
DTEND;TZID=America/Winnipeg:20230215T113000
DTSTAMP:20260425T072459
CREATED:20230131T220828Z
LAST-MODIFIED:20230214T211511Z
UID:22391-1676457000-1676460600@www.salemhome.ca
SUMMARY:1 on 1 Visits
DESCRIPTION:
URL:https://www.salemhome.ca/event/1-on-1-visits-8/
CATEGORIES:Maple South
END:VEVENT
BEGIN:VEVENT
DTSTART;TZID=America/Winnipeg:20230215T150000
DTEND;TZID=America/Winnipeg:20230215T160000
DTSTAMP:20260425T072459
CREATED:20230131T220829Z
LAST-MODIFIED:20230215T211514Z
UID:22393-1676473200-1676476800@www.salemhome.ca
SUMMARY:Winkler Flyers
DESCRIPTION:
URL:https://www.salemhome.ca/event/winkler-flyers-4/
CATEGORIES:Maple South
END:VEVENT
BEGIN:VEVENT
DTSTART;TZID=America/Winnipeg:20230215T150000
DTEND;TZID=America/Winnipeg:20230215T160000
DTSTAMP:20260425T072459
CREATED:20230201T225944Z
LAST-MODIFIED:20230215T211514Z
UID:22697-1676473200-1676476800@www.salemhome.ca
SUMMARY:Winkler Flyers
DESCRIPTION:
URL:https://www.salemhome.ca/event/winkler-flyers-8/
CATEGORIES:Maple South
END:VEVENT
BEGIN:VEVENT
DTSTART;TZID=America/Winnipeg:20230216T100000
DTEND;TZID=America/Winnipeg:20230216T110000
DTSTAMP:20260425T072459
CREATED:20230131T220829Z
LAST-MODIFIED:20230215T211514Z
UID:22394-1676541600-1676545200@www.salemhome.ca
SUMMARY:Hymn Sing
DESCRIPTION:
URL:https://www.salemhome.ca/event/hymn-sing-115/
CATEGORIES:Maple South
END:VEVENT
BEGIN:VEVENT
DTSTART;TZID=America/Winnipeg:20230216T150000
DTEND;TZID=America/Winnipeg:20230216T160000
DTSTAMP:20260425T072459
CREATED:20230131T220829Z
LAST-MODIFIED:20230216T211512Z
UID:22395-1676559600-1676563200@www.salemhome.ca
SUMMARY:Ball Toss
DESCRIPTION:
URL:https://www.salemhome.ca/event/ball-toss/
CATEGORIES:Maple South
END:VEVENT
BEGIN:VEVENT
DTSTART;TZID=America/Winnipeg:20230217T100000
DTEND;TZID=America/Winnipeg:20230217T110000
DTSTAMP:20260425T072459
CREATED:20230131T220829Z
LAST-MODIFIED:20230216T211512Z
UID:22396-1676628000-1676631600@www.salemhome.ca
SUMMARY:What's For Lunch
DESCRIPTION:
URL:https://www.salemhome.ca/event/whats-for-lunch/
CATEGORIES:Maple South
END:VEVENT
BEGIN:VEVENT
DTSTART;TZID=America/Winnipeg:20230217T150000
DTEND;TZID=America/Winnipeg:20230217T160000
DTSTAMP:20260425T072459
CREATED:20230131T220829Z
LAST-MODIFIED:20230217T211513Z
UID:22397-1676646000-1676649600@www.salemhome.ca
SUMMARY:Skip Bo
DESCRIPTION:
URL:https://www.salemhome.ca/event/skip-bo-3/
CATEGORIES:Maple South
END:VEVENT
BEGIN:VEVENT
DTSTART;TZID=America/Winnipeg:20230219T094500
DTEND;TZID=America/Winnipeg:20230219T104500
DTSTAMP:20260425T072459
CREATED:20230201T225956Z
LAST-MODIFIED:20230218T211534Z
UID:22718-1676799900-1676803500@www.salemhome.ca
SUMMARY:German Old Colony Mennonite
DESCRIPTION:
URL:https://www.salemhome.ca/event/german-old-colony-mennonite-3/
CATEGORIES:Maple South
END:VEVENT
BEGIN:VEVENT
DTSTART;TZID=America/Winnipeg:20230221T100000
DTEND;TZID=America/Winnipeg:20230221T110000
DTSTAMP:20260425T072459
CREATED:20230131T220829Z
LAST-MODIFIED:20230220T211517Z
UID:22398-1676973600-1676977200@www.salemhome.ca
SUMMARY:Wheel of Fortune
DESCRIPTION:
URL:https://www.salemhome.ca/event/wheel-of-fortune/
CATEGORIES:Maple South
END:VEVENT
BEGIN:VEVENT
DTSTART;TZID=America/Winnipeg:20230221T150000
DTEND;TZID=America/Winnipeg:20230221T160000
DTSTAMP:20260425T072459
CREATED:20230131T220829Z
LAST-MODIFIED:20230221T213044Z
UID:22399-1676991600-1676995200@www.salemhome.ca
SUMMARY:Colour With Me
DESCRIPTION:
URL:https://www.salemhome.ca/event/colour-with-me/
CATEGORIES:Maple South
END:VEVENT
BEGIN:VEVENT
DTSTART;TZID=America/Winnipeg:20230222T100000
DTEND;TZID=America/Winnipeg:20230222T103000
DTSTAMP:20260425T072459
CREATED:20230131T220829Z
LAST-MODIFIED:20230221T213044Z
UID:22400-1677060000-1677061800@www.salemhome.ca
SUMMARY:Chapel
DESCRIPTION:
URL:https://www.salemhome.ca/event/chapel-140/
CATEGORIES:Maple South
END:VEVENT
BEGIN:VEVENT
DTSTART;TZID=America/Winnipeg:20230222T103000
DTEND;TZID=America/Winnipeg:20230222T113000
DTSTAMP:20260425T072459
CREATED:20230131T220829Z
LAST-MODIFIED:20230221T213044Z
UID:22401-1677061800-1677065400@www.salemhome.ca
SUMMARY:1 on 1 Visits
DESCRIPTION:
URL:https://www.salemhome.ca/event/1-on-1-visits-9/
CATEGORIES:Maple South
END:VEVENT
BEGIN:VEVENT
DTSTART;TZID=America/Winnipeg:20230222T150000
DTEND;TZID=America/Winnipeg:20230222T160000
DTSTAMP:20260425T072459
CREATED:20230131T220829Z
LAST-MODIFIED:20230222T213034Z
UID:22402-1677078000-1677081600@www.salemhome.ca
SUMMARY:Fill In The Blank
DESCRIPTION:
URL:https://www.salemhome.ca/event/fill-in-the-blank-3/
CATEGORIES:Maple South
END:VEVENT
BEGIN:VEVENT
DTSTART;TZID=America/Winnipeg:20230223T100000
DTEND;TZID=America/Winnipeg:20230223T110000
DTSTAMP:20260425T072459
CREATED:20230131T220829Z
LAST-MODIFIED:20230222T213034Z
UID:22403-1677146400-1677150000@www.salemhome.ca
SUMMARY:Hymn Sing
DESCRIPTION:
URL:https://www.salemhome.ca/event/hymn-sing-116/
CATEGORIES:Maple South
END:VEVENT
BEGIN:VEVENT
DTSTART;TZID=America/Winnipeg:20230223T150000
DTEND;TZID=America/Winnipeg:20230223T160000
DTSTAMP:20260425T072459
CREATED:20230131T220829Z
LAST-MODIFIED:20230223T213110Z
UID:22404-1677164400-1677168000@www.salemhome.ca
SUMMARY:Mind and Movement
DESCRIPTION:
URL:https://www.salemhome.ca/event/mind-and-movement/
CATEGORIES:Maple South
END:VEVENT
BEGIN:VEVENT
DTSTART;TZID=America/Winnipeg:20230224T100000
DTEND;TZID=America/Winnipeg:20230224T110000
DTSTAMP:20260425T072459
CREATED:20230131T220829Z
LAST-MODIFIED:20230223T213110Z
UID:22405-1677232800-1677236400@www.salemhome.ca
SUMMARY:Reading
DESCRIPTION:
URL:https://www.salemhome.ca/event/reading/
CATEGORIES:Maple South
END:VEVENT
BEGIN:VEVENT
DTSTART;TZID=America/Winnipeg:20230224T150000
DTEND;TZID=America/Winnipeg:20230224T160000
DTSTAMP:20260425T072459
CREATED:20230131T220829Z
LAST-MODIFIED:20230224T213018Z
UID:22406-1677250800-1677254400@www.salemhome.ca
SUMMARY:Resident Birthday Party
DESCRIPTION:
URL:https://www.salemhome.ca/event/resident-birthday-party-2/
CATEGORIES:Maple South
END:VEVENT
BEGIN:VEVENT
DTSTART;TZID=America/Winnipeg:20230225T100000
DTEND;TZID=America/Winnipeg:20230225T110000
DTSTAMP:20260425T072459
CREATED:20230131T220829Z
LAST-MODIFIED:20230224T213018Z
UID:22407-1677319200-1677322800@www.salemhome.ca
SUMMARY:Bingo
DESCRIPTION:
URL:https://www.salemhome.ca/event/bingo-149/
CATEGORIES:Maple South
END:VEVENT
BEGIN:VEVENT
DTSTART;TZID=America/Winnipeg:20230226T094500
DTEND;TZID=America/Winnipeg:20230226T104500
DTSTAMP:20260425T072459
CREATED:20230201T230009Z
LAST-MODIFIED:20230225T213014Z
UID:22736-1677404700-1677408300@www.salemhome.ca
SUMMARY:Free Christian
DESCRIPTION:
URL:https://www.salemhome.ca/event/free-christian-3/
CATEGORIES:Maple South
END:VEVENT
BEGIN:VEVENT
DTSTART;TZID=America/Winnipeg:20230227T150000
DTEND;TZID=America/Winnipeg:20230227T160000
DTSTAMP:20260425T072459
CREATED:20230131T220829Z
LAST-MODIFIED:20230227T213018Z
UID:22408-1677510000-1677513600@www.salemhome.ca
SUMMARY:Welcome To Mexico
DESCRIPTION:
URL:https://www.salemhome.ca/event/welcome-to-mexico-3/
CATEGORIES:Maple South
END:VEVENT
BEGIN:VEVENT
DTSTART;TZID=America/Winnipeg:20230227T150000
DTEND;TZID=America/Winnipeg:20230227T160000
DTSTAMP:20260425T072459
CREATED:20230221T213042Z
LAST-MODIFIED:20230227T213018Z
UID:23884-1677510000-1677513600@www.salemhome.ca
SUMMARY:Welcome to Mexico
DESCRIPTION:
URL:https://www.salemhome.ca/event/welcome-to-mexico-4/
CATEGORIES:Maple South
END:VEVENT
BEGIN:VEVENT
DTSTART;TZID=America/Winnipeg:20230227T180000
DTEND;TZID=America/Winnipeg:20230227T190000
DTSTAMP:20260425T072459
CREATED:20230131T220829Z
LAST-MODIFIED:20230227T213018Z
UID:22409-1677520800-1677524400@www.salemhome.ca
SUMMARY:Bingo
DESCRIPTION:
URL:https://www.salemhome.ca/event/bingo-150/
CATEGORIES:Maple South
END:VEVENT
BEGIN:VEVENT
DTSTART;TZID=America/Winnipeg:20230228T100000
DTEND;TZID=America/Winnipeg:20230228T110000
DTSTAMP:20260425T072459
CREATED:20230131T220830Z
LAST-MODIFIED:20230227T213018Z
UID:22410-1677578400-1677582000@www.salemhome.ca
SUMMARY:Exercise
DESCRIPTION:
URL:https://www.salemhome.ca/event/exercise-3/
CATEGORIES:Maple South
END:VEVENT
BEGIN:VEVENT
DTSTART;TZID=America/Winnipeg:20230301T100000
DTEND;TZID=America/Winnipeg:20230301T103000
DTSTAMP:20260425T072459
CREATED:20230131T220830Z
LAST-MODIFIED:20230228T213012Z
UID:22412-1677664800-1677666600@www.salemhome.ca
SUMMARY:Chapel
DESCRIPTION:
URL:https://www.salemhome.ca/event/chapel-141/
CATEGORIES:Maple South
END:VEVENT
BEGIN:VEVENT
DTSTART;TZID=America/Winnipeg:20230301T103000
DTEND;TZID=America/Winnipeg:20230301T113000
DTSTAMP:20260425T072459
CREATED:20230131T220830Z
LAST-MODIFIED:20230228T213012Z
UID:22411-1677666600-1677670200@www.salemhome.ca
SUMMARY:1 on 1 Visits
DESCRIPTION:
URL:https://www.salemhome.ca/event/1-on-1-visits-10/
CATEGORIES:Maple South
END:VEVENT
BEGIN:VEVENT
DTSTART;TZID=America/Winnipeg:20230301T150000
DTEND;TZID=America/Winnipeg:20230301T160000
DTSTAMP:20260425T072459
CREATED:20230221T213042Z
LAST-MODIFIED:20230301T213026Z
UID:23885-1677682800-1677686400@www.salemhome.ca
SUMMARY:Schtruckalunt Meet & Greet
DESCRIPTION:
URL:https://www.salemhome.ca/event/schtruckalunt-meet-greet/
CATEGORIES:Maple South
END:VEVENT
BEGIN:VEVENT
DTSTART;TZID=America/Winnipeg:20230302T100000
DTEND;TZID=America/Winnipeg:20230302T110000
DTSTAMP:20260425T072459
CREATED:20230131T220830Z
LAST-MODIFIED:20230301T213026Z
UID:22413-1677751200-1677754800@www.salemhome.ca
SUMMARY:Hymn Sing
DESCRIPTION:
URL:https://www.salemhome.ca/event/hymn-sing-117/
CATEGORIES:Maple South
END:VEVENT
END:VCALENDAR