BEGIN:VCALENDAR
VERSION:2.0
PRODID:-//Salem Home - ECPv6.15.20//NONSGML v1.0//EN
CALSCALE:GREGORIAN
METHOD:PUBLISH
X-WR-CALNAME:Salem Home
X-ORIGINAL-URL:https://www.salemhome.ca
X-WR-CALDESC:Events for Salem Home
REFRESH-INTERVAL;VALUE=DURATION:PT1H
X-Robots-Tag:noindex
X-PUBLISHED-TTL:PT1H
BEGIN:VTIMEZONE
TZID:America/Winnipeg
BEGIN:DAYLIGHT
TZOFFSETFROM:-0600
TZOFFSETTO:-0500
TZNAME:CDT
DTSTART:20220313T080000
END:DAYLIGHT
BEGIN:STANDARD
TZOFFSETFROM:-0500
TZOFFSETTO:-0600
TZNAME:CST
DTSTART:20221106T070000
END:STANDARD
BEGIN:DAYLIGHT
TZOFFSETFROM:-0600
TZOFFSETTO:-0500
TZNAME:CDT
DTSTART:20230312T080000
END:DAYLIGHT
BEGIN:STANDARD
TZOFFSETFROM:-0500
TZOFFSETTO:-0600
TZNAME:CST
DTSTART:20231105T070000
END:STANDARD
BEGIN:DAYLIGHT
TZOFFSETFROM:-0600
TZOFFSETTO:-0500
TZNAME:CDT
DTSTART:20240310T080000
END:DAYLIGHT
BEGIN:STANDARD
TZOFFSETFROM:-0500
TZOFFSETTO:-0600
TZNAME:CST
DTSTART:20241103T070000
END:STANDARD
END:VTIMEZONE
BEGIN:VEVENT
DTSTART;TZID=America/Winnipeg:20230606T150000
DTEND;TZID=America/Winnipeg:20230606T160000
DTSTAMP:20260420T151215
CREATED:20230530T030030Z
LAST-MODIFIED:20230606T031511Z
UID:26811-1686063600-1686067200@www.salemhome.ca
SUMMARY:Word Game
DESCRIPTION:
URL:https://www.salemhome.ca/event/word-game/
CATEGORIES:Maple South
END:VEVENT
BEGIN:VEVENT
DTSTART;TZID=America/Winnipeg:20230607T100000
DTEND;TZID=America/Winnipeg:20230607T103000
DTSTAMP:20260420T151215
CREATED:20230131T220833Z
LAST-MODIFIED:20230607T031512Z
UID:22460-1686132000-1686133800@www.salemhome.ca
SUMMARY:Chapel
DESCRIPTION:
URL:https://www.salemhome.ca/event/chapel-155/
CATEGORIES:Maple South
END:VEVENT
BEGIN:VEVENT
DTSTART;TZID=America/Winnipeg:20230607T103000
DTEND;TZID=America/Winnipeg:20230607T113000
DTSTAMP:20260420T151215
CREATED:20230131T220833Z
LAST-MODIFIED:20230607T031511Z
UID:22461-1686133800-1686137400@www.salemhome.ca
SUMMARY:1 on 1 Visits
DESCRIPTION:
URL:https://www.salemhome.ca/event/1-on-1-visits-24/
CATEGORIES:Maple South
END:VEVENT
BEGIN:VEVENT
DTSTART;TZID=America/Winnipeg:20230607T130000
DTEND;TZID=America/Winnipeg:20230607T153000
DTSTAMP:20260420T151215
CREATED:20230530T030030Z
LAST-MODIFIED:20230607T031512Z
UID:26812-1686142800-1686151800@www.salemhome.ca
SUMMARY:Federal By-Election Voting
DESCRIPTION:
URL:https://www.salemhome.ca/event/federal-by-election-voting/
CATEGORIES:Maple South
END:VEVENT
BEGIN:VEVENT
DTSTART;TZID=America/Winnipeg:20230608T094500
DTEND;TZID=America/Winnipeg:20230608T104500
DTSTAMP:20260420T151215
CREATED:20230530T030030Z
LAST-MODIFIED:20230608T031548Z
UID:26813-1686217500-1686221100@www.salemhome.ca
SUMMARY:Chapel: Old Colony Mennonite
DESCRIPTION:
URL:https://www.salemhome.ca/event/chapel-old-colony-mennonite-15/
CATEGORIES:Maple South
END:VEVENT
BEGIN:VEVENT
DTSTART;TZID=America/Winnipeg:20230608T100000
DTEND;TZID=America/Winnipeg:20230608T110000
DTSTAMP:20260420T151215
CREATED:20230131T220833Z
LAST-MODIFIED:20230327T221559Z
UID:22462-1686218400-1686222000@www.salemhome.ca
SUMMARY:Hymn Sing
DESCRIPTION:
URL:https://www.salemhome.ca/event/hymn-sing-131/
CATEGORIES:Maple South
END:VEVENT
BEGIN:VEVENT
DTSTART;TZID=America/Winnipeg:20230608T101500
DTEND;TZID=America/Winnipeg:20230608T111500
DTSTAMP:20260420T151215
CREATED:20230328T221532Z
LAST-MODIFIED:20230608T031549Z
UID:25112-1686219300-1686222900@www.salemhome.ca
SUMMARY:Hymn Sing
DESCRIPTION:
URL:https://www.salemhome.ca/event/hymn-sing-192/
CATEGORIES:Maple South
END:VEVENT
BEGIN:VEVENT
DTSTART;TZID=America/Winnipeg:20230608T150000
DTEND;TZID=America/Winnipeg:20230608T160000
DTSTAMP:20260420T151215
CREATED:20230531T030015Z
LAST-MODIFIED:20230608T031549Z
UID:26884-1686236400-1686240000@www.salemhome.ca
SUMMARY:Crokinole
DESCRIPTION:
URL:https://www.salemhome.ca/event/crokinole-5/
CATEGORIES:Maple South
END:VEVENT
BEGIN:VEVENT
DTSTART;TZID=America/Winnipeg:20230609T100000
DTEND;TZID=America/Winnipeg:20230609T110000
DTSTAMP:20260420T151215
CREATED:20230531T030015Z
LAST-MODIFIED:20230609T033130Z
UID:26885-1686304800-1686308400@www.salemhome.ca
SUMMARY:1 on 1 Visits
DESCRIPTION:
URL:https://www.salemhome.ca/event/1-on-1-visits-85/
CATEGORIES:Maple South
END:VEVENT
BEGIN:VEVENT
DTSTART;TZID=America/Winnipeg:20230609T150000
DTEND;TZID=America/Winnipeg:20230609T160000
DTSTAMP:20260420T151215
CREATED:20230531T030015Z
LAST-MODIFIED:20230609T033130Z
UID:26886-1686322800-1686326400@www.salemhome.ca
SUMMARY:Manicures
DESCRIPTION:
URL:https://www.salemhome.ca/event/manicures-4/
CATEGORIES:Maple South
END:VEVENT
BEGIN:VEVENT
DTSTART;TZID=America/Winnipeg:20230611T094500
DTEND;TZID=America/Winnipeg:20230611T104500
DTSTAMP:20260420T151215
CREATED:20230531T030016Z
LAST-MODIFIED:20230611T034523Z
UID:26887-1686476700-1686480300@www.salemhome.ca
SUMMARY:Chapel: Winkler EMMC
DESCRIPTION:
URL:https://www.salemhome.ca/event/chapel-winkler-emmc-7/
CATEGORIES:Maple South
END:VEVENT
BEGIN:VEVENT
DTSTART;TZID=America/Winnipeg:20230611T183000
DTEND;TZID=America/Winnipeg:20230611T193000
DTSTAMP:20260420T151215
CREATED:20230201T230125Z
LAST-MODIFIED:20230530T030030Z
UID:22848-1686508200-1686511800@www.salemhome.ca
SUMMARY:ECBC Youth Group Choir
DESCRIPTION:
URL:https://www.salemhome.ca/event/ecbc-youth-group-choir-28/
CATEGORIES:Maple South
END:VEVENT
BEGIN:VEVENT
DTSTART;TZID=America/Winnipeg:20230612T100000
DTEND;TZID=America/Winnipeg:20230612T110000
DTSTAMP:20260420T151215
CREATED:20230322T220016Z
LAST-MODIFIED:20230530T030030Z
UID:24646-1686564000-1686567600@www.salemhome.ca
SUMMARY:Men's Group with Kris (Oma's Kitchen)
DESCRIPTION:
URL:https://www.salemhome.ca/event/mens-group-with-kris-omas-kitchen-10/
CATEGORIES:Maple South
END:VEVENT
BEGIN:VEVENT
DTSTART;TZID=America/Winnipeg:20230612T150000
DTEND;TZID=America/Winnipeg:20230612T160000
DTSTAMP:20260420T151215
CREATED:20230531T030016Z
LAST-MODIFIED:20230612T034533Z
UID:26888-1686582000-1686585600@www.salemhome.ca
SUMMARY:The Sandersons
DESCRIPTION:
URL:https://www.salemhome.ca/event/the-sandersons-6/
CATEGORIES:Maple South
END:VEVENT
BEGIN:VEVENT
DTSTART;TZID=America/Winnipeg:20230612T180000
DTEND;TZID=America/Winnipeg:20230612T190000
DTSTAMP:20260420T151215
CREATED:20230531T030016Z
LAST-MODIFIED:20230612T034533Z
UID:26889-1686592800-1686596400@www.salemhome.ca
SUMMARY:Bingo
DESCRIPTION:
URL:https://www.salemhome.ca/event/bingo-237/
CATEGORIES:Maple South
END:VEVENT
BEGIN:VEVENT
DTSTART;TZID=America/Winnipeg:20230613T150000
DTEND;TZID=America/Winnipeg:20230613T160000
DTSTAMP:20260420T151215
CREATED:20230531T030016Z
LAST-MODIFIED:20230613T034512Z
UID:26891-1686668400-1686672000@www.salemhome.ca
SUMMARY:Ice Cream Sundaes
DESCRIPTION:
URL:https://www.salemhome.ca/event/ice-cream-sundaes/
CATEGORIES:Maple South
END:VEVENT
BEGIN:VEVENT
DTSTART;TZID=America/Winnipeg:20230613T180000
DTEND;TZID=America/Winnipeg:20230613T190000
DTSTAMP:20260420T151215
CREATED:20230531T030016Z
LAST-MODIFIED:20230613T034512Z
UID:26892-1686679200-1686682800@www.salemhome.ca
SUMMARY:Car Show
DESCRIPTION:
URL:https://www.salemhome.ca/event/car-show-2/
CATEGORIES:Maple South
END:VEVENT
BEGIN:VEVENT
DTSTART;TZID=America/Winnipeg:20230614T100000
DTEND;TZID=America/Winnipeg:20230614T103000
DTSTAMP:20260420T151215
CREATED:20230131T220833Z
LAST-MODIFIED:20230614T034520Z
UID:22464-1686736800-1686738600@www.salemhome.ca
SUMMARY:Chapel
DESCRIPTION:
URL:https://www.salemhome.ca/event/chapel-156/
CATEGORIES:Maple South
END:VEVENT
BEGIN:VEVENT
DTSTART;TZID=America/Winnipeg:20230614T103000
DTEND;TZID=America/Winnipeg:20230614T113000
DTSTAMP:20260420T151215
CREATED:20230131T220833Z
LAST-MODIFIED:20230614T034520Z
UID:22463-1686738600-1686742200@www.salemhome.ca
SUMMARY:1 on 1 Visits
DESCRIPTION:
URL:https://www.salemhome.ca/event/1-on-1-visits-25/
CATEGORIES:Maple South
END:VEVENT
BEGIN:VEVENT
DTSTART;TZID=America/Winnipeg:20230614T150000
DTEND;TZID=America/Winnipeg:20230614T160000
DTSTAMP:20260420T151215
CREATED:20230531T030016Z
LAST-MODIFIED:20230614T034520Z
UID:26893-1686754800-1686758400@www.salemhome.ca
SUMMARY:Sneaker Club
DESCRIPTION:
URL:https://www.salemhome.ca/event/sneaker-club-5/
CATEGORIES:Maple South
END:VEVENT
BEGIN:VEVENT
DTSTART;TZID=America/Winnipeg:20230615T094500
DTEND;TZID=America/Winnipeg:20230615T104500
DTSTAMP:20260420T151215
CREATED:20230531T030016Z
LAST-MODIFIED:20230615T040023Z
UID:26894-1686822300-1686825900@www.salemhome.ca
SUMMARY:Chapel: Reinland Mennonite
DESCRIPTION:
URL:https://www.salemhome.ca/event/chapel-reinland-mennonite-10/
CATEGORIES:Maple South
END:VEVENT
BEGIN:VEVENT
DTSTART;TZID=America/Winnipeg:20230615T100000
DTEND;TZID=America/Winnipeg:20230615T110000
DTSTAMP:20260420T151215
CREATED:20230131T220833Z
LAST-MODIFIED:20230327T221559Z
UID:22465-1686823200-1686826800@www.salemhome.ca
SUMMARY:Hymn Sing
DESCRIPTION:
URL:https://www.salemhome.ca/event/hymn-sing-132/
CATEGORIES:Maple South
END:VEVENT
BEGIN:VEVENT
DTSTART;TZID=America/Winnipeg:20230615T101500
DTEND;TZID=America/Winnipeg:20230615T111500
DTSTAMP:20260420T151215
CREATED:20230328T221533Z
LAST-MODIFIED:20230615T040023Z
UID:25113-1686824100-1686827700@www.salemhome.ca
SUMMARY:Hymn Sing
DESCRIPTION:
URL:https://www.salemhome.ca/event/hymn-sing-193/
CATEGORIES:Maple South
END:VEVENT
BEGIN:VEVENT
DTSTART;TZID=America/Winnipeg:20230615T150000
DTEND;TZID=America/Winnipeg:20230615T160000
DTSTAMP:20260420T151215
CREATED:20230531T030016Z
LAST-MODIFIED:20230615T040023Z
UID:26895-1686841200-1686844800@www.salemhome.ca
SUMMARY:Puzzle Time
DESCRIPTION:
URL:https://www.salemhome.ca/event/puzzle-time-3/
CATEGORIES:Maple South
END:VEVENT
BEGIN:VEVENT
DTSTART;TZID=America/Winnipeg:20230616T103000
DTEND;TZID=America/Winnipeg:20230616T113000
DTSTAMP:20260420T151215
CREATED:20230531T030016Z
LAST-MODIFIED:20230616T040011Z
UID:26896-1686911400-1686915000@www.salemhome.ca
SUMMARY:Mens BBQ Lunch
DESCRIPTION:
URL:https://www.salemhome.ca/event/mens-bbq-lunch-2/
CATEGORIES:Maple South
END:VEVENT
BEGIN:VEVENT
DTSTART;TZID=America/Winnipeg:20230616T150000
DTEND;TZID=America/Winnipeg:20230616T160000
DTSTAMP:20260420T151215
CREATED:20230531T030016Z
LAST-MODIFIED:20230616T040011Z
UID:26897-1686927600-1686931200@www.salemhome.ca
SUMMARY:Read With Me
DESCRIPTION:
URL:https://www.salemhome.ca/event/read-with-me/
CATEGORIES:Maple South
END:VEVENT
BEGIN:VEVENT
DTSTART;TZID=America/Winnipeg:20230617T100000
DTEND;TZID=America/Winnipeg:20230617T110000
DTSTAMP:20260420T151215
CREATED:20230131T220833Z
LAST-MODIFIED:20230617T040020Z
UID:22466-1686996000-1686999600@www.salemhome.ca
SUMMARY:Bingo
DESCRIPTION:
URL:https://www.salemhome.ca/event/bingo-158/
CATEGORIES:Maple South
END:VEVENT
BEGIN:VEVENT
DTSTART;TZID=America/Winnipeg:20230618T094500
DTEND;TZID=America/Winnipeg:20230618T104500
DTSTAMP:20260420T151215
CREATED:20230531T030017Z
LAST-MODIFIED:20230618T040026Z
UID:26898-1687081500-1687085100@www.salemhome.ca
SUMMARY:Chapel: Zion Mennonite
DESCRIPTION:
URL:https://www.salemhome.ca/event/chapel-zion-mennonite-6/
CATEGORIES:Maple South
END:VEVENT
BEGIN:VEVENT
DTSTART;TZID=America/Winnipeg:20230619T100000
DTEND;TZID=America/Winnipeg:20230619T110000
DTSTAMP:20260420T151215
CREATED:20230322T220016Z
LAST-MODIFIED:20230619T040012Z
UID:24647-1687168800-1687172400@www.salemhome.ca
SUMMARY:Men's Group with Kris (Oma's Kitchen)
DESCRIPTION:
URL:https://www.salemhome.ca/event/mens-group-with-kris-omas-kitchen-11/
CATEGORIES:Maple South
END:VEVENT
BEGIN:VEVENT
DTSTART;TZID=America/Winnipeg:20230619T100000
DTEND;TZID=America/Winnipeg:20230619T110000
DTSTAMP:20260420T151215
CREATED:20230531T030017Z
LAST-MODIFIED:20230619T040012Z
UID:26899-1687168800-1687172400@www.salemhome.ca
SUMMARY:Bingo
DESCRIPTION:
URL:https://www.salemhome.ca/event/bingo-238/
CATEGORIES:Maple South
END:VEVENT
END:VCALENDAR