BEGIN:VCALENDAR
VERSION:2.0
PRODID:-//Salem Home - ECPv6.15.20//NONSGML v1.0//EN
CALSCALE:GREGORIAN
METHOD:PUBLISH
X-WR-CALNAME:Salem Home
X-ORIGINAL-URL:https://www.salemhome.ca
X-WR-CALDESC:Events for Salem Home
REFRESH-INTERVAL;VALUE=DURATION:PT1H
X-Robots-Tag:noindex
X-PUBLISHED-TTL:PT1H
BEGIN:VTIMEZONE
TZID:America/Winnipeg
BEGIN:DAYLIGHT
TZOFFSETFROM:-0600
TZOFFSETTO:-0500
TZNAME:CDT
DTSTART:20220313T080000
END:DAYLIGHT
BEGIN:STANDARD
TZOFFSETFROM:-0500
TZOFFSETTO:-0600
TZNAME:CST
DTSTART:20221106T070000
END:STANDARD
BEGIN:DAYLIGHT
TZOFFSETFROM:-0600
TZOFFSETTO:-0500
TZNAME:CDT
DTSTART:20230312T080000
END:DAYLIGHT
BEGIN:STANDARD
TZOFFSETFROM:-0500
TZOFFSETTO:-0600
TZNAME:CST
DTSTART:20231105T070000
END:STANDARD
BEGIN:DAYLIGHT
TZOFFSETFROM:-0600
TZOFFSETTO:-0500
TZNAME:CDT
DTSTART:20240310T080000
END:DAYLIGHT
BEGIN:STANDARD
TZOFFSETFROM:-0500
TZOFFSETTO:-0600
TZNAME:CST
DTSTART:20241103T070000
END:STANDARD
END:VTIMEZONE
BEGIN:VEVENT
DTSTART;VALUE=DATE:20230627
DTEND;VALUE=DATE:20230628
DTSTAMP:20260423T043427
CREATED:20230531T030018Z
LAST-MODIFIED:20230627T041516Z
UID:26913-1687824000-1687910399@www.salemhome.ca
SUMMARY:Lemonade On The Patio
DESCRIPTION:
URL:https://www.salemhome.ca/event/lemonade-on-the-patio/
CATEGORIES:Maple South
END:VEVENT
BEGIN:VEVENT
DTSTART;TZID=America/Winnipeg:20230627T150000
DTEND;TZID=America/Winnipeg:20230627T160000
DTSTAMP:20260423T043427
CREATED:20230531T030018Z
LAST-MODIFIED:20230627T041516Z
UID:26914-1687878000-1687881600@www.salemhome.ca
SUMMARY:Exercise
DESCRIPTION:
URL:https://www.salemhome.ca/event/exercise-7/
CATEGORIES:Maple South
END:VEVENT
BEGIN:VEVENT
DTSTART;TZID=America/Winnipeg:20230628T100000
DTEND;TZID=America/Winnipeg:20230628T103000
DTSTAMP:20260423T043427
CREATED:20230131T220834Z
LAST-MODIFIED:20230628T041533Z
UID:22470-1687946400-1687948200@www.salemhome.ca
SUMMARY:Chapel
DESCRIPTION:
URL:https://www.salemhome.ca/event/chapel-158/
CATEGORIES:Maple South
END:VEVENT
BEGIN:VEVENT
DTSTART;TZID=America/Winnipeg:20230628T103000
DTEND;TZID=America/Winnipeg:20230628T113000
DTSTAMP:20260423T043427
CREATED:20230131T220834Z
LAST-MODIFIED:20230628T041533Z
UID:22471-1687948200-1687951800@www.salemhome.ca
SUMMARY:1 on 1 Visits
DESCRIPTION:
URL:https://www.salemhome.ca/event/1-on-1-visits-27/
CATEGORIES:Maple South
END:VEVENT
BEGIN:VEVENT
DTSTART;TZID=America/Winnipeg:20230628T150000
DTEND;TZID=America/Winnipeg:20230628T160000
DTSTAMP:20260423T043427
CREATED:20230531T030018Z
LAST-MODIFIED:20230628T041533Z
UID:26915-1687964400-1687968000@www.salemhome.ca
SUMMARY:Sneaker Club
DESCRIPTION:
URL:https://www.salemhome.ca/event/sneaker-club-6/
CATEGORIES:Maple South
END:VEVENT
BEGIN:VEVENT
DTSTART;TZID=America/Winnipeg:20230629T094500
DTEND;TZID=America/Winnipeg:20230629T104500
DTSTAMP:20260423T043427
CREATED:20230531T030018Z
LAST-MODIFIED:20230629T041522Z
UID:26916-1688031900-1688035500@www.salemhome.ca
SUMMARY:Chapel: Winkler Bergthaler
DESCRIPTION:
URL:https://www.salemhome.ca/event/chapel-winkler-bergthaler-2/
CATEGORIES:Maple South
END:VEVENT
BEGIN:VEVENT
DTSTART;TZID=America/Winnipeg:20230629T094500
DTEND;TZID=America/Winnipeg:20230629T104500
DTSTAMP:20260423T043427
CREATED:20230628T041531Z
LAST-MODIFIED:20230629T041522Z
UID:28479-1688031900-1688035500@www.salemhome.ca
SUMMARY:Chapel: Winkler Bergthaler
DESCRIPTION:
URL:https://www.salemhome.ca/event/chapel-winkler-bergthaler-4/
CATEGORIES:Maple South
END:VEVENT
BEGIN:VEVENT
DTSTART;TZID=America/Winnipeg:20230629T100000
DTEND;TZID=America/Winnipeg:20230629T110000
DTSTAMP:20260423T043427
CREATED:20230131T220834Z
LAST-MODIFIED:20230327T221600Z
UID:22472-1688032800-1688036400@www.salemhome.ca
SUMMARY:Hymn Sing
DESCRIPTION:
URL:https://www.salemhome.ca/event/hymn-sing-134/
CATEGORIES:Maple South
END:VEVENT
BEGIN:VEVENT
DTSTART;TZID=America/Winnipeg:20230629T101500
DTEND;TZID=America/Winnipeg:20230629T111500
DTSTAMP:20260423T043427
CREATED:20230328T221533Z
LAST-MODIFIED:20230629T041522Z
UID:25115-1688033700-1688037300@www.salemhome.ca
SUMMARY:Hymn Sing
DESCRIPTION:
URL:https://www.salemhome.ca/event/hymn-sing-195/
CATEGORIES:Maple South
END:VEVENT
BEGIN:VEVENT
DTSTART;TZID=America/Winnipeg:20230629T150000
DTEND;TZID=America/Winnipeg:20230629T160000
DTSTAMP:20260423T043427
CREATED:20230531T030018Z
LAST-MODIFIED:20230629T041522Z
UID:26917-1688050800-1688054400@www.salemhome.ca
SUMMARY:1 on 1 visits
DESCRIPTION:
URL:https://www.salemhome.ca/event/1-on-1-visits-86/
CATEGORIES:Maple South
END:VEVENT
BEGIN:VEVENT
DTSTART;TZID=America/Winnipeg:20230630T100000
DTEND;TZID=America/Winnipeg:20230630T110000
DTSTAMP:20260423T043427
CREATED:20230531T030019Z
LAST-MODIFIED:20230630T041514Z
UID:26918-1688119200-1688122800@www.salemhome.ca
SUMMARY:Balloon Badminton
DESCRIPTION:
URL:https://www.salemhome.ca/event/balloon-badminton-5/
CATEGORIES:Maple South
END:VEVENT
BEGIN:VEVENT
DTSTART;TZID=America/Winnipeg:20230630T150000
DTEND;TZID=America/Winnipeg:20230630T160000
DTSTAMP:20260423T043427
CREATED:20230531T030019Z
LAST-MODIFIED:20230630T041514Z
UID:26919-1688137200-1688140800@www.salemhome.ca
SUMMARY:Birthday Party
DESCRIPTION:
URL:https://www.salemhome.ca/event/birthday-party-23/
CATEGORIES:Maple South
END:VEVENT
BEGIN:VEVENT
DTSTART;TZID=America/Winnipeg:20230701T100000
DTEND;TZID=America/Winnipeg:20230701T110000
DTSTAMP:20260423T043427
CREATED:20230131T220834Z
LAST-MODIFIED:20230701T041531Z
UID:22473-1688205600-1688209200@www.salemhome.ca
SUMMARY:Bingo
DESCRIPTION:
URL:https://www.salemhome.ca/event/bingo-159/
CATEGORIES:Maple South
END:VEVENT
BEGIN:VEVENT
DTSTART;TZID=America/Winnipeg:20230702T214500
DTEND;TZID=America/Winnipeg:20230702T224500
DTSTAMP:20260423T043427
CREATED:20230628T041532Z
LAST-MODIFIED:20230702T041514Z
UID:28480-1688334300-1688337900@www.salemhome.ca
SUMMARY:Chapel: Free Christian
DESCRIPTION:
URL:https://www.salemhome.ca/event/chapel-free-christian-2/
CATEGORIES:Maple South
END:VEVENT
BEGIN:VEVENT
DTSTART;TZID=America/Winnipeg:20230703T100000
DTEND;TZID=America/Winnipeg:20230703T110000
DTSTAMP:20260423T043427
CREATED:20230322T220017Z
LAST-MODIFIED:20230703T041513Z
UID:24649-1688378400-1688382000@www.salemhome.ca
SUMMARY:Men's Group with Kris (Oma's Kitchen)
DESCRIPTION:
URL:https://www.salemhome.ca/event/mens-group-with-kris-omas-kitchen-13/
CATEGORIES:Maple South
END:VEVENT
BEGIN:VEVENT
DTSTART;TZID=America/Winnipeg:20230703T150000
DTEND;TZID=America/Winnipeg:20230703T160000
DTSTAMP:20260423T043427
CREATED:20230701T041529Z
LAST-MODIFIED:20230703T041513Z
UID:28703-1688396400-1688400000@www.salemhome.ca
SUMMARY:Canada Day Party
DESCRIPTION:
URL:https://www.salemhome.ca/event/canada-day-party-3/
CATEGORIES:Maple South
END:VEVENT
BEGIN:VEVENT
DTSTART;TZID=America/Winnipeg:20230703T180000
DTEND;TZID=America/Winnipeg:20230703T190000
DTSTAMP:20260423T043427
CREATED:20230701T041530Z
LAST-MODIFIED:20230703T041513Z
UID:28704-1688407200-1688410800@www.salemhome.ca
SUMMARY:Bingo
DESCRIPTION:
URL:https://www.salemhome.ca/event/bingo-253/
CATEGORIES:Maple South
END:VEVENT
BEGIN:VEVENT
DTSTART;TZID=America/Winnipeg:20230704T100000
DTEND;TZID=America/Winnipeg:20230704T110000
DTSTAMP:20260423T043427
CREATED:20230701T041530Z
LAST-MODIFIED:20230704T043012Z
UID:28705-1688464800-1688468400@www.salemhome.ca
SUMMARY:Games
DESCRIPTION:
URL:https://www.salemhome.ca/event/games-18/
CATEGORIES:Maple South
END:VEVENT
BEGIN:VEVENT
DTSTART;TZID=America/Winnipeg:20230704T150000
DTEND;TZID=America/Winnipeg:20230704T160000
DTSTAMP:20260423T043427
CREATED:20230701T041530Z
LAST-MODIFIED:20230704T043012Z
UID:28706-1688482800-1688486400@www.salemhome.ca
SUMMARY:Canada Flags & Capitals
DESCRIPTION:
URL:https://www.salemhome.ca/event/canada-flags-capitals-2/
CATEGORIES:Maple South
END:VEVENT
BEGIN:VEVENT
DTSTART;TZID=America/Winnipeg:20230705T100000
DTEND;TZID=America/Winnipeg:20230705T103000
DTSTAMP:20260423T043427
CREATED:20230131T220834Z
LAST-MODIFIED:20230705T043016Z
UID:22475-1688551200-1688553000@www.salemhome.ca
SUMMARY:Chapel
DESCRIPTION:
URL:https://www.salemhome.ca/event/chapel-159/
CATEGORIES:Maple South
END:VEVENT
BEGIN:VEVENT
DTSTART;TZID=America/Winnipeg:20230705T103000
DTEND;TZID=America/Winnipeg:20230705T113000
DTSTAMP:20260423T043427
CREATED:20230131T220834Z
LAST-MODIFIED:20230705T043016Z
UID:22474-1688553000-1688556600@www.salemhome.ca
SUMMARY:1 on 1 Visits
DESCRIPTION:
URL:https://www.salemhome.ca/event/1-on-1-visits-28/
CATEGORIES:Maple South
END:VEVENT
BEGIN:VEVENT
DTSTART;TZID=America/Winnipeg:20230705T150000
DTEND;TZID=America/Winnipeg:20230705T160000
DTSTAMP:20260423T043427
CREATED:20230701T041530Z
LAST-MODIFIED:20230705T043016Z
UID:28707-1688569200-1688572800@www.salemhome.ca
SUMMARY:Canadian Flowers & Birds
DESCRIPTION:
URL:https://www.salemhome.ca/event/canadian-flowers-birds/
CATEGORIES:Maple South
END:VEVENT
BEGIN:VEVENT
DTSTART;TZID=America/Winnipeg:20230706T094500
DTEND;TZID=America/Winnipeg:20230706T104500
DTSTAMP:20260423T043427
CREATED:20230628T041532Z
LAST-MODIFIED:20230706T043013Z
UID:28481-1688636700-1688640300@www.salemhome.ca
SUMMARY:Chapel: Zion Mennonite
DESCRIPTION:
URL:https://www.salemhome.ca/event/chapel-zion-mennonite-7/
CATEGORIES:Maple South
END:VEVENT
BEGIN:VEVENT
DTSTART;TZID=America/Winnipeg:20230706T100000
DTEND;TZID=America/Winnipeg:20230706T110000
DTSTAMP:20260423T043427
CREATED:20230131T220834Z
LAST-MODIFIED:20230327T221600Z
UID:22476-1688637600-1688641200@www.salemhome.ca
SUMMARY:Hymn Sing
DESCRIPTION:
URL:https://www.salemhome.ca/event/hymn-sing-135/
CATEGORIES:Maple South
END:VEVENT
BEGIN:VEVENT
DTSTART;TZID=America/Winnipeg:20230706T101500
DTEND;TZID=America/Winnipeg:20230706T111500
DTSTAMP:20260423T043427
CREATED:20230328T221533Z
LAST-MODIFIED:20230706T043013Z
UID:25116-1688638500-1688642100@www.salemhome.ca
SUMMARY:Hymn Sing
DESCRIPTION:
URL:https://www.salemhome.ca/event/hymn-sing-196/
CATEGORIES:Maple South
END:VEVENT
BEGIN:VEVENT
DTSTART;TZID=America/Winnipeg:20230706T150000
DTEND;TZID=America/Winnipeg:20230706T160000
DTSTAMP:20260423T043427
CREATED:20230701T041530Z
LAST-MODIFIED:20230706T043013Z
UID:28708-1688655600-1688659200@www.salemhome.ca
SUMMARY:German Word of The Day
DESCRIPTION:
URL:https://www.salemhome.ca/event/german-word-of-the-day/
CATEGORIES:Maple South
END:VEVENT
BEGIN:VEVENT
DTSTART;TZID=America/Winnipeg:20230707T100000
DTEND;TZID=America/Winnipeg:20230707T110000
DTSTAMP:20260423T043427
CREATED:20230701T041530Z
LAST-MODIFIED:20230707T043039Z
UID:28709-1688724000-1688727600@www.salemhome.ca
SUMMARY:In The Garden
DESCRIPTION:
URL:https://www.salemhome.ca/event/in-the-garden-2/
CATEGORIES:Maple South
END:VEVENT
BEGIN:VEVENT
DTSTART;TZID=America/Winnipeg:20230707T150000
DTEND;TZID=America/Winnipeg:20230707T160000
DTSTAMP:20260423T043427
CREATED:20230701T041530Z
LAST-MODIFIED:20230707T043039Z
UID:28710-1688742000-1688745600@www.salemhome.ca
SUMMARY:Ring Toss
DESCRIPTION:
URL:https://www.salemhome.ca/event/ring-toss/
CATEGORIES:Maple South
END:VEVENT
BEGIN:VEVENT
DTSTART;TZID=America/Winnipeg:20230709T094500
DTEND;TZID=America/Winnipeg:20230709T104500
DTSTAMP:20260423T043427
CREATED:20230628T041532Z
LAST-MODIFIED:20230709T043027Z
UID:28482-1688895900-1688899500@www.salemhome.ca
SUMMARY:Chapel: Winkler Mennonite
DESCRIPTION:
URL:https://www.salemhome.ca/event/chapel-winkler-mennonite-2/
CATEGORIES:Maple South
END:VEVENT
BEGIN:VEVENT
DTSTART;TZID=America/Winnipeg:20230709T183000
DTEND;TZID=America/Winnipeg:20230709T193000
DTSTAMP:20260423T043427
CREATED:20230201T230139Z
LAST-MODIFIED:20230530T030032Z
UID:22883-1688927400-1688931000@www.salemhome.ca
SUMMARY:ECBC Youth Group Choir
DESCRIPTION:
URL:https://www.salemhome.ca/event/ecbc-youth-group-choir-29/
CATEGORIES:Maple South
END:VEVENT
END:VCALENDAR