BEGIN:VCALENDAR
VERSION:2.0
PRODID:-//Salem Home - ECPv6.15.20//NONSGML v1.0//EN
CALSCALE:GREGORIAN
METHOD:PUBLISH
X-ORIGINAL-URL:https://www.salemhome.ca
X-WR-CALDESC:Events for Salem Home
REFRESH-INTERVAL;VALUE=DURATION:PT1H
X-Robots-Tag:noindex
X-PUBLISHED-TTL:PT1H
BEGIN:VTIMEZONE
TZID:America/Winnipeg
BEGIN:DAYLIGHT
TZOFFSETFROM:-0600
TZOFFSETTO:-0500
TZNAME:CDT
DTSTART:20220313T080000
END:DAYLIGHT
BEGIN:STANDARD
TZOFFSETFROM:-0500
TZOFFSETTO:-0600
TZNAME:CST
DTSTART:20221106T070000
END:STANDARD
BEGIN:DAYLIGHT
TZOFFSETFROM:-0600
TZOFFSETTO:-0500
TZNAME:CDT
DTSTART:20230312T080000
END:DAYLIGHT
BEGIN:STANDARD
TZOFFSETFROM:-0500
TZOFFSETTO:-0600
TZNAME:CST
DTSTART:20231105T070000
END:STANDARD
BEGIN:DAYLIGHT
TZOFFSETFROM:-0600
TZOFFSETTO:-0500
TZNAME:CDT
DTSTART:20240310T080000
END:DAYLIGHT
BEGIN:STANDARD
TZOFFSETFROM:-0500
TZOFFSETTO:-0600
TZNAME:CST
DTSTART:20241103T070000
END:STANDARD
END:VTIMEZONE
BEGIN:VEVENT
DTSTART;TZID=America/Winnipeg:20230309T100000
DTEND;TZID=America/Winnipeg:20230309T110000
DTSTAMP:20260425T072505
CREATED:20230131T220830Z
LAST-MODIFIED:20230308T214617Z
UID:22416-1678356000-1678359600@www.salemhome.ca
SUMMARY:Hymn Sing
DESCRIPTION:
URL:https://www.salemhome.ca/event/hymn-sing-118/
CATEGORIES:Maple South
END:VEVENT
BEGIN:VEVENT
DTSTART;TZID=America/Winnipeg:20230309T150000
DTEND;TZID=America/Winnipeg:20230309T160000
DTSTAMP:20260425T072505
CREATED:20230221T213043Z
LAST-MODIFIED:20230309T214518Z
UID:23891-1678374000-1678377600@www.salemhome.ca
SUMMARY:Traditional Clothing of Ukraine
DESCRIPTION:
URL:https://www.salemhome.ca/event/traditional-clothing-of-ukraine/
CATEGORIES:Maple South
END:VEVENT
BEGIN:VEVENT
DTSTART;TZID=America/Winnipeg:20230310T100000
DTEND;TZID=America/Winnipeg:20230310T110000
DTSTAMP:20260425T072505
CREATED:20230302T213136Z
LAST-MODIFIED:20230309T214518Z
UID:24192-1678442400-1678446000@www.salemhome.ca
SUMMARY:Mens Group
DESCRIPTION:
URL:https://www.salemhome.ca/event/mens-group/
CATEGORIES:Maple South
END:VEVENT
BEGIN:VEVENT
DTSTART;TZID=America/Winnipeg:20230310T150000
DTEND;TZID=America/Winnipeg:20230310T160000
DTSTAMP:20260425T072505
CREATED:20230221T213043Z
LAST-MODIFIED:20230310T214513Z
UID:23892-1678460400-1678464000@www.salemhome.ca
SUMMARY:Ukraine's Main Attractions
DESCRIPTION:
URL:https://www.salemhome.ca/event/ukraines-main-attractions/
CATEGORIES:Maple South
END:VEVENT
BEGIN:VEVENT
DTSTART;TZID=America/Winnipeg:20230311T100000
DTEND;TZID=America/Winnipeg:20230311T110000
DTSTAMP:20260425T072505
CREATED:20230131T220830Z
LAST-MODIFIED:20230310T214513Z
UID:22417-1678528800-1678532400@www.salemhome.ca
SUMMARY:Bingo
DESCRIPTION:
URL:https://www.salemhome.ca/event/bingo-151/
CATEGORIES:Maple South
END:VEVENT
BEGIN:VEVENT
DTSTART;TZID=America/Winnipeg:20230312T183000
DTEND;TZID=America/Winnipeg:20230312T193000
DTSTAMP:20260425T072505
CREATED:20230201T230021Z
LAST-MODIFIED:20230312T214651Z
UID:22750-1678645800-1678649400@www.salemhome.ca
SUMMARY:ECBC Youth Group Choir
DESCRIPTION:
URL:https://www.salemhome.ca/event/ecbc-youth-group-choir-25/
CATEGORIES:Maple South
END:VEVENT
BEGIN:VEVENT
DTSTART;TZID=America/Winnipeg:20230313T150000
DTEND;TZID=America/Winnipeg:20230313T160000
DTSTAMP:20260425T072505
CREATED:20230221T213043Z
LAST-MODIFIED:20230312T214651Z
UID:23893-1678719600-1678723200@www.salemhome.ca
SUMMARY:Welcome to Ireland
DESCRIPTION:
URL:https://www.salemhome.ca/event/welcome-to-ireland/
CATEGORIES:Maple South
END:VEVENT
BEGIN:VEVENT
DTSTART;TZID=America/Winnipeg:20230313T180000
DTEND;TZID=America/Winnipeg:20230313T190000
DTSTAMP:20260425T072505
CREATED:20230302T213136Z
LAST-MODIFIED:20230313T214544Z
UID:24193-1678730400-1678734000@www.salemhome.ca
SUMMARY:Bingo
DESCRIPTION:
URL:https://www.salemhome.ca/event/bingo-198/
CATEGORIES:Maple South
END:VEVENT
BEGIN:VEVENT
DTSTART;TZID=America/Winnipeg:20230314T100000
DTEND;TZID=America/Winnipeg:20230314T110000
DTSTAMP:20260425T072505
CREATED:20230302T213136Z
LAST-MODIFIED:20230313T214544Z
UID:24194-1678788000-1678791600@www.salemhome.ca
SUMMARY:Resident Family Council
DESCRIPTION:
URL:https://www.salemhome.ca/event/resident-family-council/
CATEGORIES:Maple South
END:VEVENT
BEGIN:VEVENT
DTSTART;TZID=America/Winnipeg:20230314T150000
DTEND;TZID=America/Winnipeg:20230314T160000
DTSTAMP:20260425T072505
CREATED:20230221T213043Z
LAST-MODIFIED:20230313T214544Z
UID:23894-1678806000-1678809600@www.salemhome.ca
SUMMARY:Tom the Irish Cowboy
DESCRIPTION:
URL:https://www.salemhome.ca/event/tom-the-irish-cowboy/
CATEGORIES:Maple South
END:VEVENT
BEGIN:VEVENT
DTSTART;TZID=America/Winnipeg:20230315T100000
DTEND;TZID=America/Winnipeg:20230315T103000
DTSTAMP:20260425T072505
CREATED:20230131T220830Z
LAST-MODIFIED:20230314T214619Z
UID:22418-1678874400-1678876200@www.salemhome.ca
SUMMARY:Chapel
DESCRIPTION:
URL:https://www.salemhome.ca/event/chapel-143/
CATEGORIES:Maple South
END:VEVENT
BEGIN:VEVENT
DTSTART;TZID=America/Winnipeg:20230315T103000
DTEND;TZID=America/Winnipeg:20230315T113000
DTSTAMP:20260425T072505
CREATED:20230131T220830Z
LAST-MODIFIED:20230314T214619Z
UID:22419-1678876200-1678879800@www.salemhome.ca
SUMMARY:1 on 1 Visits
DESCRIPTION:
URL:https://www.salemhome.ca/event/1-on-1-visits-12/
CATEGORIES:Maple South
END:VEVENT
BEGIN:VEVENT
DTSTART;TZID=America/Winnipeg:20230315T150000
DTEND;TZID=America/Winnipeg:20230315T160000
DTSTAMP:20260425T072505
CREATED:20230221T213043Z
LAST-MODIFIED:20230314T214619Z
UID:23895-1678892400-1678896000@www.salemhome.ca
SUMMARY:Taste of Ireland (Soda Bread)
DESCRIPTION:
URL:https://www.salemhome.ca/event/taste-of-ireland-soda-bread/
CATEGORIES:Maple South
END:VEVENT
BEGIN:VEVENT
DTSTART;TZID=America/Winnipeg:20230316T100000
DTEND;TZID=America/Winnipeg:20230316T110000
DTSTAMP:20260425T072505
CREATED:20230131T220830Z
LAST-MODIFIED:20230315T214604Z
UID:22420-1678960800-1678964400@www.salemhome.ca
SUMMARY:Hymn Sing
DESCRIPTION:
URL:https://www.salemhome.ca/event/hymn-sing-119/
CATEGORIES:Maple South
END:VEVENT
BEGIN:VEVENT
DTSTART;TZID=America/Winnipeg:20230316T150000
DTEND;TZID=America/Winnipeg:20230316T160000
DTSTAMP:20260425T072505
CREATED:20230221T213043Z
LAST-MODIFIED:20230315T214604Z
UID:23896-1678978800-1678982400@www.salemhome.ca
SUMMARY:Traditional Clothing of Ireland
DESCRIPTION:
URL:https://www.salemhome.ca/event/traditional-clothing-of-ireland/
CATEGORIES:Maple South
END:VEVENT
BEGIN:VEVENT
DTSTART;TZID=America/Winnipeg:20230317T100000
DTEND;TZID=America/Winnipeg:20230317T110000
DTSTAMP:20260425T072505
CREATED:20230302T213137Z
LAST-MODIFIED:20230316T215358Z
UID:24195-1679047200-1679050800@www.salemhome.ca
SUMMARY:Baking
DESCRIPTION:
URL:https://www.salemhome.ca/event/baking-8/
CATEGORIES:Maple South
END:VEVENT
BEGIN:VEVENT
DTSTART;TZID=America/Winnipeg:20230317T150000
DTEND;TZID=America/Winnipeg:20230317T160000
DTSTAMP:20260425T072505
CREATED:20230221T213043Z
LAST-MODIFIED:20230316T215358Z
UID:23897-1679065200-1679068800@www.salemhome.ca
SUMMARY:St. Patrick's Day Party
DESCRIPTION:
URL:https://www.salemhome.ca/event/st-patricks-day-party/
CATEGORIES:Maple South
END:VEVENT
BEGIN:VEVENT
DTSTART;TZID=America/Winnipeg:20230320T150000
DTEND;TZID=America/Winnipeg:20230320T160000
DTSTAMP:20260425T072505
CREATED:20230221T213043Z
LAST-MODIFIED:20230319T220048Z
UID:23898-1679324400-1679328000@www.salemhome.ca
SUMMARY:Welcome To Germany
DESCRIPTION:
URL:https://www.salemhome.ca/event/welcome-to-germany/
CATEGORIES:Maple South
END:VEVENT
BEGIN:VEVENT
DTSTART;TZID=America/Winnipeg:20230321T150000
DTEND;TZID=America/Winnipeg:20230321T160000
DTSTAMP:20260425T072505
CREATED:20230221T213043Z
LAST-MODIFIED:20230320T220015Z
UID:23899-1679410800-1679414400@www.salemhome.ca
SUMMARY:Toews Sisters
DESCRIPTION:
URL:https://www.salemhome.ca/event/toews-sisters/
CATEGORIES:Maple South
END:VEVENT
BEGIN:VEVENT
DTSTART;TZID=America/Winnipeg:20230322T100000
DTEND;TZID=America/Winnipeg:20230322T103000
DTSTAMP:20260425T072505
CREATED:20230131T220830Z
LAST-MODIFIED:20230321T220016Z
UID:22422-1679479200-1679481000@www.salemhome.ca
SUMMARY:Chapel
DESCRIPTION:
URL:https://www.salemhome.ca/event/chapel-144/
CATEGORIES:Maple South
END:VEVENT
BEGIN:VEVENT
DTSTART;TZID=America/Winnipeg:20230322T103000
DTEND;TZID=America/Winnipeg:20230322T113000
DTSTAMP:20260425T072505
CREATED:20230131T220830Z
LAST-MODIFIED:20230321T220016Z
UID:22421-1679481000-1679484600@www.salemhome.ca
SUMMARY:1 on 1 Visits
DESCRIPTION:
URL:https://www.salemhome.ca/event/1-on-1-visits-13/
CATEGORIES:Maple South
END:VEVENT
BEGIN:VEVENT
DTSTART;TZID=America/Winnipeg:20230322T150000
DTEND;TZID=America/Winnipeg:20230322T160000
DTSTAMP:20260425T072505
CREATED:20230221T213043Z
LAST-MODIFIED:20230321T220016Z
UID:23900-1679497200-1679500800@www.salemhome.ca
SUMMARY:Taste of Germany
DESCRIPTION:
URL:https://www.salemhome.ca/event/taste-of-germany/
CATEGORIES:Maple South
END:VEVENT
BEGIN:VEVENT
DTSTART;TZID=America/Winnipeg:20230323T100000
DTEND;TZID=America/Winnipeg:20230323T110000
DTSTAMP:20260425T072505
CREATED:20230131T220830Z
LAST-MODIFIED:20230322T220012Z
UID:22423-1679565600-1679569200@www.salemhome.ca
SUMMARY:Hymn Sing
DESCRIPTION:
URL:https://www.salemhome.ca/event/hymn-sing-120/
CATEGORIES:Maple South
END:VEVENT
BEGIN:VEVENT
DTSTART;TZID=America/Winnipeg:20230323T150000
DTEND;TZID=America/Winnipeg:20230323T160000
DTSTAMP:20260425T072505
CREATED:20230221T213043Z
LAST-MODIFIED:20230322T220012Z
UID:23901-1679583600-1679587200@www.salemhome.ca
SUMMARY:Traditional Clothing of Germany
DESCRIPTION:
URL:https://www.salemhome.ca/event/traditional-clothing-of-germany/
CATEGORIES:Maple South
END:VEVENT
BEGIN:VEVENT
DTSTART;TZID=America/Winnipeg:20230324T100000
DTEND;TZID=America/Winnipeg:20230324T110000
DTSTAMP:20260425T072505
CREATED:20230302T213137Z
LAST-MODIFIED:20230323T220015Z
UID:24196-1679652000-1679655600@www.salemhome.ca
SUMMARY:Mens Group
DESCRIPTION:
URL:https://www.salemhome.ca/event/mens-group-2/
CATEGORIES:Maple South
END:VEVENT
BEGIN:VEVENT
DTSTART;TZID=America/Winnipeg:20230324T150000
DTEND;TZID=America/Winnipeg:20230324T160000
DTSTAMP:20260425T072505
CREATED:20230221T213043Z
LAST-MODIFIED:20230323T220015Z
UID:23902-1679670000-1679673600@www.salemhome.ca
SUMMARY:Germany's Main Attractions
DESCRIPTION:
URL:https://www.salemhome.ca/event/germanys-main-attractions/
CATEGORIES:Maple South
END:VEVENT
BEGIN:VEVENT
DTSTART;TZID=America/Winnipeg:20230325T100000
DTEND;TZID=America/Winnipeg:20230325T110000
DTSTAMP:20260425T072505
CREATED:20230131T220830Z
LAST-MODIFIED:20230324T220044Z
UID:22424-1679738400-1679742000@www.salemhome.ca
SUMMARY:Bingo
DESCRIPTION:
URL:https://www.salemhome.ca/event/bingo-152/
CATEGORIES:Maple South
END:VEVENT
BEGIN:VEVENT
DTSTART;TZID=America/Winnipeg:20230327T150000
DTEND;TZID=America/Winnipeg:20230327T160000
DTSTAMP:20260425T072505
CREATED:20230302T213137Z
LAST-MODIFIED:20230326T221714Z
UID:24197-1679929200-1679932800@www.salemhome.ca
SUMMARY:Bowling
DESCRIPTION:
URL:https://www.salemhome.ca/event/bowling-4/
CATEGORIES:Maple South
END:VEVENT
BEGIN:VEVENT
DTSTART;TZID=America/Winnipeg:20230327T180000
DTEND;TZID=America/Winnipeg:20230327T190000
DTSTAMP:20260425T072505
CREATED:20230302T213137Z
LAST-MODIFIED:20230327T221556Z
UID:24198-1679940000-1679943600@www.salemhome.ca
SUMMARY:Bingo
DESCRIPTION:
URL:https://www.salemhome.ca/event/bingo-199/
CATEGORIES:Maple South
END:VEVENT
BEGIN:VEVENT
DTSTART;TZID=America/Winnipeg:20230328T100000
DTEND;TZID=America/Winnipeg:20230328T110000
DTSTAMP:20260425T072505
CREATED:20230302T213137Z
LAST-MODIFIED:20230327T221556Z
UID:24199-1679997600-1680001200@www.salemhome.ca
SUMMARY:Mind & Movement
DESCRIPTION:
URL:https://www.salemhome.ca/event/mind-movement/
CATEGORIES:Maple South
END:VEVENT
END:VCALENDAR