BEGIN:VCALENDAR
VERSION:2.0
PRODID:-//Salem Home - ECPv6.15.20//NONSGML v1.0//EN
CALSCALE:GREGORIAN
METHOD:PUBLISH
X-WR-CALNAME:Salem Home
X-ORIGINAL-URL:https://www.salemhome.ca
X-WR-CALDESC:Events for Salem Home
REFRESH-INTERVAL;VALUE=DURATION:PT1H
X-Robots-Tag:noindex
X-PUBLISHED-TTL:PT1H
BEGIN:VTIMEZONE
TZID:America/Winnipeg
BEGIN:DAYLIGHT
TZOFFSETFROM:-0600
TZOFFSETTO:-0500
TZNAME:CDT
DTSTART:20250309T080000
END:DAYLIGHT
BEGIN:STANDARD
TZOFFSETFROM:-0500
TZOFFSETTO:-0600
TZNAME:CST
DTSTART:20251102T070000
END:STANDARD
BEGIN:DAYLIGHT
TZOFFSETFROM:-0600
TZOFFSETTO:-0500
TZNAME:CDT
DTSTART:20260308T080000
END:DAYLIGHT
BEGIN:STANDARD
TZOFFSETFROM:-0500
TZOFFSETTO:-0600
TZNAME:CST
DTSTART:20261101T070000
END:STANDARD
BEGIN:DAYLIGHT
TZOFFSETFROM:-0600
TZOFFSETTO:-0500
TZNAME:CDT
DTSTART:20270314T080000
END:DAYLIGHT
BEGIN:STANDARD
TZOFFSETFROM:-0500
TZOFFSETTO:-0600
TZNAME:CST
DTSTART:20271107T070000
END:STANDARD
END:VTIMEZONE
BEGIN:VEVENT
DTSTART;TZID=America/Winnipeg:20260702T101500
DTEND;TZID=America/Winnipeg:20260702T111500
DTSTAMP:20260422T062450
CREATED:20260421T203809Z
LAST-MODIFIED:20260421T203809Z
UID:65227-1782987300-1782990900@www.salemhome.ca
SUMMARY:Hymn Sing
DESCRIPTION:
URL:https://www.salemhome.ca/event/hymn-sing-780/
CATEGORIES:Maple South
END:VEVENT
BEGIN:VEVENT
DTSTART;TZID=America/Winnipeg:20260703T100000
DTEND;TZID=America/Winnipeg:20260703T110000
DTSTAMP:20260422T062450
CREATED:20260421T203821Z
LAST-MODIFIED:20260421T203821Z
UID:65228-1783072800-1783076400@www.salemhome.ca
SUMMARY:Men's Coffee
DESCRIPTION:
URL:https://www.salemhome.ca/event/mens-coffee-812/
CATEGORIES:Maple South
END:VEVENT
BEGIN:VEVENT
DTSTART;TZID=America/Winnipeg:20260703T110000
DTEND;TZID=America/Winnipeg:20260703T120000
DTSTAMP:20260422T062450
CREATED:20260421T203822Z
LAST-MODIFIED:20260421T203822Z
UID:65229-1783076400-1783080000@www.salemhome.ca
SUMMARY:Move With Grace
DESCRIPTION:
URL:https://www.salemhome.ca/event/move-with-grace-221/
CATEGORIES:Maple South
END:VEVENT
BEGIN:VEVENT
DTSTART;TZID=America/Winnipeg:20260704T100000
DTEND;TZID=America/Winnipeg:20260704T110000
DTSTAMP:20260422T062450
CREATED:20260421T203822Z
LAST-MODIFIED:20260421T203822Z
UID:65230-1783159200-1783162800@www.salemhome.ca
SUMMARY:Bingo
DESCRIPTION:
URL:https://www.salemhome.ca/event/bingo-1267/
CATEGORIES:Maple South
END:VEVENT
BEGIN:VEVENT
DTSTART;VALUE=DATE:20260705
DTEND;VALUE=DATE:20260706
DTSTAMP:20260422T062450
CREATED:20260421T203822Z
LAST-MODIFIED:20260421T203822Z
UID:65232-1783209600-1783295999@www.salemhome.ca
SUMMARY:Day of Rest
DESCRIPTION:
URL:https://www.salemhome.ca/event/day-of-rest-524/
CATEGORIES:Maple South
END:VEVENT
BEGIN:VEVENT
DTSTART;TZID=America/Winnipeg:20260705T183000
DTEND;TZID=America/Winnipeg:20260705T193000
DTSTAMP:20260422T062450
CREATED:20260421T203822Z
LAST-MODIFIED:20260421T203822Z
UID:65231-1783276200-1783279800@www.salemhome.ca
SUMMARY:Church of God in Christ Youth
DESCRIPTION:
URL:https://www.salemhome.ca/event/church-of-god-in-christ-youth-100/
CATEGORIES:Maple South
END:VEVENT
BEGIN:VEVENT
DTSTART;TZID=America/Winnipeg:20260706T100000
DTEND;TZID=America/Winnipeg:20260706T110000
DTSTAMP:20260422T062450
CREATED:20260421T203823Z
LAST-MODIFIED:20260421T203823Z
UID:65233-1783332000-1783335600@www.salemhome.ca
SUMMARY:Men's Coffee
DESCRIPTION:
URL:https://www.salemhome.ca/event/mens-coffee-813/
CATEGORIES:Maple South
END:VEVENT
BEGIN:VEVENT
DTSTART;TZID=America/Winnipeg:20260706T144500
DTEND;TZID=America/Winnipeg:20260706T154500
DTSTAMP:20260422T062450
CREATED:20260421T203823Z
LAST-MODIFIED:20260421T203823Z
UID:65235-1783349100-1783352700@www.salemhome.ca
SUMMARY:Men's Group
DESCRIPTION:Located on Evergreen\, residents from all care areas welcome.
URL:https://www.salemhome.ca/event/mens-group-1076/
CATEGORIES:Maple South
END:VEVENT
BEGIN:VEVENT
DTSTART;TZID=America/Winnipeg:20260706T150000
DTEND;TZID=America/Winnipeg:20260706T160000
DTSTAMP:20260422T062450
CREATED:20260421T203823Z
LAST-MODIFIED:20260421T203823Z
UID:65234-1783350000-1783353600@www.salemhome.ca
SUMMARY:Ladies Bible Study
DESCRIPTION:
URL:https://www.salemhome.ca/event/ladies-bible-study-31/
CATEGORIES:Maple South
END:VEVENT
BEGIN:VEVENT
DTSTART;TZID=America/Winnipeg:20260706T180000
DTEND;TZID=America/Winnipeg:20260706T190000
DTSTAMP:20260422T062450
CREATED:20260421T203823Z
LAST-MODIFIED:20260421T203823Z
UID:65236-1783360800-1783364400@www.salemhome.ca
SUMMARY:Bingo
DESCRIPTION:
URL:https://www.salemhome.ca/event/bingo-1268/
CATEGORIES:Maple South
END:VEVENT
BEGIN:VEVENT
DTSTART;TZID=America/Winnipeg:20260707T100000
DTEND;TZID=America/Winnipeg:20260707T103000
DTSTAMP:20260422T062450
CREATED:20260421T203837Z
LAST-MODIFIED:20260421T203837Z
UID:65238-1783418400-1783420200@www.salemhome.ca
SUMMARY:Chapel in Grove
DESCRIPTION:
URL:https://www.salemhome.ca/event/chapel-in-grove-134/
CATEGORIES:Maple South
END:VEVENT
BEGIN:VEVENT
DTSTART;TZID=America/Winnipeg:20260707T100000
DTEND;TZID=America/Winnipeg:20260707T110000
DTSTAMP:20260422T062450
CREATED:20260421T203824Z
LAST-MODIFIED:20260421T203824Z
UID:65237-1783418400-1783422000@www.salemhome.ca
SUMMARY:Men's Coffee
DESCRIPTION:
URL:https://www.salemhome.ca/event/mens-coffee-814/
CATEGORIES:Maple South
END:VEVENT
BEGIN:VEVENT
DTSTART;TZID=America/Winnipeg:20260707T101500
DTEND;TZID=America/Winnipeg:20260707T101500
DTSTAMP:20260422T062450
CREATED:20260421T203837Z
LAST-MODIFIED:20260421T203837Z
UID:65239-1783419300-1783419300@www.salemhome.ca
SUMMARY:visits
DESCRIPTION:
URL:https://www.salemhome.ca/event/visits-64/
CATEGORIES:Maple South
END:VEVENT
BEGIN:VEVENT
DTSTART;TZID=America/Winnipeg:20260708T100000
DTEND;TZID=America/Winnipeg:20260708T103000
DTSTAMP:20260422T062450
CREATED:20260421T203838Z
LAST-MODIFIED:20260421T203838Z
UID:65240-1783504800-1783506600@www.salemhome.ca
SUMMARY:Chapel in Garden
DESCRIPTION:
URL:https://www.salemhome.ca/event/chapel-in-garden-106/
CATEGORIES:Maple South
END:VEVENT
BEGIN:VEVENT
DTSTART;TZID=America/Winnipeg:20260708T100000
DTEND;TZID=America/Winnipeg:20260708T110000
DTSTAMP:20260422T062450
CREATED:20260421T203838Z
LAST-MODIFIED:20260421T203838Z
UID:65241-1783504800-1783508400@www.salemhome.ca
SUMMARY:Men's Coffee
DESCRIPTION:
URL:https://www.salemhome.ca/event/mens-coffee-815/
CATEGORIES:Maple South
END:VEVENT
BEGIN:VEVENT
DTSTART;TZID=America/Winnipeg:20260708T100000
DTEND;TZID=America/Winnipeg:20260708T113000
DTSTAMP:20260422T062450
CREATED:20260421T203838Z
LAST-MODIFIED:20260421T203838Z
UID:65242-1783504800-1783510200@www.salemhome.ca
SUMMARY:Stroke Recovery Support Group (Oma's)
DESCRIPTION:This is for residents only.
URL:https://www.salemhome.ca/event/stroke-recovery-support-group-omas-99/
CATEGORIES:Maple South
END:VEVENT
BEGIN:VEVENT
DTSTART;TZID=America/Winnipeg:20260708T144500
DTEND;TZID=America/Winnipeg:20260708T154500
DTSTAMP:20260422T062450
CREATED:20260421T203839Z
LAST-MODIFIED:20260421T203839Z
UID:65243-1783521900-1783525500@www.salemhome.ca
SUMMARY:Men's Coffee Shop
DESCRIPTION:Located on Maple North. Residents from all care areas are welcome to attend.
URL:https://www.salemhome.ca/event/mens-coffee-shop-1474/
CATEGORIES:Maple South
END:VEVENT
BEGIN:VEVENT
DTSTART;TZID=America/Winnipeg:20260709T101500
DTEND;TZID=America/Winnipeg:20260709T111500
DTSTAMP:20260422T062450
CREATED:20260421T203840Z
LAST-MODIFIED:20260421T203840Z
UID:65244-1783592100-1783595700@www.salemhome.ca
SUMMARY:Hymn Sing
DESCRIPTION:
URL:https://www.salemhome.ca/event/hymn-sing-781/
CATEGORIES:Maple South
END:VEVENT
BEGIN:VEVENT
DTSTART;TZID=America/Winnipeg:20260710T100000
DTEND;TZID=America/Winnipeg:20260710T110000
DTSTAMP:20260422T062450
CREATED:20260421T203840Z
LAST-MODIFIED:20260421T203840Z
UID:65246-1783677600-1783681200@www.salemhome.ca
SUMMARY:Men's Coffee
DESCRIPTION:
URL:https://www.salemhome.ca/event/mens-coffee-816/
CATEGORIES:Maple South
END:VEVENT
BEGIN:VEVENT
DTSTART;TZID=America/Winnipeg:20260710T110000
DTEND;TZID=America/Winnipeg:20260710T120000
DTSTAMP:20260422T062450
CREATED:20260421T203840Z
LAST-MODIFIED:20260421T203840Z
UID:65245-1783681200-1783684800@www.salemhome.ca
SUMMARY:Move With Grace
DESCRIPTION:
URL:https://www.salemhome.ca/event/move-with-grace-222/
CATEGORIES:Maple South
END:VEVENT
BEGIN:VEVENT
DTSTART;TZID=America/Winnipeg:20260711T100000
DTEND;TZID=America/Winnipeg:20260711T110000
DTSTAMP:20260422T062450
CREATED:20260421T203840Z
LAST-MODIFIED:20260421T203840Z
UID:65247-1783764000-1783767600@www.salemhome.ca
SUMMARY:Bingo
DESCRIPTION:
URL:https://www.salemhome.ca/event/bingo-1269/
CATEGORIES:Maple South
END:VEVENT
END:VCALENDAR