BEGIN:VCALENDAR
VERSION:2.0
PRODID:-//Salem Home - ECPv6.15.20//NONSGML v1.0//EN
CALSCALE:GREGORIAN
METHOD:PUBLISH
X-ORIGINAL-URL:https://www.salemhome.ca
X-WR-CALDESC:Events for Salem Home
REFRESH-INTERVAL;VALUE=DURATION:PT1H
X-Robots-Tag:noindex
X-PUBLISHED-TTL:PT1H
BEGIN:VTIMEZONE
TZID:America/Winnipeg
BEGIN:DAYLIGHT
TZOFFSETFROM:-0600
TZOFFSETTO:-0500
TZNAME:CDT
DTSTART:20220313T080000
END:DAYLIGHT
BEGIN:STANDARD
TZOFFSETFROM:-0500
TZOFFSETTO:-0600
TZNAME:CST
DTSTART:20221106T070000
END:STANDARD
BEGIN:DAYLIGHT
TZOFFSETFROM:-0600
TZOFFSETTO:-0500
TZNAME:CDT
DTSTART:20230312T080000
END:DAYLIGHT
BEGIN:STANDARD
TZOFFSETFROM:-0500
TZOFFSETTO:-0600
TZNAME:CST
DTSTART:20231105T070000
END:STANDARD
BEGIN:DAYLIGHT
TZOFFSETFROM:-0600
TZOFFSETTO:-0500
TZNAME:CDT
DTSTART:20240310T080000
END:DAYLIGHT
BEGIN:STANDARD
TZOFFSETFROM:-0500
TZOFFSETTO:-0600
TZNAME:CST
DTSTART:20241103T070000
END:STANDARD
END:VTIMEZONE
BEGIN:VEVENT
DTSTART;TZID=America/Winnipeg:20230323T150000
DTEND;TZID=America/Winnipeg:20230323T160000
DTSTAMP:20260425T073332
CREATED:20230221T213043Z
LAST-MODIFIED:20230322T220012Z
UID:23901-1679583600-1679587200@www.salemhome.ca
SUMMARY:Traditional Clothing of Germany
DESCRIPTION:
URL:https://www.salemhome.ca/event/traditional-clothing-of-germany/
CATEGORIES:Maple South
END:VEVENT
BEGIN:VEVENT
DTSTART;TZID=America/Winnipeg:20230324T100000
DTEND;TZID=America/Winnipeg:20230324T110000
DTSTAMP:20260425T073332
CREATED:20230302T213137Z
LAST-MODIFIED:20230323T220015Z
UID:24196-1679652000-1679655600@www.salemhome.ca
SUMMARY:Mens Group
DESCRIPTION:
URL:https://www.salemhome.ca/event/mens-group-2/
CATEGORIES:Maple South
END:VEVENT
BEGIN:VEVENT
DTSTART;TZID=America/Winnipeg:20230324T150000
DTEND;TZID=America/Winnipeg:20230324T160000
DTSTAMP:20260425T073332
CREATED:20230221T213043Z
LAST-MODIFIED:20230323T220015Z
UID:23902-1679670000-1679673600@www.salemhome.ca
SUMMARY:Germany's Main Attractions
DESCRIPTION:
URL:https://www.salemhome.ca/event/germanys-main-attractions/
CATEGORIES:Maple South
END:VEVENT
BEGIN:VEVENT
DTSTART;TZID=America/Winnipeg:20230325T100000
DTEND;TZID=America/Winnipeg:20230325T110000
DTSTAMP:20260425T073332
CREATED:20230131T220830Z
LAST-MODIFIED:20230324T220044Z
UID:22424-1679738400-1679742000@www.salemhome.ca
SUMMARY:Bingo
DESCRIPTION:
URL:https://www.salemhome.ca/event/bingo-152/
CATEGORIES:Maple South
END:VEVENT
BEGIN:VEVENT
DTSTART;TZID=America/Winnipeg:20230327T150000
DTEND;TZID=America/Winnipeg:20230327T160000
DTSTAMP:20260425T073332
CREATED:20230302T213137Z
LAST-MODIFIED:20230326T221714Z
UID:24197-1679929200-1679932800@www.salemhome.ca
SUMMARY:Bowling
DESCRIPTION:
URL:https://www.salemhome.ca/event/bowling-4/
CATEGORIES:Maple South
END:VEVENT
BEGIN:VEVENT
DTSTART;TZID=America/Winnipeg:20230327T180000
DTEND;TZID=America/Winnipeg:20230327T190000
DTSTAMP:20260425T073332
CREATED:20230302T213137Z
LAST-MODIFIED:20230327T221556Z
UID:24198-1679940000-1679943600@www.salemhome.ca
SUMMARY:Bingo
DESCRIPTION:
URL:https://www.salemhome.ca/event/bingo-199/
CATEGORIES:Maple South
END:VEVENT
BEGIN:VEVENT
DTSTART;TZID=America/Winnipeg:20230328T100000
DTEND;TZID=America/Winnipeg:20230328T110000
DTSTAMP:20260425T073332
CREATED:20230302T213137Z
LAST-MODIFIED:20230327T221556Z
UID:24199-1679997600-1680001200@www.salemhome.ca
SUMMARY:Mind & Movement
DESCRIPTION:
URL:https://www.salemhome.ca/event/mind-movement/
CATEGORIES:Maple South
END:VEVENT
BEGIN:VEVENT
DTSTART;TZID=America/Winnipeg:20230328T150000
DTEND;TZID=America/Winnipeg:20230328T160000
DTSTAMP:20260425T073332
CREATED:20230302T213137Z
LAST-MODIFIED:20230327T221556Z
UID:24200-1680015600-1680019200@www.salemhome.ca
SUMMARY:Coffee & Cards
DESCRIPTION:
URL:https://www.salemhome.ca/event/coffee-cards-2/
CATEGORIES:Maple South
END:VEVENT
BEGIN:VEVENT
DTSTART;TZID=America/Winnipeg:20230329T100000
DTEND;TZID=America/Winnipeg:20230329T103000
DTSTAMP:20260425T073332
CREATED:20230131T220831Z
LAST-MODIFIED:20230328T221529Z
UID:22425-1680084000-1680085800@www.salemhome.ca
SUMMARY:Chapel
DESCRIPTION:
URL:https://www.salemhome.ca/event/chapel-145/
CATEGORIES:Maple South
END:VEVENT
BEGIN:VEVENT
DTSTART;TZID=America/Winnipeg:20230329T103000
DTEND;TZID=America/Winnipeg:20230329T113000
DTSTAMP:20260425T073332
CREATED:20230131T220831Z
LAST-MODIFIED:20230328T221529Z
UID:22426-1680085800-1680089400@www.salemhome.ca
SUMMARY:1 on 1 Visits
DESCRIPTION:
URL:https://www.salemhome.ca/event/1-on-1-visits-14/
CATEGORIES:Maple South
END:VEVENT
BEGIN:VEVENT
DTSTART;TZID=America/Winnipeg:20230329T150000
DTEND;TZID=America/Winnipeg:20230329T160000
DTSTAMP:20260425T073332
CREATED:20230302T213137Z
LAST-MODIFIED:20230328T221529Z
UID:24201-1680102000-1680105600@www.salemhome.ca
SUMMARY:Paint With Me
DESCRIPTION:
URL:https://www.salemhome.ca/event/paint-with-me/
CATEGORIES:Maple South
END:VEVENT
BEGIN:VEVENT
DTSTART;TZID=America/Winnipeg:20230329T150000
DTEND;TZID=America/Winnipeg:20230329T160000
DTSTAMP:20260425T073332
CREATED:20230303T214519Z
LAST-MODIFIED:20230328T221529Z
UID:24327-1680102000-1680105600@www.salemhome.ca
SUMMARY:Pembina Players
DESCRIPTION:
URL:https://www.salemhome.ca/event/pembina-players/
CATEGORIES:Maple South
END:VEVENT
BEGIN:VEVENT
DTSTART;TZID=America/Winnipeg:20230330T100000
DTEND;TZID=America/Winnipeg:20230330T110000
DTSTAMP:20260425T073332
CREATED:20230131T220831Z
LAST-MODIFIED:20230329T221515Z
UID:22427-1680170400-1680174000@www.salemhome.ca
SUMMARY:Hymn Sing
DESCRIPTION:
URL:https://www.salemhome.ca/event/hymn-sing-121/
CATEGORIES:Maple South
END:VEVENT
BEGIN:VEVENT
DTSTART;TZID=America/Winnipeg:20230330T150000
DTEND;TZID=America/Winnipeg:20230330T160000
DTSTAMP:20260425T073332
CREATED:20230302T213137Z
LAST-MODIFIED:20230329T221515Z
UID:24202-1680188400-1680192000@www.salemhome.ca
SUMMARY:Puzzle Time
DESCRIPTION:
URL:https://www.salemhome.ca/event/puzzle-time/
CATEGORIES:Maple South
END:VEVENT
BEGIN:VEVENT
DTSTART;TZID=America/Winnipeg:20230331T100000
DTEND;TZID=America/Winnipeg:20230331T110000
DTSTAMP:20260425T073332
CREATED:20230302T213138Z
LAST-MODIFIED:20230330T221639Z
UID:24203-1680256800-1680260400@www.salemhome.ca
SUMMARY:Easter Craft
DESCRIPTION:
URL:https://www.salemhome.ca/event/easter-craft/
CATEGORIES:Maple South
END:VEVENT
BEGIN:VEVENT
DTSTART;TZID=America/Winnipeg:20230331T150000
DTEND;TZID=America/Winnipeg:20230331T160000
DTSTAMP:20260425T073332
CREATED:20230302T213138Z
LAST-MODIFIED:20230330T221639Z
UID:24204-1680274800-1680278400@www.salemhome.ca
SUMMARY:Birthday Party
DESCRIPTION:
URL:https://www.salemhome.ca/event/birthday-party-16/
CATEGORIES:Maple South
END:VEVENT
BEGIN:VEVENT
DTSTART;TZID=America/Winnipeg:20230402T094500
DTEND;TZID=America/Winnipeg:20230402T104500
DTSTAMP:20260425T073332
CREATED:20230322T220011Z
LAST-MODIFIED:20230401T223015Z
UID:24602-1680428700-1680432300@www.salemhome.ca
SUMMARY:Chapel: Christian Faith
DESCRIPTION:
URL:https://www.salemhome.ca/event/chapel-christian-faith/
CATEGORIES:Maple South
END:VEVENT
BEGIN:VEVENT
DTSTART;TZID=America/Winnipeg:20230402T180000
DTEND;TZID=America/Winnipeg:20230402T190000
DTSTAMP:20260425T073332
CREATED:20230328T221527Z
LAST-MODIFIED:20230402T223138Z
UID:25095-1680458400-1680462000@www.salemhome.ca
SUMMARY:Church of God In Christ Youth Group
DESCRIPTION:
URL:https://www.salemhome.ca/event/church-of-god-in-christ-youth-group-15/
CATEGORIES:Maple South
END:VEVENT
BEGIN:VEVENT
DTSTART;TZID=America/Winnipeg:20230403T100000
DTEND;TZID=America/Winnipeg:20230403T110000
DTSTAMP:20260425T073332
CREATED:20230322T220011Z
LAST-MODIFIED:20230402T223138Z
UID:24603-1680516000-1680519600@www.salemhome.ca
SUMMARY:Men's Group with Kris (Oma's Kitchen)
DESCRIPTION:
URL:https://www.salemhome.ca/event/mens-group-with-kris-omas-kitchen/
CATEGORIES:Maple South
END:VEVENT
BEGIN:VEVENT
DTSTART;TZID=America/Winnipeg:20230403T150000
DTEND;TZID=America/Winnipeg:20230403T160000
DTSTAMP:20260425T073332
CREATED:20230322T220011Z
LAST-MODIFIED:20230402T223138Z
UID:24604-1680534000-1680537600@www.salemhome.ca
SUMMARY:Bowling
DESCRIPTION:
URL:https://www.salemhome.ca/event/bowling-6/
CATEGORIES:Maple South
END:VEVENT
BEGIN:VEVENT
DTSTART;TZID=America/Winnipeg:20230403T180000
DTEND;TZID=America/Winnipeg:20230403T190000
DTSTAMP:20260425T073332
CREATED:20230322T220011Z
LAST-MODIFIED:20230403T223124Z
UID:24605-1680544800-1680548400@www.salemhome.ca
SUMMARY:Bingo
DESCRIPTION:
URL:https://www.salemhome.ca/event/bingo-215/
CATEGORIES:Maple South
END:VEVENT
BEGIN:VEVENT
DTSTART;TZID=America/Winnipeg:20230404T100000
DTEND;TZID=America/Winnipeg:20230404T110000
DTSTAMP:20260425T073332
CREATED:20230322T220011Z
LAST-MODIFIED:20230403T223124Z
UID:24606-1680602400-1680606000@www.salemhome.ca
SUMMARY:Cooking With Abe
DESCRIPTION:
URL:https://www.salemhome.ca/event/cooking-with-abe/
CATEGORIES:Maple South
END:VEVENT
BEGIN:VEVENT
DTSTART;TZID=America/Winnipeg:20230404T150000
DTEND;TZID=America/Winnipeg:20230404T160000
DTSTAMP:20260425T073332
CREATED:20230322T220011Z
LAST-MODIFIED:20230403T223124Z
UID:24607-1680620400-1680624000@www.salemhome.ca
SUMMARY:Reading
DESCRIPTION:
URL:https://www.salemhome.ca/event/reading-2/
CATEGORIES:Maple South
END:VEVENT
BEGIN:VEVENT
DTSTART;TZID=America/Winnipeg:20230404T183000
DTEND;TZID=America/Winnipeg:20230404T193000
DTSTAMP:20260425T073332
CREATED:20230322T220011Z
LAST-MODIFIED:20230404T223018Z
UID:24608-1680633000-1680636600@www.salemhome.ca
SUMMARY:Rosenort Youth Group
DESCRIPTION:
URL:https://www.salemhome.ca/event/rosenort-youth-group/
CATEGORIES:Maple South
END:VEVENT
BEGIN:VEVENT
DTSTART;TZID=America/Winnipeg:20230405T100000
DTEND;TZID=America/Winnipeg:20230405T103000
DTSTAMP:20260425T073332
CREATED:20230131T220831Z
LAST-MODIFIED:20230404T223018Z
UID:22429-1680688800-1680690600@www.salemhome.ca
SUMMARY:Chapel
DESCRIPTION:
URL:https://www.salemhome.ca/event/chapel-146/
CATEGORIES:Maple South
END:VEVENT
BEGIN:VEVENT
DTSTART;TZID=America/Winnipeg:20230405T103000
DTEND;TZID=America/Winnipeg:20230405T113000
DTSTAMP:20260425T073332
CREATED:20230131T220831Z
LAST-MODIFIED:20230404T223018Z
UID:22428-1680690600-1680694200@www.salemhome.ca
SUMMARY:1 on 1 Visits
DESCRIPTION:
URL:https://www.salemhome.ca/event/1-on-1-visits-15/
CATEGORIES:Maple South
END:VEVENT
BEGIN:VEVENT
DTSTART;TZID=America/Winnipeg:20230405T150000
DTEND;TZID=America/Winnipeg:20230405T160000
DTSTAMP:20260425T073332
CREATED:20230322T220011Z
LAST-MODIFIED:20230404T223018Z
UID:24609-1680706800-1680710400@www.salemhome.ca
SUMMARY:Sneaker Club
DESCRIPTION:
URL:https://www.salemhome.ca/event/sneaker-club/
CATEGORIES:Maple South
END:VEVENT
BEGIN:VEVENT
DTSTART;TZID=America/Winnipeg:20230406T094500
DTEND;TZID=America/Winnipeg:20230406T104500
DTSTAMP:20260425T073332
CREATED:20230328T221528Z
LAST-MODIFIED:20230405T223023Z
UID:25096-1680774300-1680777900@www.salemhome.ca
SUMMARY:Chapel: Zion Mennonite
DESCRIPTION:
URL:https://www.salemhome.ca/event/chapel-zion-mennonite/
CATEGORIES:Maple South
END:VEVENT
BEGIN:VEVENT
DTSTART;TZID=America/Winnipeg:20230406T100000
DTEND;TZID=America/Winnipeg:20230406T110000
DTSTAMP:20260425T073332
CREATED:20230131T220831Z
LAST-MODIFIED:20230327T221556Z
UID:22430-1680775200-1680778800@www.salemhome.ca
SUMMARY:Hymn Sing
DESCRIPTION:
URL:https://www.salemhome.ca/event/hymn-sing-122/
CATEGORIES:Maple South
END:VEVENT
BEGIN:VEVENT
DTSTART;TZID=America/Winnipeg:20230406T100000
DTEND;TZID=America/Winnipeg:20230406T110000
DTSTAMP:20260425T073332
CREATED:20230322T220012Z
LAST-MODIFIED:20230405T223023Z
UID:24610-1680775200-1680778800@www.salemhome.ca
SUMMARY:Baking
DESCRIPTION:
URL:https://www.salemhome.ca/event/baking-13/
CATEGORIES:Maple South
END:VEVENT
END:VCALENDAR