BEGIN:VCALENDAR
VERSION:2.0
PRODID:-//Salem Home - ECPv6.15.20//NONSGML v1.0//EN
CALSCALE:GREGORIAN
METHOD:PUBLISH
X-ORIGINAL-URL:https://www.salemhome.ca
X-WR-CALDESC:Events for Salem Home
REFRESH-INTERVAL;VALUE=DURATION:PT1H
X-Robots-Tag:noindex
X-PUBLISHED-TTL:PT1H
BEGIN:VTIMEZONE
TZID:America/Winnipeg
BEGIN:DAYLIGHT
TZOFFSETFROM:-0600
TZOFFSETTO:-0500
TZNAME:CDT
DTSTART:20220313T080000
END:DAYLIGHT
BEGIN:STANDARD
TZOFFSETFROM:-0500
TZOFFSETTO:-0600
TZNAME:CST
DTSTART:20221106T070000
END:STANDARD
BEGIN:DAYLIGHT
TZOFFSETFROM:-0600
TZOFFSETTO:-0500
TZNAME:CDT
DTSTART:20230312T080000
END:DAYLIGHT
BEGIN:STANDARD
TZOFFSETFROM:-0500
TZOFFSETTO:-0600
TZNAME:CST
DTSTART:20231105T070000
END:STANDARD
BEGIN:DAYLIGHT
TZOFFSETFROM:-0600
TZOFFSETTO:-0500
TZNAME:CDT
DTSTART:20240310T080000
END:DAYLIGHT
BEGIN:STANDARD
TZOFFSETFROM:-0500
TZOFFSETTO:-0600
TZNAME:CST
DTSTART:20241103T070000
END:STANDARD
END:VTIMEZONE
BEGIN:VEVENT
DTSTART;TZID=America/Winnipeg:20230504T100000
DTEND;TZID=America/Winnipeg:20230504T110000
DTSTAMP:20260424T114512
CREATED:20230131T220832Z
LAST-MODIFIED:20230327T221558Z
UID:22444-1683194400-1683198000@www.salemhome.ca
SUMMARY:Hymn Sing
DESCRIPTION:
URL:https://www.salemhome.ca/event/hymn-sing-126/
CATEGORIES:Maple South
END:VEVENT
BEGIN:VEVENT
DTSTART;TZID=America/Winnipeg:20230504T101500
DTEND;TZID=America/Winnipeg:20230504T111500
DTSTAMP:20260424T114512
CREATED:20230328T221531Z
LAST-MODIFIED:20230503T230533Z
UID:25107-1683195300-1683198900@www.salemhome.ca
SUMMARY:Hymn Sing
DESCRIPTION:
URL:https://www.salemhome.ca/event/hymn-sing-187/
CATEGORIES:Maple South
END:VEVENT
BEGIN:VEVENT
DTSTART;TZID=America/Winnipeg:20230504T150000
DTEND;TZID=America/Winnipeg:20230504T160000
DTSTAMP:20260424T114512
CREATED:20230428T224624Z
LAST-MODIFIED:20230503T230533Z
UID:26009-1683212400-1683216000@www.salemhome.ca
SUMMARY:The Sanderson's
DESCRIPTION:The Sandersons – Who We Are (thesandersonsmusic.com)
URL:https://www.salemhome.ca/event/the-sandersons/
CATEGORIES:Maple South
END:VEVENT
BEGIN:VEVENT
DTSTART;TZID=America/Winnipeg:20230505T100000
DTEND;TZID=America/Winnipeg:20230505T110000
DTSTAMP:20260424T114512
CREATED:20230428T224624Z
LAST-MODIFIED:20230504T231919Z
UID:26010-1683280800-1683284400@www.salemhome.ca
SUMMARY:Fill In The Blank
DESCRIPTION:
URL:https://www.salemhome.ca/event/fill-in-the-blank-9/
CATEGORIES:Maple South
END:VEVENT
BEGIN:VEVENT
DTSTART;TZID=America/Winnipeg:20230505T150000
DTEND;TZID=America/Winnipeg:20230505T160000
DTSTAMP:20260424T114512
CREATED:20230428T224624Z
LAST-MODIFIED:20230504T231919Z
UID:26011-1683298800-1683302400@www.salemhome.ca
SUMMARY:Pembina Players
DESCRIPTION:
URL:https://www.salemhome.ca/event/pembina-players-4/
CATEGORIES:Maple South
END:VEVENT
BEGIN:VEVENT
DTSTART;TZID=America/Winnipeg:20230506T100000
DTEND;TZID=America/Winnipeg:20230506T110000
DTSTAMP:20260424T114512
CREATED:20230131T220832Z
LAST-MODIFIED:20230505T231821Z
UID:22445-1683367200-1683370800@www.salemhome.ca
SUMMARY:Bingo
DESCRIPTION:
URL:https://www.salemhome.ca/event/bingo-155/
CATEGORIES:Maple South
END:VEVENT
BEGIN:VEVENT
DTSTART;TZID=America/Winnipeg:20230507T094500
DTEND;TZID=America/Winnipeg:20230507T104500
DTSTAMP:20260424T114512
CREATED:20230428T224624Z
LAST-MODIFIED:20230506T231520Z
UID:26012-1683452700-1683456300@www.salemhome.ca
SUMMARY:Chapel: Old Colony Mennonite
DESCRIPTION:
URL:https://www.salemhome.ca/event/chapel-old-colony-mennonite-7/
CATEGORIES:Maple South
END:VEVENT
BEGIN:VEVENT
DTSTART;TZID=America/Winnipeg:20230507T180000
DTEND;TZID=America/Winnipeg:20230507T190000
DTSTAMP:20260424T114512
CREATED:20230428T224624Z
LAST-MODIFIED:20230507T231535Z
UID:26013-1683482400-1683486000@www.salemhome.ca
SUMMARY:Church of God in Christ Youth Group
DESCRIPTION:
URL:https://www.salemhome.ca/event/church-of-god-in-christ-youth-group-17/
CATEGORIES:Maple South
END:VEVENT
BEGIN:VEVENT
DTSTART;TZID=America/Winnipeg:20230508T100000
DTEND;TZID=America/Winnipeg:20230508T110000
DTSTAMP:20260424T114512
CREATED:20230322T220015Z
LAST-MODIFIED:20230507T231535Z
UID:24641-1683540000-1683543600@www.salemhome.ca
SUMMARY:Men's Group with Kris (Oma's Kitchen)
DESCRIPTION:
URL:https://www.salemhome.ca/event/mens-group-with-kris-omas-kitchen-5/
CATEGORIES:Maple South
END:VEVENT
BEGIN:VEVENT
DTSTART;TZID=America/Winnipeg:20230508T150000
DTEND;TZID=America/Winnipeg:20230508T160000
DTSTAMP:20260424T114512
CREATED:20230428T224624Z
LAST-MODIFIED:20230507T231535Z
UID:26014-1683558000-1683561600@www.salemhome.ca
SUMMARY:Drum To The Beat
DESCRIPTION:
URL:https://www.salemhome.ca/event/drum-to-the-beat-2/
CATEGORIES:Maple South
END:VEVENT
BEGIN:VEVENT
DTSTART;TZID=America/Winnipeg:20230508T180000
DTEND;TZID=America/Winnipeg:20230508T190000
DTSTAMP:20260424T114512
CREATED:20230428T224624Z
LAST-MODIFIED:20230508T231703Z
UID:26015-1683568800-1683572400@www.salemhome.ca
SUMMARY:Bingo
DESCRIPTION:
URL:https://www.salemhome.ca/event/bingo-224/
CATEGORIES:Maple South
END:VEVENT
BEGIN:VEVENT
DTSTART;TZID=America/Winnipeg:20230509T100000
DTEND;TZID=America/Winnipeg:20230509T110000
DTSTAMP:20260424T114512
CREATED:20230428T224625Z
LAST-MODIFIED:20230508T231703Z
UID:26016-1683626400-1683630000@www.salemhome.ca
SUMMARY:Beach Volleyball
DESCRIPTION:
URL:https://www.salemhome.ca/event/beach-volleyball/
CATEGORIES:Maple South
END:VEVENT
BEGIN:VEVENT
DTSTART;TZID=America/Winnipeg:20230509T150000
DTEND;TZID=America/Winnipeg:20230509T160000
DTSTAMP:20260424T114512
CREATED:20230428T224625Z
LAST-MODIFIED:20230508T231703Z
UID:26018-1683644400-1683648000@www.salemhome.ca
SUMMARY:Play Dough Therapy
DESCRIPTION:
URL:https://www.salemhome.ca/event/play-dough-therapy/
CATEGORIES:Maple South
END:VEVENT
BEGIN:VEVENT
DTSTART;TZID=America/Winnipeg:20230510T100000
DTEND;TZID=America/Winnipeg:20230510T103000
DTSTAMP:20260424T114512
CREATED:20230131T220832Z
LAST-MODIFIED:20230509T231512Z
UID:22446-1683712800-1683714600@www.salemhome.ca
SUMMARY:Chapel
DESCRIPTION:
URL:https://www.salemhome.ca/event/chapel-151/
CATEGORIES:Maple South
END:VEVENT
BEGIN:VEVENT
DTSTART;TZID=America/Winnipeg:20230510T103000
DTEND;TZID=America/Winnipeg:20230510T113000
DTSTAMP:20260424T114512
CREATED:20230131T220832Z
LAST-MODIFIED:20230509T231512Z
UID:22447-1683714600-1683718200@www.salemhome.ca
SUMMARY:1 on 1 Visits
DESCRIPTION:
URL:https://www.salemhome.ca/event/1-on-1-visits-20/
CATEGORIES:Maple South
END:VEVENT
BEGIN:VEVENT
DTSTART;TZID=America/Winnipeg:20230510T150000
DTEND;TZID=America/Winnipeg:20230510T160000
DTSTAMP:20260424T114512
CREATED:20230428T224625Z
LAST-MODIFIED:20230509T231512Z
UID:26022-1683730800-1683734400@www.salemhome.ca
SUMMARY:Movie & Popcorn
DESCRIPTION:
URL:https://www.salemhome.ca/event/movie-popcorn/
CATEGORIES:Maple South
END:VEVENT
BEGIN:VEVENT
DTSTART;TZID=America/Winnipeg:20230511T094500
DTEND;TZID=America/Winnipeg:20230511T104500
DTSTAMP:20260424T114512
CREATED:20230428T224625Z
LAST-MODIFIED:20230510T231614Z
UID:26023-1683798300-1683801900@www.salemhome.ca
SUMMARY:Chapel: Old Colony Mennonite
DESCRIPTION:
URL:https://www.salemhome.ca/event/chapel-old-colony-mennonite-8/
CATEGORIES:Maple South
END:VEVENT
BEGIN:VEVENT
DTSTART;TZID=America/Winnipeg:20230511T100000
DTEND;TZID=America/Winnipeg:20230511T110000
DTSTAMP:20260424T114512
CREATED:20230131T220832Z
LAST-MODIFIED:20230327T221558Z
UID:22448-1683799200-1683802800@www.salemhome.ca
SUMMARY:Hymn Sing
DESCRIPTION:
URL:https://www.salemhome.ca/event/hymn-sing-127/
CATEGORIES:Maple South
END:VEVENT
BEGIN:VEVENT
DTSTART;TZID=America/Winnipeg:20230511T101500
DTEND;TZID=America/Winnipeg:20230511T111500
DTSTAMP:20260424T114512
CREATED:20230328T221531Z
LAST-MODIFIED:20230510T231614Z
UID:25108-1683800100-1683803700@www.salemhome.ca
SUMMARY:Hymn Sing
DESCRIPTION:
URL:https://www.salemhome.ca/event/hymn-sing-188/
CATEGORIES:Maple South
END:VEVENT
BEGIN:VEVENT
DTSTART;TZID=America/Winnipeg:20230511T150000
DTEND;TZID=America/Winnipeg:20230511T160000
DTSTAMP:20260424T114512
CREATED:20230428T224625Z
LAST-MODIFIED:20230510T231614Z
UID:26025-1683817200-1683820800@www.salemhome.ca
SUMMARY:Games
DESCRIPTION:
URL:https://www.salemhome.ca/event/games-11/
CATEGORIES:Maple South
END:VEVENT
BEGIN:VEVENT
DTSTART;TZID=America/Winnipeg:20230512T100000
DTEND;TZID=America/Winnipeg:20230512T110000
DTSTAMP:20260424T114512
CREATED:20230428T224625Z
LAST-MODIFIED:20230511T231512Z
UID:26026-1683885600-1683889200@www.salemhome.ca
SUMMARY:Mother's Day Tea
DESCRIPTION:
URL:https://www.salemhome.ca/event/mothers-day-tea/
CATEGORIES:Maple South
END:VEVENT
BEGIN:VEVENT
DTSTART;TZID=America/Winnipeg:20230512T150000
DTEND;TZID=America/Winnipeg:20230512T160000
DTSTAMP:20260424T114512
CREATED:20230428T224625Z
LAST-MODIFIED:20230511T231512Z
UID:26027-1683903600-1683907200@www.salemhome.ca
SUMMARY:Puzzles
DESCRIPTION:
URL:https://www.salemhome.ca/event/puzzles/
CATEGORIES:Maple South
END:VEVENT
BEGIN:VEVENT
DTSTART;TZID=America/Winnipeg:20230514T094500
DTEND;TZID=America/Winnipeg:20230514T104500
DTSTAMP:20260424T114512
CREATED:20230428T224625Z
LAST-MODIFIED:20230513T231652Z
UID:26028-1684057500-1684061100@www.salemhome.ca
SUMMARY:Chapel: Covenant Mennonite
DESCRIPTION:
URL:https://www.salemhome.ca/event/chapel-covenant-mennonite/
CATEGORIES:Maple South
END:VEVENT
BEGIN:VEVENT
DTSTART;TZID=America/Winnipeg:20230514T183000
DTEND;TZID=America/Winnipeg:20230514T193000
DTSTAMP:20260424T114512
CREATED:20230201T230059Z
LAST-MODIFIED:20230514T233124Z
UID:22813-1684089000-1684092600@www.salemhome.ca
SUMMARY:ECBC Youth Group Choir
DESCRIPTION:
URL:https://www.salemhome.ca/event/ecbc-youth-group-choir-27/
CATEGORIES:Maple South
END:VEVENT
BEGIN:VEVENT
DTSTART;TZID=America/Winnipeg:20230515T100000
DTEND;TZID=America/Winnipeg:20230515T110000
DTSTAMP:20260424T114512
CREATED:20230322T220015Z
LAST-MODIFIED:20230427T224659Z
UID:24642-1684144800-1684148400@www.salemhome.ca
SUMMARY:Men's Group with Kris (Oma's Kitchen)
DESCRIPTION:
URL:https://www.salemhome.ca/event/mens-group-with-kris-omas-kitchen-6/
CATEGORIES:Maple South
END:VEVENT
BEGIN:VEVENT
DTSTART;TZID=America/Winnipeg:20230516T100000
DTEND;TZID=America/Winnipeg:20230516T110000
DTSTAMP:20260424T114512
CREATED:20230428T224625Z
LAST-MODIFIED:20230515T233116Z
UID:26029-1684231200-1684234800@www.salemhome.ca
SUMMARY:Resident Family Council
DESCRIPTION:
URL:https://www.salemhome.ca/event/resident-family-council-4/
CATEGORIES:Maple South
END:VEVENT
BEGIN:VEVENT
DTSTART;TZID=America/Winnipeg:20230516T150000
DTEND;TZID=America/Winnipeg:20230516T160000
DTSTAMP:20260424T114512
CREATED:20230428T224625Z
LAST-MODIFIED:20230515T233116Z
UID:26030-1684249200-1684252800@www.salemhome.ca
SUMMARY:Sneaker Club
DESCRIPTION:
URL:https://www.salemhome.ca/event/sneaker-club-4/
CATEGORIES:Maple South
END:VEVENT
BEGIN:VEVENT
DTSTART;TZID=America/Winnipeg:20230517T100000
DTEND;TZID=America/Winnipeg:20230517T103000
DTSTAMP:20260424T114512
CREATED:20230131T220832Z
LAST-MODIFIED:20230516T234521Z
UID:22449-1684317600-1684319400@www.salemhome.ca
SUMMARY:Chapel
DESCRIPTION:
URL:https://www.salemhome.ca/event/chapel-152/
CATEGORIES:Maple South
END:VEVENT
BEGIN:VEVENT
DTSTART;TZID=America/Winnipeg:20230517T103000
DTEND;TZID=America/Winnipeg:20230517T113000
DTSTAMP:20260424T114512
CREATED:20230131T220832Z
LAST-MODIFIED:20230516T234521Z
UID:22450-1684319400-1684323000@www.salemhome.ca
SUMMARY:1 on 1 Visits
DESCRIPTION:
URL:https://www.salemhome.ca/event/1-on-1-visits-21/
CATEGORIES:Maple South
END:VEVENT
BEGIN:VEVENT
DTSTART;TZID=America/Winnipeg:20230517T150000
DTEND;TZID=America/Winnipeg:20230517T160000
DTSTAMP:20260424T114512
CREATED:20230428T224626Z
LAST-MODIFIED:20230516T234521Z
UID:26031-1684335600-1684339200@www.salemhome.ca
SUMMARY:Mental Aerobics
DESCRIPTION:
URL:https://www.salemhome.ca/event/mental-aerobics-5/
CATEGORIES:Maple South
END:VEVENT
END:VCALENDAR