BEGIN:VCALENDAR
VERSION:2.0
PRODID:-//Salem Home - ECPv6.15.20//NONSGML v1.0//EN
CALSCALE:GREGORIAN
METHOD:PUBLISH
X-ORIGINAL-URL:https://www.salemhome.ca
X-WR-CALDESC:Events for Salem Home
REFRESH-INTERVAL;VALUE=DURATION:PT1H
X-Robots-Tag:noindex
X-PUBLISHED-TTL:PT1H
BEGIN:VTIMEZONE
TZID:America/Winnipeg
BEGIN:DAYLIGHT
TZOFFSETFROM:-0600
TZOFFSETTO:-0500
TZNAME:CDT
DTSTART:20220313T080000
END:DAYLIGHT
BEGIN:STANDARD
TZOFFSETFROM:-0500
TZOFFSETTO:-0600
TZNAME:CST
DTSTART:20221106T070000
END:STANDARD
BEGIN:DAYLIGHT
TZOFFSETFROM:-0600
TZOFFSETTO:-0500
TZNAME:CDT
DTSTART:20230312T080000
END:DAYLIGHT
BEGIN:STANDARD
TZOFFSETFROM:-0500
TZOFFSETTO:-0600
TZNAME:CST
DTSTART:20231105T070000
END:STANDARD
BEGIN:DAYLIGHT
TZOFFSETFROM:-0600
TZOFFSETTO:-0500
TZNAME:CDT
DTSTART:20240310T080000
END:DAYLIGHT
BEGIN:STANDARD
TZOFFSETFROM:-0500
TZOFFSETTO:-0600
TZNAME:CST
DTSTART:20241103T070000
END:STANDARD
END:VTIMEZONE
BEGIN:VEVENT
DTSTART;TZID=America/Winnipeg:20230615T094500
DTEND;TZID=America/Winnipeg:20230615T104500
DTSTAMP:20260423T043724
CREATED:20230531T030016Z
LAST-MODIFIED:20230615T040023Z
UID:26894-1686822300-1686825900@www.salemhome.ca
SUMMARY:Chapel: Reinland Mennonite
DESCRIPTION:
URL:https://www.salemhome.ca/event/chapel-reinland-mennonite-10/
CATEGORIES:Maple South
END:VEVENT
BEGIN:VEVENT
DTSTART;TZID=America/Winnipeg:20230615T100000
DTEND;TZID=America/Winnipeg:20230615T110000
DTSTAMP:20260423T043724
CREATED:20230131T220833Z
LAST-MODIFIED:20230327T221559Z
UID:22465-1686823200-1686826800@www.salemhome.ca
SUMMARY:Hymn Sing
DESCRIPTION:
URL:https://www.salemhome.ca/event/hymn-sing-132/
CATEGORIES:Maple South
END:VEVENT
BEGIN:VEVENT
DTSTART;TZID=America/Winnipeg:20230615T101500
DTEND;TZID=America/Winnipeg:20230615T111500
DTSTAMP:20260423T043724
CREATED:20230328T221533Z
LAST-MODIFIED:20230615T040023Z
UID:25113-1686824100-1686827700@www.salemhome.ca
SUMMARY:Hymn Sing
DESCRIPTION:
URL:https://www.salemhome.ca/event/hymn-sing-193/
CATEGORIES:Maple South
END:VEVENT
BEGIN:VEVENT
DTSTART;TZID=America/Winnipeg:20230615T150000
DTEND;TZID=America/Winnipeg:20230615T160000
DTSTAMP:20260423T043724
CREATED:20230531T030016Z
LAST-MODIFIED:20230615T040023Z
UID:26895-1686841200-1686844800@www.salemhome.ca
SUMMARY:Puzzle Time
DESCRIPTION:
URL:https://www.salemhome.ca/event/puzzle-time-3/
CATEGORIES:Maple South
END:VEVENT
BEGIN:VEVENT
DTSTART;TZID=America/Winnipeg:20230616T103000
DTEND;TZID=America/Winnipeg:20230616T113000
DTSTAMP:20260423T043724
CREATED:20230531T030016Z
LAST-MODIFIED:20230616T040011Z
UID:26896-1686911400-1686915000@www.salemhome.ca
SUMMARY:Mens BBQ Lunch
DESCRIPTION:
URL:https://www.salemhome.ca/event/mens-bbq-lunch-2/
CATEGORIES:Maple South
END:VEVENT
BEGIN:VEVENT
DTSTART;TZID=America/Winnipeg:20230616T150000
DTEND;TZID=America/Winnipeg:20230616T160000
DTSTAMP:20260423T043724
CREATED:20230531T030016Z
LAST-MODIFIED:20230616T040011Z
UID:26897-1686927600-1686931200@www.salemhome.ca
SUMMARY:Read With Me
DESCRIPTION:
URL:https://www.salemhome.ca/event/read-with-me/
CATEGORIES:Maple South
END:VEVENT
BEGIN:VEVENT
DTSTART;TZID=America/Winnipeg:20230617T100000
DTEND;TZID=America/Winnipeg:20230617T110000
DTSTAMP:20260423T043724
CREATED:20230131T220833Z
LAST-MODIFIED:20230617T040020Z
UID:22466-1686996000-1686999600@www.salemhome.ca
SUMMARY:Bingo
DESCRIPTION:
URL:https://www.salemhome.ca/event/bingo-158/
CATEGORIES:Maple South
END:VEVENT
BEGIN:VEVENT
DTSTART;TZID=America/Winnipeg:20230618T094500
DTEND;TZID=America/Winnipeg:20230618T104500
DTSTAMP:20260423T043724
CREATED:20230531T030017Z
LAST-MODIFIED:20230618T040026Z
UID:26898-1687081500-1687085100@www.salemhome.ca
SUMMARY:Chapel: Zion Mennonite
DESCRIPTION:
URL:https://www.salemhome.ca/event/chapel-zion-mennonite-6/
CATEGORIES:Maple South
END:VEVENT
BEGIN:VEVENT
DTSTART;TZID=America/Winnipeg:20230619T100000
DTEND;TZID=America/Winnipeg:20230619T110000
DTSTAMP:20260423T043724
CREATED:20230322T220016Z
LAST-MODIFIED:20230619T040012Z
UID:24647-1687168800-1687172400@www.salemhome.ca
SUMMARY:Men's Group with Kris (Oma's Kitchen)
DESCRIPTION:
URL:https://www.salemhome.ca/event/mens-group-with-kris-omas-kitchen-11/
CATEGORIES:Maple South
END:VEVENT
BEGIN:VEVENT
DTSTART;TZID=America/Winnipeg:20230619T100000
DTEND;TZID=America/Winnipeg:20230619T110000
DTSTAMP:20260423T043724
CREATED:20230531T030017Z
LAST-MODIFIED:20230619T040012Z
UID:26899-1687168800-1687172400@www.salemhome.ca
SUMMARY:Bingo
DESCRIPTION:
URL:https://www.salemhome.ca/event/bingo-238/
CATEGORIES:Maple South
END:VEVENT
BEGIN:VEVENT
DTSTART;TZID=America/Winnipeg:20230619T150000
DTEND;TZID=America/Winnipeg:20230619T160000
DTSTAMP:20260423T043724
CREATED:20230531T030017Z
LAST-MODIFIED:20230619T040012Z
UID:26900-1687186800-1687190400@www.salemhome.ca
SUMMARY:Swing With Me
DESCRIPTION:
URL:https://www.salemhome.ca/event/swing-with-me/
CATEGORIES:Maple South
END:VEVENT
BEGIN:VEVENT
DTSTART;TZID=America/Winnipeg:20230620T100000
DTEND;TZID=America/Winnipeg:20230620T110000
DTSTAMP:20260423T043724
CREATED:20230531T030017Z
LAST-MODIFIED:20230620T040016Z
UID:26901-1687255200-1687258800@www.salemhome.ca
SUMMARY:Baking
DESCRIPTION:
URL:https://www.salemhome.ca/event/baking-24/
CATEGORIES:Maple South
END:VEVENT
BEGIN:VEVENT
DTSTART;TZID=America/Winnipeg:20230620T150000
DTEND;TZID=America/Winnipeg:20230620T160000
DTSTAMP:20260423T043724
CREATED:20230531T030017Z
LAST-MODIFIED:20230620T040016Z
UID:26902-1687273200-1687276800@www.salemhome.ca
SUMMARY:Cards & Coffee
DESCRIPTION:
URL:https://www.salemhome.ca/event/cards-coffee-3/
CATEGORIES:Maple South
END:VEVENT
BEGIN:VEVENT
DTSTART;TZID=America/Winnipeg:20230621T100000
DTEND;TZID=America/Winnipeg:20230621T103000
DTSTAMP:20260423T043724
CREATED:20230131T220833Z
LAST-MODIFIED:20230621T040017Z
UID:22467-1687341600-1687343400@www.salemhome.ca
SUMMARY:Chapel
DESCRIPTION:
URL:https://www.salemhome.ca/event/chapel-157/
CATEGORIES:Maple South
END:VEVENT
BEGIN:VEVENT
DTSTART;TZID=America/Winnipeg:20230621T103000
DTEND;TZID=America/Winnipeg:20230621T113000
DTSTAMP:20260423T043724
CREATED:20230131T220833Z
LAST-MODIFIED:20230621T040017Z
UID:22468-1687343400-1687347000@www.salemhome.ca
SUMMARY:1 on 1 Visits
DESCRIPTION:
URL:https://www.salemhome.ca/event/1-on-1-visits-26/
CATEGORIES:Maple South
END:VEVENT
BEGIN:VEVENT
DTSTART;TZID=America/Winnipeg:20230621T150000
DTEND;TZID=America/Winnipeg:20230621T160000
DTSTAMP:20260423T043724
CREATED:20230531T030017Z
LAST-MODIFIED:20230621T040017Z
UID:26903-1687359600-1687363200@www.salemhome.ca
SUMMARY:Swing With Me
DESCRIPTION:
URL:https://www.salemhome.ca/event/swing-with-me-2/
CATEGORIES:Maple South
END:VEVENT
BEGIN:VEVENT
DTSTART;TZID=America/Winnipeg:20230621T180000
DTEND;TZID=America/Winnipeg:20230621T190000
DTSTAMP:20260423T043724
CREATED:20230531T030017Z
LAST-MODIFIED:20230621T040017Z
UID:26904-1687370400-1687374000@www.salemhome.ca
SUMMARY:K & Friends
DESCRIPTION:
URL:https://www.salemhome.ca/event/k-friends-10/
CATEGORIES:Maple South
END:VEVENT
BEGIN:VEVENT
DTSTART;TZID=America/Winnipeg:20230622T094500
DTEND;TZID=America/Winnipeg:20230622T104500
DTSTAMP:20260423T043724
CREATED:20230531T030017Z
LAST-MODIFIED:20230622T040039Z
UID:26905-1687427100-1687430700@www.salemhome.ca
SUMMARY:Chapel: Mennonite Brethren
DESCRIPTION:
URL:https://www.salemhome.ca/event/chapel-mennonite-brethren-2/
CATEGORIES:Maple South
END:VEVENT
BEGIN:VEVENT
DTSTART;TZID=America/Winnipeg:20230622T100000
DTEND;TZID=America/Winnipeg:20230622T110000
DTSTAMP:20260423T043724
CREATED:20230131T220834Z
LAST-MODIFIED:20230327T221600Z
UID:22469-1687428000-1687431600@www.salemhome.ca
SUMMARY:Hymn Sing
DESCRIPTION:
URL:https://www.salemhome.ca/event/hymn-sing-133/
CATEGORIES:Maple South
END:VEVENT
BEGIN:VEVENT
DTSTART;TZID=America/Winnipeg:20230622T101500
DTEND;TZID=America/Winnipeg:20230622T111500
DTSTAMP:20260423T043724
CREATED:20230328T221533Z
LAST-MODIFIED:20230622T040039Z
UID:25114-1687428900-1687432500@www.salemhome.ca
SUMMARY:Hymn Sing
DESCRIPTION:
URL:https://www.salemhome.ca/event/hymn-sing-194/
CATEGORIES:Maple South
END:VEVENT
BEGIN:VEVENT
DTSTART;TZID=America/Winnipeg:20230622T150000
DTEND;TZID=America/Winnipeg:20230622T160000
DTSTAMP:20260423T043724
CREATED:20230531T030017Z
LAST-MODIFIED:20230622T040039Z
UID:26906-1687446000-1687449600@www.salemhome.ca
SUMMARY:Quiz Me
DESCRIPTION:
URL:https://www.salemhome.ca/event/quiz-me/
CATEGORIES:Maple South
END:VEVENT
BEGIN:VEVENT
DTSTART;TZID=America/Winnipeg:20230622T190000
DTEND;TZID=America/Winnipeg:20230622T200000
DTSTAMP:20260423T043724
CREATED:20230531T030017Z
LAST-MODIFIED:20230622T040039Z
UID:26907-1687460400-1687464000@www.salemhome.ca
SUMMARY:Grad Parade
DESCRIPTION:
URL:https://www.salemhome.ca/event/grad-parade/
CATEGORIES:Maple South
END:VEVENT
BEGIN:VEVENT
DTSTART;TZID=America/Winnipeg:20230623T100000
DTEND;TZID=America/Winnipeg:20230623T110000
DTSTAMP:20260423T043724
CREATED:20230531T030018Z
LAST-MODIFIED:20230623T040034Z
UID:26908-1687514400-1687518000@www.salemhome.ca
SUMMARY:Mens Group
DESCRIPTION:
URL:https://www.salemhome.ca/event/mens-group-9/
CATEGORIES:Maple South
END:VEVENT
BEGIN:VEVENT
DTSTART;TZID=America/Winnipeg:20230623T150000
DTEND;TZID=America/Winnipeg:20230623T160000
DTSTAMP:20260423T043724
CREATED:20230531T030018Z
LAST-MODIFIED:20230623T040034Z
UID:26909-1687532400-1687536000@www.salemhome.ca
SUMMARY:Manicures
DESCRIPTION:
URL:https://www.salemhome.ca/event/manicures-5/
CATEGORIES:Maple South
END:VEVENT
BEGIN:VEVENT
DTSTART;TZID=America/Winnipeg:20230625T094500
DTEND;TZID=America/Winnipeg:20230625T104500
DTSTAMP:20260423T043724
CREATED:20230531T030018Z
LAST-MODIFIED:20230625T041517Z
UID:26910-1687686300-1687689900@www.salemhome.ca
SUMMARY:Chapel: German Old Colony Mennonite
DESCRIPTION:
URL:https://www.salemhome.ca/event/chapel-german-old-colony-mennonite-2/
CATEGORIES:Maple South
END:VEVENT
BEGIN:VEVENT
DTSTART;TZID=America/Winnipeg:20230626T100000
DTEND;TZID=America/Winnipeg:20230626T110000
DTSTAMP:20260423T043724
CREATED:20230322T220017Z
LAST-MODIFIED:20230626T041518Z
UID:24648-1687773600-1687777200@www.salemhome.ca
SUMMARY:Men's Group with Kris (Oma's Kitchen)
DESCRIPTION:
URL:https://www.salemhome.ca/event/mens-group-with-kris-omas-kitchen-12/
CATEGORIES:Maple South
END:VEVENT
BEGIN:VEVENT
DTSTART;TZID=America/Winnipeg:20230626T150000
DTEND;TZID=America/Winnipeg:20230626T160000
DTSTAMP:20260423T043724
CREATED:20230531T030018Z
LAST-MODIFIED:20230626T041518Z
UID:26911-1687791600-1687795200@www.salemhome.ca
SUMMARY:Bingo
DESCRIPTION:
URL:https://www.salemhome.ca/event/bingo-239/
CATEGORIES:Maple South
END:VEVENT
BEGIN:VEVENT
DTSTART;TZID=America/Winnipeg:20230626T180000
DTEND;TZID=America/Winnipeg:20230626T190000
DTSTAMP:20260423T043724
CREATED:20230531T030018Z
LAST-MODIFIED:20230626T041518Z
UID:26912-1687802400-1687806000@www.salemhome.ca
SUMMARY:Men's Movie Night
DESCRIPTION:
URL:https://www.salemhome.ca/event/mens-movie-night/
CATEGORIES:Maple South
END:VEVENT
BEGIN:VEVENT
DTSTART;VALUE=DATE:20230627
DTEND;VALUE=DATE:20230628
DTSTAMP:20260423T043724
CREATED:20230531T030018Z
LAST-MODIFIED:20230627T041516Z
UID:26913-1687824000-1687910399@www.salemhome.ca
SUMMARY:Lemonade On The Patio
DESCRIPTION:
URL:https://www.salemhome.ca/event/lemonade-on-the-patio/
CATEGORIES:Maple South
END:VEVENT
BEGIN:VEVENT
DTSTART;TZID=America/Winnipeg:20230627T150000
DTEND;TZID=America/Winnipeg:20230627T160000
DTSTAMP:20260423T043724
CREATED:20230531T030018Z
LAST-MODIFIED:20230627T041516Z
UID:26914-1687878000-1687881600@www.salemhome.ca
SUMMARY:Exercise
DESCRIPTION:
URL:https://www.salemhome.ca/event/exercise-7/
CATEGORIES:Maple South
END:VEVENT
END:VCALENDAR