BEGIN:VCALENDAR
VERSION:2.0
PRODID:-//Salem Home - ECPv6.15.20//NONSGML v1.0//EN
CALSCALE:GREGORIAN
METHOD:PUBLISH
X-ORIGINAL-URL:https://www.salemhome.ca
X-WR-CALDESC:Events for Salem Home
REFRESH-INTERVAL;VALUE=DURATION:PT1H
X-Robots-Tag:noindex
X-PUBLISHED-TTL:PT1H
BEGIN:VTIMEZONE
TZID:America/Winnipeg
BEGIN:DAYLIGHT
TZOFFSETFROM:-0600
TZOFFSETTO:-0500
TZNAME:CDT
DTSTART:20250309T080000
END:DAYLIGHT
BEGIN:STANDARD
TZOFFSETFROM:-0500
TZOFFSETTO:-0600
TZNAME:CST
DTSTART:20251102T070000
END:STANDARD
BEGIN:DAYLIGHT
TZOFFSETFROM:-0600
TZOFFSETTO:-0500
TZNAME:CDT
DTSTART:20260308T080000
END:DAYLIGHT
BEGIN:STANDARD
TZOFFSETFROM:-0500
TZOFFSETTO:-0600
TZNAME:CST
DTSTART:20261101T070000
END:STANDARD
BEGIN:DAYLIGHT
TZOFFSETFROM:-0600
TZOFFSETTO:-0500
TZNAME:CDT
DTSTART:20270314T080000
END:DAYLIGHT
BEGIN:STANDARD
TZOFFSETFROM:-0500
TZOFFSETTO:-0600
TZNAME:CST
DTSTART:20271107T070000
END:STANDARD
END:VTIMEZONE
BEGIN:VEVENT
DTSTART;TZID=America/Winnipeg:20260704T100000
DTEND;TZID=America/Winnipeg:20260704T110000
DTSTAMP:20260420T131741
CREATED:20260413T232035Z
LAST-MODIFIED:20260420T052031Z
UID:64963-1783159200-1783162800@www.salemhome.ca
SUMMARY:Bingo
DESCRIPTION:
URL:https://www.salemhome.ca/event/bingo-1258/
CATEGORIES:Maple North
END:VEVENT
BEGIN:VEVENT
DTSTART;TZID=America/Winnipeg:20260704T100000
DTEND;TZID=America/Winnipeg:20260704T110000
DTSTAMP:20260420T131741
CREATED:20260415T173539Z
LAST-MODIFIED:20260418T200742Z
UID:65018-1783159200-1783162800@www.salemhome.ca
SUMMARY:Bingo
DESCRIPTION:
URL:https://www.salemhome.ca/event/bingo-1259/
CATEGORIES:Cottonwood
END:VEVENT
BEGIN:VEVENT
DTSTART;VALUE=DATE:20260705
DTEND;VALUE=DATE:20260706
DTSTAMP:20260420T131741
CREATED:20251218T180414Z
LAST-MODIFIED:20260419T202040Z
UID:60863-1783209600-1783295999@www.salemhome.ca
SUMMARY:Daily Menu
DESCRIPTION:LunchRoast Turkey or AlternateMashed PotatoesGravyGarden VegetablesBubbatSupper  Bolobna or AlternatePotato SaladCheeseRaisin Bun
URL:https://www.salemhome.ca/event/daily-menu-1664/
CATEGORIES:Daily Menu
END:VEVENT
BEGIN:VEVENT
DTSTART;VALUE=DATE:20260705
DTEND;VALUE=DATE:20260706
DTSTAMP:20260420T131741
CREATED:20260415T173540Z
LAST-MODIFIED:20260418T200742Z
UID:65019-1783209600-1783295999@www.salemhome.ca
SUMMARY:Day of Rest
DESCRIPTION:
URL:https://www.salemhome.ca/event/day-of-rest-519/
CATEGORIES:Cottonwood
END:VEVENT
BEGIN:VEVENT
DTSTART;VALUE=DATE:20260705
DTEND;VALUE=DATE:20260706
DTSTAMP:20260420T131741
CREATED:20260416T043534Z
LAST-MODIFIED:20260420T052031Z
UID:65051-1783209600-1783295999@www.salemhome.ca
SUMMARY:Day of Rest
DESCRIPTION:
URL:https://www.salemhome.ca/event/day-of-rest-520/
CATEGORIES:Maple North
END:VEVENT
BEGIN:VEVENT
DTSTART;TZID=America/Winnipeg:20260705T180000
DTEND;TZID=America/Winnipeg:20260705T190000
DTSTAMP:20260420T131741
CREATED:20260413T232035Z
LAST-MODIFIED:20260420T052031Z
UID:64964-1783274400-1783278000@www.salemhome.ca
SUMMARY:Church of God in Christ Youth Group
DESCRIPTION:
URL:https://www.salemhome.ca/event/church-of-god-in-christ-youth-group-58/
CATEGORIES:Maple North
END:VEVENT
BEGIN:VEVENT
DTSTART;TZID=America/Winnipeg:20260705T183000
DTEND;TZID=America/Winnipeg:20260705T193000
DTSTAMP:20260420T131741
CREATED:20260415T173541Z
LAST-MODIFIED:20260418T200742Z
UID:65020-1783276200-1783279800@www.salemhome.ca
SUMMARY:Church of God in Christ Youth
DESCRIPTION:
URL:https://www.salemhome.ca/event/church-of-god-in-christ-youth-99/
CATEGORIES:Cottonwood
END:VEVENT
BEGIN:VEVENT
DTSTART;VALUE=DATE:20260706
DTEND;VALUE=DATE:20260707
DTSTAMP:20260420T131741
CREATED:20251218T180414Z
LAST-MODIFIED:20260419T202040Z
UID:60862-1783296000-1783382399@www.salemhome.ca
SUMMARY:Daily Menu
DESCRIPTION:LunchChicken Fingers or AlternateHoney Dill SauceCreamy Pasta Salad BreadDessert \nSupper  Meatball Stew or AlternateShredded Carrot SaladTater Gems Bread Cafeteria Lunch SpecialChicken Gnocchi Soup
URL:https://www.salemhome.ca/event/daily-menu-1663/
CATEGORIES:Daily Menu
END:VEVENT
BEGIN:VEVENT
DTSTART;TZID=America/Winnipeg:20260706T100000
DTEND;TZID=America/Winnipeg:20260706T103000
DTSTAMP:20260420T131741
CREATED:20260415T173541Z
LAST-MODIFIED:20260418T200742Z
UID:65021-1783332000-1783333800@www.salemhome.ca
SUMMARY:Chapel
DESCRIPTION:
URL:https://www.salemhome.ca/event/chapel-864/
LOCATION:Cottonwood
CATEGORIES:Cottonwood
END:VEVENT
BEGIN:VEVENT
DTSTART;TZID=America/Winnipeg:20260706T100000
DTEND;TZID=America/Winnipeg:20260706T110000
DTSTAMP:20260420T131741
CREATED:20260415T173541Z
LAST-MODIFIED:20260418T200742Z
UID:65022-1783332000-1783335600@www.salemhome.ca
SUMMARY:Men's Coffee Shop
DESCRIPTION:
URL:https://www.salemhome.ca/event/mens-coffee-shop-1459/
CATEGORIES:Cottonwood
END:VEVENT
BEGIN:VEVENT
DTSTART;TZID=America/Winnipeg:20260706T100000
DTEND;TZID=America/Winnipeg:20260706T110000
DTSTAMP:20260420T131741
CREATED:20260416T043534Z
LAST-MODIFIED:20260420T052031Z
UID:65052-1783332000-1783335600@www.salemhome.ca
SUMMARY:Men's Coffee
DESCRIPTION:
URL:https://www.salemhome.ca/event/mens-coffee-806/
CATEGORIES:Maple North
END:VEVENT
BEGIN:VEVENT
DTSTART;TZID=America/Winnipeg:20260706T144500
DTEND;TZID=America/Winnipeg:20260706T154500
DTSTAMP:20260420T131741
CREATED:20260415T173542Z
LAST-MODIFIED:20260418T200742Z
UID:65023-1783349100-1783352700@www.salemhome.ca
SUMMARY:Men's Group
DESCRIPTION:Located on Evergreen\, residents from all care areas welcome.
URL:https://www.salemhome.ca/event/mens-group-1071/
CATEGORIES:Cottonwood
END:VEVENT
BEGIN:VEVENT
DTSTART;TZID=America/Winnipeg:20260706T144500
DTEND;TZID=America/Winnipeg:20260706T154500
DTSTAMP:20260420T131741
CREATED:20260418T052039Z
LAST-MODIFIED:20260420T052031Z
UID:65116-1783349100-1783352700@www.salemhome.ca
SUMMARY:Men's Group
DESCRIPTION:Located on Evergreen\, residents from all care areas welcome.
URL:https://www.salemhome.ca/event/mens-group-1072/
CATEGORIES:Maple North
END:VEVENT
BEGIN:VEVENT
DTSTART;TZID=America/Winnipeg:20260706T150000
DTEND;TZID=America/Winnipeg:20260706T160000
DTSTAMP:20260420T131741
CREATED:20260418T052038Z
LAST-MODIFIED:20260420T052031Z
UID:65115-1783350000-1783353600@www.salemhome.ca
SUMMARY:Bible Study
DESCRIPTION:
URL:https://www.salemhome.ca/event/bible-study-24/
CATEGORIES:Maple North
END:VEVENT
BEGIN:VEVENT
DTSTART;TZID=America/Winnipeg:20260706T180000
DTEND;TZID=America/Winnipeg:20260706T190000
DTSTAMP:20260420T131741
CREATED:20260418T052039Z
LAST-MODIFIED:20260420T052031Z
UID:65117-1783360800-1783364400@www.salemhome.ca
SUMMARY:Bingo
DESCRIPTION:
URL:https://www.salemhome.ca/event/bingo-1262/
CATEGORIES:Maple North
END:VEVENT
BEGIN:VEVENT
DTSTART;VALUE=DATE:20260707
DTEND;VALUE=DATE:20260708
DTSTAMP:20260420T131741
CREATED:20251219T181704Z
LAST-MODIFIED:20260419T202039Z
UID:60905-1783382400-1783468799@www.salemhome.ca
SUMMARY:Daily Menu
DESCRIPTION:LunchCream of Cauliflower Soup or AlternateSliced HamBunsDessert \nSupper Battered Fish or AlternateMashed PotatoesBrown GravyGarden VegetablesBread Cafeteria Lunch SpecialChicken Mediterranean Salad
URL:https://www.salemhome.ca/event/daily-menu-1665/
CATEGORIES:Daily Menu
END:VEVENT
BEGIN:VEVENT
DTSTART;TZID=America/Winnipeg:20260707T100000
DTEND;TZID=America/Winnipeg:20260707T100000
DTSTAMP:20260420T131741
CREATED:20260415T173542Z
LAST-MODIFIED:20260418T200743Z
UID:65024-1783418400-1783418400@www.salemhome.ca
SUMMARY:One to One visits
DESCRIPTION:
URL:https://www.salemhome.ca/event/one-to-one-visits-44/
CATEGORIES:Cottonwood
END:VEVENT
BEGIN:VEVENT
DTSTART;TZID=America/Winnipeg:20260707T100000
DTEND;TZID=America/Winnipeg:20260707T103000
DTSTAMP:20260420T131741
CREATED:20260418T052040Z
LAST-MODIFIED:20260420T052031Z
UID:65119-1783418400-1783420200@www.salemhome.ca
SUMMARY:Chapel in Grove
DESCRIPTION:
URL:https://www.salemhome.ca/event/chapel-in-grove-133/
CATEGORIES:Maple North
END:VEVENT
BEGIN:VEVENT
DTSTART;TZID=America/Winnipeg:20260707T100000
DTEND;TZID=America/Winnipeg:20260707T110000
DTSTAMP:20260420T131741
CREATED:20260418T052040Z
LAST-MODIFIED:20260420T052031Z
UID:65118-1783418400-1783422000@www.salemhome.ca
SUMMARY:Men's Coffee
DESCRIPTION:
URL:https://www.salemhome.ca/event/mens-coffee-807/
CATEGORIES:Maple North
END:VEVENT
BEGIN:VEVENT
DTSTART;TZID=America/Winnipeg:20260707T100000
DTEND;TZID=America/Winnipeg:20260707T113000
DTSTAMP:20260420T131741
CREATED:20260415T173543Z
LAST-MODIFIED:20260418T200743Z
UID:65025-1783418400-1783423800@www.salemhome.ca
SUMMARY:Men's Coffee Shop
DESCRIPTION:
URL:https://www.salemhome.ca/event/mens-coffee-shop-1460/
CATEGORIES:Cottonwood
END:VEVENT
BEGIN:VEVENT
DTSTART;TZID=America/Winnipeg:20260707T150000
DTEND;TZID=America/Winnipeg:20260707T160000
DTSTAMP:20260420T131741
CREATED:20260415T173543Z
LAST-MODIFIED:20260418T200743Z
UID:65026-1783436400-1783440000@www.salemhome.ca
SUMMARY:Bingo
DESCRIPTION:
URL:https://www.salemhome.ca/event/bingo-1260/
CATEGORIES:Cottonwood
END:VEVENT
BEGIN:VEVENT
DTSTART;VALUE=DATE:20260708
DTEND;VALUE=DATE:20260709
DTSTAMP:20260420T131741
CREATED:20251221T184518Z
LAST-MODIFIED:20260419T202052Z
UID:60931-1783468800-1783555199@www.salemhome.ca
SUMMARY:Daily Menu
DESCRIPTION:LunchSummer Borscht with Sausage or AlternateBoiled EggHomemade BreadDessert \nSupper  Roast Chicken or AlternateMashed PotatoesGravySliced CarrotsStuffing Cafeteria Lunch SpecialRoast Chicken Salad with Honey Mustard Dressing
URL:https://www.salemhome.ca/event/daily-menu-1667/
CATEGORIES:Daily Menu
END:VEVENT
BEGIN:VEVENT
DTSTART;TZID=America/Winnipeg:20260708T100000
DTEND;TZID=America/Winnipeg:20260708T110000
DTSTAMP:20260420T131741
CREATED:20260415T173544Z
LAST-MODIFIED:20260418T200743Z
UID:65028-1783504800-1783508400@www.salemhome.ca
SUMMARY:Men's Coffee Shop
DESCRIPTION:
URL:https://www.salemhome.ca/event/mens-coffee-shop-1461/
CATEGORIES:Cottonwood
END:VEVENT
BEGIN:VEVENT
DTSTART;TZID=America/Winnipeg:20260708T100000
DTEND;TZID=America/Winnipeg:20260708T110000
DTSTAMP:20260420T131741
CREATED:20260418T052041Z
LAST-MODIFIED:20260420T052032Z
UID:65120-1783504800-1783508400@www.salemhome.ca
SUMMARY:Men's Coffee
DESCRIPTION:
URL:https://www.salemhome.ca/event/mens-coffee-808/
CATEGORIES:Maple North
END:VEVENT
BEGIN:VEVENT
DTSTART;TZID=America/Winnipeg:20260708T100000
DTEND;TZID=America/Winnipeg:20260708T110000
DTSTAMP:20260420T131741
CREATED:20260418T052041Z
LAST-MODIFIED:20260420T052032Z
UID:65121-1783504800-1783508400@www.salemhome.ca
SUMMARY:Chapel in Garden
DESCRIPTION:
URL:https://www.salemhome.ca/event/chapel-in-garden-105/
CATEGORIES:Maple North
END:VEVENT
BEGIN:VEVENT
DTSTART;TZID=America/Winnipeg:20260708T100000
DTEND;TZID=America/Winnipeg:20260708T113000
DTSTAMP:20260420T131741
CREATED:20260415T173544Z
LAST-MODIFIED:20260418T200743Z
UID:65027-1783504800-1783510200@www.salemhome.ca
SUMMARY:Stroke Recovery Support Group (Oma's)
DESCRIPTION:This is for residents only.
URL:https://www.salemhome.ca/event/stroke-recovery-support-group-omas-97/
CATEGORIES:Cottonwood
END:VEVENT
BEGIN:VEVENT
DTSTART;TZID=America/Winnipeg:20260708T100000
DTEND;TZID=America/Winnipeg:20260708T113000
DTSTAMP:20260420T131741
CREATED:20260418T052042Z
LAST-MODIFIED:20260420T052032Z
UID:65122-1783504800-1783510200@www.salemhome.ca
SUMMARY:Stroke Recovery Support Group (Oma's)
DESCRIPTION:This is for residents only.
URL:https://www.salemhome.ca/event/stroke-recovery-support-group-omas-98/
CATEGORIES:Maple North
END:VEVENT
BEGIN:VEVENT
DTSTART;TZID=America/Winnipeg:20260708T144500
DTEND;TZID=America/Winnipeg:20260708T154500
DTSTAMP:20260420T131741
CREATED:20260415T173544Z
LAST-MODIFIED:20260418T200743Z
UID:65029-1783521900-1783525500@www.salemhome.ca
SUMMARY:Men's Coffee Shop
DESCRIPTION:Located on Maple North. Residents from all care areas are welcome to attend.
URL:https://www.salemhome.ca/event/mens-coffee-shop-1462/
CATEGORIES:Cottonwood
END:VEVENT
BEGIN:VEVENT
DTSTART;TZID=America/Winnipeg:20260708T144500
DTEND;TZID=America/Winnipeg:20260708T154500
DTSTAMP:20260420T131741
CREATED:20260419T052027Z
LAST-MODIFIED:20260420T052032Z
UID:65156-1783521900-1783525500@www.salemhome.ca
SUMMARY:Men's Coffee Shop
DESCRIPTION:
URL:https://www.salemhome.ca/event/mens-coffee-shop-1467/
CATEGORIES:Maple North
END:VEVENT
BEGIN:VEVENT
DTSTART;VALUE=DATE:20260709
DTEND;VALUE=DATE:20260710
DTSTAMP:20260420T131741
CREATED:20251221T184517Z
LAST-MODIFIED:20260419T202052Z
UID:60930-1783555200-1783641599@www.salemhome.ca
SUMMARY:Daily Menu
DESCRIPTION:Lunch Pizza Buns or AlternateCaesar  SaladCherry Moos (Mennonite cherry pudding) \nSupper Farmer Sausage or AlternatePinto BeansMexican NoodlesSchaunt FattBread Cafeteria Lunch SpecialPhilly Cheese steak Sandwich
URL:https://www.salemhome.ca/event/daily-menu-1666/
CATEGORIES:Daily Menu
END:VEVENT
END:VCALENDAR