BEGIN:VCALENDAR
VERSION:2.0
PRODID:-//Salem Home - ECPv6.15.20//NONSGML v1.0//EN
CALSCALE:GREGORIAN
METHOD:PUBLISH
X-ORIGINAL-URL:https://www.salemhome.ca
X-WR-CALDESC:Events for Salem Home
REFRESH-INTERVAL;VALUE=DURATION:PT1H
X-Robots-Tag:noindex
X-PUBLISHED-TTL:PT1H
BEGIN:VTIMEZONE
TZID:America/Winnipeg
BEGIN:DAYLIGHT
TZOFFSETFROM:-0600
TZOFFSETTO:-0500
TZNAME:CDT
DTSTART:20250309T080000
END:DAYLIGHT
BEGIN:STANDARD
TZOFFSETFROM:-0500
TZOFFSETTO:-0600
TZNAME:CST
DTSTART:20251102T070000
END:STANDARD
BEGIN:DAYLIGHT
TZOFFSETFROM:-0600
TZOFFSETTO:-0500
TZNAME:CDT
DTSTART:20260308T080000
END:DAYLIGHT
BEGIN:STANDARD
TZOFFSETFROM:-0500
TZOFFSETTO:-0600
TZNAME:CST
DTSTART:20261101T070000
END:STANDARD
BEGIN:DAYLIGHT
TZOFFSETFROM:-0600
TZOFFSETTO:-0500
TZNAME:CDT
DTSTART:20270314T080000
END:DAYLIGHT
BEGIN:STANDARD
TZOFFSETFROM:-0500
TZOFFSETTO:-0600
TZNAME:CST
DTSTART:20271107T070000
END:STANDARD
END:VTIMEZONE
BEGIN:VEVENT
DTSTART;TZID=America/Winnipeg:20260715T100000
DTEND;TZID=America/Winnipeg:20260715T110000
DTSTAMP:20260424T011447
CREATED:20260421T202251Z
LAST-MODIFIED:20260421T202251Z
UID:65210-1784109600-1784113200@www.salemhome.ca
SUMMARY:Men's Coffee Shop
DESCRIPTION:
URL:https://www.salemhome.ca/event/mens-coffee-shop-1471/
CATEGORIES:Cottonwood
END:VEVENT
BEGIN:VEVENT
DTSTART;TZID=America/Winnipeg:20260715T100000
DTEND;TZID=America/Winnipeg:20260715T110000
DTSTAMP:20260424T011447
CREATED:20260423T053540Z
LAST-MODIFIED:20260424T055035Z
UID:65353-1784109600-1784113200@www.salemhome.ca
SUMMARY:Chapel in Garden
DESCRIPTION:
URL:https://www.salemhome.ca/event/chapel-in-garden-107/
CATEGORIES:Maple North
END:VEVENT
BEGIN:VEVENT
DTSTART;TZID=America/Winnipeg:20260715T100000
DTEND;TZID=America/Winnipeg:20260715T110000
DTSTAMP:20260424T011447
CREATED:20260423T053541Z
LAST-MODIFIED:20260424T055035Z
UID:65354-1784109600-1784113200@www.salemhome.ca
SUMMARY:Men's Coffee
DESCRIPTION:
URL:https://www.salemhome.ca/event/mens-coffee-818/
CATEGORIES:Maple North
END:VEVENT
BEGIN:VEVENT
DTSTART;TZID=America/Winnipeg:20260715T144500
DTEND;TZID=America/Winnipeg:20260715T154500
DTSTAMP:20260424T011447
CREATED:20260421T202252Z
LAST-MODIFIED:20260421T202252Z
UID:65211-1784126700-1784130300@www.salemhome.ca
SUMMARY:Men's Coffee Shop
DESCRIPTION:Located on Maple North. Residents from all care areas are welcome to attend.
URL:https://www.salemhome.ca/event/mens-coffee-shop-1472/
CATEGORIES:Cottonwood
END:VEVENT
BEGIN:VEVENT
DTSTART;TZID=America/Winnipeg:20260715T144500
DTEND;TZID=America/Winnipeg:20260715T154500
DTSTAMP:20260424T011447
CREATED:20260423T053541Z
LAST-MODIFIED:20260424T055036Z
UID:65355-1784126700-1784130300@www.salemhome.ca
SUMMARY:Men's Coffee Shop
DESCRIPTION:
URL:https://www.salemhome.ca/event/mens-coffee-shop-1476/
CATEGORIES:Maple North
END:VEVENT
BEGIN:VEVENT
DTSTART;VALUE=DATE:20260716
DTEND;VALUE=DATE:20260717
DTSTAMP:20260424T011447
CREATED:20251229T203056Z
LAST-MODIFIED:20260419T202054Z
UID:61098-1784160000-1784246399@www.salemhome.ca
SUMMARY:Daily Menu
DESCRIPTION:LunchCheeseburger Soup or AlternateRoast Beef SandwichDessertSupper  Bone in Ham or AlternateVarenike (cottage cheese perogies)Schmaunt Faat (cream gravy) Strawberry SauceBread \n Cafeteria Lunch SpecialCrunch Wrap Supreme
URL:https://www.salemhome.ca/event/daily-menu-1674/
CATEGORIES:Daily Menu
END:VEVENT
BEGIN:VEVENT
DTSTART;TZID=America/Winnipeg:20260716T101500
DTEND;TZID=America/Winnipeg:20260716T111500
DTSTAMP:20260424T011447
CREATED:20260421T202252Z
LAST-MODIFIED:20260421T202252Z
UID:65212-1784196900-1784200500@www.salemhome.ca
SUMMARY:Hymn Sing
DESCRIPTION:
URL:https://www.salemhome.ca/event/hymn-sing-779/
CATEGORIES:Cottonwood
END:VEVENT
BEGIN:VEVENT
DTSTART;TZID=America/Winnipeg:20260716T101500
DTEND;TZID=America/Winnipeg:20260716T111500
DTSTAMP:20260424T011447
CREATED:20260423T053543Z
LAST-MODIFIED:20260424T055036Z
UID:65356-1784196900-1784200500@www.salemhome.ca
SUMMARY:Hymn Sing
DESCRIPTION:
URL:https://www.salemhome.ca/event/hymn-sing-782/
CATEGORIES:Maple North
END:VEVENT
BEGIN:VEVENT
DTSTART;VALUE=DATE:20260717
DTEND;VALUE=DATE:20260718
DTSTAMP:20260424T011447
CREATED:20260101T210020Z
LAST-MODIFIED:20260419T202105Z
UID:61261-1784246400-1784332799@www.salemhome.ca
SUMMARY:Daily Menu
DESCRIPTION:LunchCream of Carrot Soup or AlternateHam and Cheese TartsDessert \nSupper  Farmer Sausage or AlternateLoaded Mashed PotatoesBroccoli and Cheese SauceBread Cafeteria Lunch SpecialThai Chicken Salad with Rice Noodles
URL:https://www.salemhome.ca/event/daily-menu-1678/
CATEGORIES:Daily Menu
END:VEVENT
BEGIN:VEVENT
DTSTART;TZID=America/Winnipeg:20260717T100000
DTEND;TZID=America/Winnipeg:20260717T110000
DTSTAMP:20260424T011447
CREATED:20260421T202252Z
LAST-MODIFIED:20260421T202252Z
UID:65213-1784282400-1784286000@www.salemhome.ca
SUMMARY:Men's Coffee Shop
DESCRIPTION:
URL:https://www.salemhome.ca/event/mens-coffee-shop-1473/
CATEGORIES:Cottonwood
END:VEVENT
BEGIN:VEVENT
DTSTART;TZID=America/Winnipeg:20260717T100000
DTEND;TZID=America/Winnipeg:20260717T110000
DTSTAMP:20260424T011447
CREATED:20260424T055036Z
LAST-MODIFIED:20260424T055036Z
UID:65392-1784282400-1784286000@www.salemhome.ca
SUMMARY:Men's Coffee
DESCRIPTION:
URL:https://www.salemhome.ca/event/mens-coffee-819/
CATEGORIES:Maple North
END:VEVENT
BEGIN:VEVENT
DTSTART;TZID=America/Winnipeg:20260717T150000
DTEND;TZID=America/Winnipeg:20260717T160000
DTSTAMP:20260424T011447
CREATED:20260424T055037Z
LAST-MODIFIED:20260424T055037Z
UID:65393-1784300400-1784304000@www.salemhome.ca
SUMMARY:Men's Coffee
DESCRIPTION:
URL:https://www.salemhome.ca/event/mens-coffee-820/
CATEGORIES:Maple North
END:VEVENT
BEGIN:VEVENT
DTSTART;VALUE=DATE:20260718
DTEND;VALUE=DATE:20260719
DTSTAMP:20260424T011447
CREATED:20251230T204800Z
LAST-MODIFIED:20260419T202054Z
UID:61121-1784332800-1784419199@www.salemhome.ca
SUMMARY:Daily Menu
DESCRIPTION:Lunch Fish Burger or AlternateColeslawDessert \nSupperSpaghetti and Meat Sauce or AlternateCaesar SaladGarlic Bread
URL:https://www.salemhome.ca/event/daily-menu-1675/
CATEGORIES:Daily Menu
END:VEVENT
BEGIN:VEVENT
DTSTART;TZID=America/Winnipeg:20260718T100000
DTEND;TZID=America/Winnipeg:20260718T110000
DTSTAMP:20260424T011447
CREATED:20260424T055037Z
LAST-MODIFIED:20260424T055037Z
UID:65394-1784368800-1784372400@www.salemhome.ca
SUMMARY:Bingo
DESCRIPTION:
URL:https://www.salemhome.ca/event/bingo-1273/
CATEGORIES:Maple North
END:VEVENT
BEGIN:VEVENT
DTSTART;VALUE=DATE:20260719
DTEND;VALUE=DATE:20260720
DTSTAMP:20260424T011447
CREATED:20251231T210051Z
LAST-MODIFIED:20260419T202106Z
UID:61211-1784419200-1784505599@www.salemhome.ca
SUMMARY:Daily Menu
DESCRIPTION:LunchSplit Pea Soup or AlternateEgg SandwichDill Pickles Dessert \nSupper Roast Chicken or AlternateMashed Potatoes Gravy Mixed VegetablesBubbat
URL:https://www.salemhome.ca/event/daily-menu-1677/
CATEGORIES:Daily Menu
END:VEVENT
BEGIN:VEVENT
DTSTART;VALUE=DATE:20260719
DTEND;VALUE=DATE:20260720
DTSTAMP:20260424T011447
CREATED:20260424T055038Z
LAST-MODIFIED:20260424T055038Z
UID:65395-1784419200-1784505599@www.salemhome.ca
SUMMARY:Day of Rest
DESCRIPTION:
URL:https://www.salemhome.ca/event/day-of-rest-526/
CATEGORIES:Maple North
END:VEVENT
BEGIN:VEVENT
DTSTART;VALUE=DATE:20260720
DTEND;VALUE=DATE:20260721
DTSTAMP:20260424T011447
CREATED:20251231T210050Z
LAST-MODIFIED:20260419T202106Z
UID:61210-1784505600-1784591999@www.salemhome.ca
SUMMARY:Daily Menu
DESCRIPTION:LunchCountry Chicken Soup or AlternateBoiled EggBunsDessert \nSupper Lasagna or AlternateGarden Vegetables Bread Cafeteria Lunch Special No Lunch Special
URL:https://www.salemhome.ca/event/daily-menu-1676/
CATEGORIES:Daily Menu
END:VEVENT
BEGIN:VEVENT
DTSTART;VALUE=DATE:20260721
DTEND;VALUE=DATE:20260722
DTSTAMP:20260424T011447
CREATED:20260103T211523Z
LAST-MODIFIED:20260419T202106Z
UID:61321-1784592000-1784678399@www.salemhome.ca
SUMMARY:Daily Menu
DESCRIPTION:LunchChicken Enchilada Soup or AlternateBologna Sandwich Dessert \nSupperBaked Beans or AlternateMacaroniSchmaunt FattBread Cafeteria Lunch SpecialBacon Cheeseburger Salad
URL:https://www.salemhome.ca/event/daily-menu-1679/
CATEGORIES:Daily Menu
END:VEVENT
BEGIN:VEVENT
DTSTART;VALUE=DATE:20260722
DTEND;VALUE=DATE:20260723
DTSTAMP:20260424T011447
CREATED:20260105T213302Z
LAST-MODIFIED:20260419T202106Z
UID:61349-1784678400-1784764799@www.salemhome.ca
SUMMARY:Daily Menu
DESCRIPTION:LunchMinestrone Soup or AlternateDill PicklesCheeseBunsDessert \nSupper Chicken Balls or AlternateFried RiceCream CornBread Cafeteria Lunch Special Chicken &  Wild Rice Soup
URL:https://www.salemhome.ca/event/daily-menu-1681/
CATEGORIES:Daily Menu
END:VEVENT
BEGIN:VEVENT
DTSTART;VALUE=DATE:20260723
DTEND;VALUE=DATE:20260724
DTSTAMP:20260424T011447
CREATED:20260104T213044Z
LAST-MODIFIED:20260419T202106Z
UID:61341-1784764800-1784851199@www.salemhome.ca
SUMMARY:Daily Menu
DESCRIPTION:LunchPizza Buns or AlternateSliced CucumbersBlueberry Moos (Mennonite Blueberry Pudding) \nSupper Veal or AlternateMashed PotatoesGravyMexican Vegetables Bread Cafeteria Lunch SpecialRamen Noodle  Chicken Salad
URL:https://www.salemhome.ca/event/daily-menu-1680/
CATEGORIES:Daily Menu
END:VEVENT
BEGIN:VEVENT
DTSTART;VALUE=DATE:20260724
DTEND;VALUE=DATE:20260725
DTSTAMP:20260424T011447
CREATED:20260106T214804Z
LAST-MODIFIED:20260419T202106Z
UID:61374-1784851200-1784937599@www.salemhome.ca
SUMMARY:Daily Menu
DESCRIPTION:Lunch Cabbage Borscht or AlternatePulled Chicken Salad Homemade BreadDessert \nSupperBattered Fish or AlternateMashed PotatoesGravyColeslawBread  Cafeteria Lunch SpecialCranberry Chicken Salad
URL:https://www.salemhome.ca/event/daily-menu-1682/
CATEGORIES:Daily Menu
END:VEVENT
BEGIN:VEVENT
DTSTART;VALUE=DATE:20260725
DTEND;VALUE=DATE:20260726
DTSTAMP:20260424T011447
CREATED:20260107T220024Z
LAST-MODIFIED:20260419T202106Z
UID:61404-1784937600-1785023999@www.salemhome.ca
SUMMARY:Daily Menu
DESCRIPTION:LunchSausage Lentil Soup or AlternativeHam SandwichesPickles Desserts \nSupper  Bone in Ham or AlternateKielke (noodles)Fried OnionsBread 
URL:https://www.salemhome.ca/event/daily-menu-1683/
CATEGORIES:Daily Menu
END:VEVENT
BEGIN:VEVENT
DTSTART;VALUE=DATE:20260726
DTEND;VALUE=DATE:20260727
DTSTAMP:20260424T011447
CREATED:20260109T220302Z
LAST-MODIFIED:20260419T202106Z
UID:61460-1785024000-1785110399@www.salemhome.ca
SUMMARY:Daily Menu
DESCRIPTION:LunchMeatball Spaghetti Soup or AlternateSliced TurkeyBunsDessert \nSupperTeriyaki Chicken or AlternateMashed PotatoesGravy4 Fancy Vegetables Bread
URL:https://www.salemhome.ca/event/daily-menu-1685/
CATEGORIES:Daily Menu
END:VEVENT
BEGIN:VEVENT
DTSTART;VALUE=DATE:20260727
DTEND;VALUE=DATE:20260728
DTSTAMP:20260424T011447
CREATED:20260108T220021Z
LAST-MODIFIED:20260419T202106Z
UID:61449-1785110400-1785196799@www.salemhome.ca
SUMMARY:Daily Menu
DESCRIPTION:Lunch  \nBroccoli Soup or Alternate \nEgg Salad \nBuns \nDessert \n  \nSupper  \nSweet and Sour Farmer Sausage or Alternate \nRice \nCauliflower and Carrots with a Cheese Sauce \nBread \n  \nCafeteria Lunch Special  \nChicken Enchilada Soup
URL:https://www.salemhome.ca/event/daily-menu-1684/
CATEGORIES:Daily Menu
END:VEVENT
BEGIN:VEVENT
DTSTART;VALUE=DATE:20260728
DTEND;VALUE=DATE:20260729
DTSTAMP:20260424T011447
CREATED:20260110T221521Z
LAST-MODIFIED:20260419T202118Z
UID:61487-1785196800-1785283199@www.salemhome.ca
SUMMARY:Daily Menu
DESCRIPTION:LunchBreakfast Sausage or AlternateWafflesWhite PuddingStrawberry Sauce \nSupperChicken Fettuccine Alfredo or AlternateGarden VegetablesBread Cafeteria Lunch Special Chicken & Roast Butternut Squash Quinoa Salad Bowl
URL:https://www.salemhome.ca/event/daily-menu-1686/
CATEGORIES:Daily Menu
END:VEVENT
BEGIN:VEVENT
DTSTART;VALUE=DATE:20260729
DTEND;VALUE=DATE:20260730
DTSTAMP:20260424T011447
CREATED:20260111T221803Z
LAST-MODIFIED:20260419T202118Z
UID:61503-1785283200-1785369599@www.salemhome.ca
SUMMARY:Daily Menu
DESCRIPTION:Lunch Hamburger Soup or Alternate CheeseDill PicklesSour Cream Rolls DessertSupperBone in Ham or AlternateVarenike (cottage cheese perogies)Schmaunt Faat (cream gravy)  Rhubarb SauceBread Cafeteria Lunch Special Spinach Feta Greek Burgers
URL:https://www.salemhome.ca/event/daily-menu-1687/
CATEGORIES:Daily Menu
END:VEVENT
BEGIN:VEVENT
DTSTART;VALUE=DATE:20260730
DTEND;VALUE=DATE:20260731
DTSTAMP:20260424T011447
CREATED:20260112T223021Z
LAST-MODIFIED:20260419T202118Z
UID:61512-1785369600-1785455999@www.salemhome.ca
SUMMARY:Daily Menu
DESCRIPTION:LunchChicken Noodle Soup or AlternateGarlic SausageHomemade BreadDessert \nSupperChili or AlternateTater GemsColeslawGarden Vegetables   Bread \nCafeteria Lunch Special Crispy Chicken Pecan Salad
URL:https://www.salemhome.ca/event/daily-menu-1688/
CATEGORIES:Daily Menu
END:VEVENT
BEGIN:VEVENT
DTSTART;VALUE=DATE:20260731
DTEND;VALUE=DATE:20260801
DTSTAMP:20260424T011447
CREATED:20260114T230022Z
LAST-MODIFIED:20260419T202118Z
UID:61555-1785456000-1785542399@www.salemhome.ca
SUMMARY:Daily Menu
DESCRIPTION:LunchGreen Bean Soup with Sausage or AlternateHot Turkey and Cheese SandwichDessert \nSupperCountry Fried Chicken or AlternateMashed Potatoes GravyColeslaw Bread Cafeteria Lunch SpecialOven Baked Tacos
URL:https://www.salemhome.ca/event/daily-menu-1690/
CATEGORIES:Daily Menu
END:VEVENT
BEGIN:VEVENT
DTSTART;VALUE=DATE:20260801
DTEND;VALUE=DATE:20260802
DTSTAMP:20260424T011447
CREATED:20260113T224614Z
LAST-MODIFIED:20260419T202118Z
UID:61531-1785542400-1785628799@www.salemhome.ca
SUMMARY:Daily Menu
DESCRIPTION:LunchSummer Borscht with Sausage or AlternateDeli Ham RollBunsDessertSupperChicken Stew or AlternateMashed PotatoesHomemade Brown Bread
URL:https://www.salemhome.ca/event/daily-menu-1689/
CATEGORIES:Daily Menu
END:VEVENT
BEGIN:VEVENT
DTSTART;VALUE=DATE:20260802
DTEND;VALUE=DATE:20260803
DTSTAMP:20260424T011447
CREATED:20260115T230310Z
LAST-MODIFIED:20260419T202118Z
UID:61573-1785628800-1785715199@www.salemhome.ca
SUMMARY:Daily Menu
DESCRIPTION:LunchCountry Chicken or AlternatePotato SaladBread and Butter PicklesBreadDessert \nSupper  Swedish Meatballs or AlternateLoaded Mashed Potatoes4 Fancy Mixed Vegetables.Bread
URL:https://www.salemhome.ca/event/daily-menu-1691/
CATEGORIES:Daily Menu
END:VEVENT
END:VCALENDAR