BEGIN:VCALENDAR
VERSION:2.0
PRODID:-//Salem Home - ECPv6.15.20//NONSGML v1.0//EN
CALSCALE:GREGORIAN
METHOD:PUBLISH
X-WR-CALNAME:Salem Home
X-ORIGINAL-URL:https://www.salemhome.ca
X-WR-CALDESC:Events for Salem Home
REFRESH-INTERVAL;VALUE=DURATION:PT1H
X-Robots-Tag:noindex
X-PUBLISHED-TTL:PT1H
BEGIN:VTIMEZONE
TZID:America/Winnipeg
BEGIN:DAYLIGHT
TZOFFSETFROM:-0600
TZOFFSETTO:-0500
TZNAME:CDT
DTSTART:20250309T080000
END:DAYLIGHT
BEGIN:STANDARD
TZOFFSETFROM:-0500
TZOFFSETTO:-0600
TZNAME:CST
DTSTART:20251102T070000
END:STANDARD
BEGIN:DAYLIGHT
TZOFFSETFROM:-0600
TZOFFSETTO:-0500
TZNAME:CDT
DTSTART:20260308T080000
END:DAYLIGHT
BEGIN:STANDARD
TZOFFSETFROM:-0500
TZOFFSETTO:-0600
TZNAME:CST
DTSTART:20261101T070000
END:STANDARD
BEGIN:DAYLIGHT
TZOFFSETFROM:-0600
TZOFFSETTO:-0500
TZNAME:CDT
DTSTART:20270314T080000
END:DAYLIGHT
BEGIN:STANDARD
TZOFFSETFROM:-0500
TZOFFSETTO:-0600
TZNAME:CST
DTSTART:20271107T070000
END:STANDARD
END:VTIMEZONE
BEGIN:VEVENT
DTSTART;TZID=America/Winnipeg:20260714T150000
DTEND;TZID=America/Winnipeg:20260714T160000
DTSTAMP:20260423T060917
CREATED:20260421T202251Z
LAST-MODIFIED:20260421T202251Z
UID:65209-1784041200-1784044800@www.salemhome.ca
SUMMARY:Bingo
DESCRIPTION:
URL:https://www.salemhome.ca/event/bingo-1266/
CATEGORIES:Cottonwood
END:VEVENT
BEGIN:VEVENT
DTSTART;TZID=America/Winnipeg:20260714T100000
DTEND;TZID=America/Winnipeg:20260714T113000
DTSTAMP:20260423T060917
CREATED:20260421T202250Z
LAST-MODIFIED:20260421T202250Z
UID:65207-1784023200-1784028600@www.salemhome.ca
SUMMARY:Men's Coffee Shop
DESCRIPTION:
URL:https://www.salemhome.ca/event/mens-coffee-shop-1470/
CATEGORIES:Cottonwood
END:VEVENT
BEGIN:VEVENT
DTSTART;TZID=America/Winnipeg:20260714T100000
DTEND;TZID=America/Winnipeg:20260714T110000
DTSTAMP:20260423T060917
CREATED:20260423T053539Z
LAST-MODIFIED:20260423T053539Z
UID:65351-1784023200-1784026800@www.salemhome.ca
SUMMARY:Men's Coffee
DESCRIPTION:
URL:https://www.salemhome.ca/event/mens-coffee-817/
CATEGORIES:Maple North
END:VEVENT
BEGIN:VEVENT
DTSTART;TZID=America/Winnipeg:20260714T100000
DTEND;TZID=America/Winnipeg:20260714T103000
DTSTAMP:20260423T060917
CREATED:20260423T053540Z
LAST-MODIFIED:20260423T053540Z
UID:65352-1784023200-1784025000@www.salemhome.ca
SUMMARY:Chapel in Grove
DESCRIPTION:
URL:https://www.salemhome.ca/event/chapel-in-grove-135/
CATEGORIES:Maple North
END:VEVENT
BEGIN:VEVENT
DTSTART;TZID=America/Winnipeg:20260714T100000
DTEND;TZID=America/Winnipeg:20260714T100000
DTSTAMP:20260423T060917
CREATED:20260421T202251Z
LAST-MODIFIED:20260421T202251Z
UID:65208-1784023200-1784023200@www.salemhome.ca
SUMMARY:One to One visits
DESCRIPTION:
URL:https://www.salemhome.ca/event/one-to-one-visits-45/
CATEGORIES:Cottonwood
END:VEVENT
BEGIN:VEVENT
DTSTART;VALUE=DATE:20260714
DTEND;VALUE=DATE:20260715
DTSTAMP:20260423T060917
CREATED:20251227T201802Z
LAST-MODIFIED:20260419T202054Z
UID:61071-1783987200-1784073599@www.salemhome.ca
SUMMARY:Daily Menu
DESCRIPTION:Lunch Ham and Potato Soup or AlternateSausage RollDessertSupper Creamy Mushroom MeatballsRice and Vegetable CasseroleBread Cafeteria Lunch Special BBQ Ranch Salad
URL:https://www.salemhome.ca/event/daily-menu-1672/
CATEGORIES:Daily Menu
END:VEVENT
BEGIN:VEVENT
DTSTART;TZID=America/Winnipeg:20260713T180000
DTEND;TZID=America/Winnipeg:20260713T190000
DTSTAMP:20260423T060917
CREATED:20260423T053538Z
LAST-MODIFIED:20260423T053538Z
UID:65350-1783965600-1783969200@www.salemhome.ca
SUMMARY:Bingo
DESCRIPTION:
URL:https://www.salemhome.ca/event/bingo-1272/
CATEGORIES:Maple North
END:VEVENT
BEGIN:VEVENT
DTSTART;TZID=America/Winnipeg:20260713T150000
DTEND;TZID=America/Winnipeg:20260713T160000
DTSTAMP:20260423T060917
CREATED:20260421T052036Z
LAST-MODIFIED:20260423T053538Z
UID:65191-1783954800-1783958400@www.salemhome.ca
SUMMARY:Bible Study
DESCRIPTION:
URL:https://www.salemhome.ca/event/bible-study-25/
CATEGORIES:Maple North
END:VEVENT
BEGIN:VEVENT
DTSTART;TZID=America/Winnipeg:20260713T144500
DTEND;TZID=America/Winnipeg:20260713T154500
DTSTAMP:20260423T060917
CREATED:20260421T202250Z
LAST-MODIFIED:20260421T202250Z
UID:65206-1783953900-1783957500@www.salemhome.ca
SUMMARY:Men's Group
DESCRIPTION:Located on Evergreen\, residents from all care areas welcome.
URL:https://www.salemhome.ca/event/mens-group-1075/
CATEGORIES:Cottonwood
END:VEVENT
BEGIN:VEVENT
DTSTART;TZID=America/Winnipeg:20260713T144500
DTEND;TZID=America/Winnipeg:20260713T154500
DTSTAMP:20260423T060917
CREATED:20260421T052036Z
LAST-MODIFIED:20260423T053538Z
UID:65192-1783953900-1783957500@www.salemhome.ca
SUMMARY:Men's Group
DESCRIPTION:Located on Evergreen\, residents from all care areas welcome.
URL:https://www.salemhome.ca/event/mens-group-1074/
CATEGORIES:Maple North
END:VEVENT
BEGIN:VEVENT
DTSTART;TZID=America/Winnipeg:20260713T100000
DTEND;TZID=America/Winnipeg:20260713T110000
DTSTAMP:20260423T060917
CREATED:20260421T052035Z
LAST-MODIFIED:20260423T053538Z
UID:65190-1783936800-1783940400@www.salemhome.ca
SUMMARY:Men's Coffee
DESCRIPTION:
URL:https://www.salemhome.ca/event/mens-coffee-811/
CATEGORIES:Maple North
END:VEVENT
BEGIN:VEVENT
DTSTART;TZID=America/Winnipeg:20260713T100000
DTEND;TZID=America/Winnipeg:20260713T110000
DTSTAMP:20260423T060917
CREATED:20260418T200748Z
LAST-MODIFIED:20260421T202249Z
UID:65143-1783936800-1783940400@www.salemhome.ca
SUMMARY:Men's Coffee Shop
DESCRIPTION:
URL:https://www.salemhome.ca/event/mens-coffee-shop-1466/
CATEGORIES:Cottonwood
END:VEVENT
BEGIN:VEVENT
DTSTART;TZID=America/Winnipeg:20260713T100000
DTEND;TZID=America/Winnipeg:20260713T103000
DTSTAMP:20260423T060917
CREATED:20260418T200748Z
LAST-MODIFIED:20260421T202249Z
UID:65144-1783936800-1783938600@www.salemhome.ca
SUMMARY:Chapel
DESCRIPTION:
URL:https://www.salemhome.ca/event/chapel-865/
LOCATION:Cottonwood
CATEGORIES:Cottonwood
END:VEVENT
BEGIN:VEVENT
DTSTART;VALUE=DATE:20260713
DTEND;VALUE=DATE:20260714
DTSTAMP:20260423T060917
CREATED:20251226T200311Z
LAST-MODIFIED:20260419T202053Z
UID:61060-1783900800-1783987199@www.salemhome.ca
SUMMARY:Daily Menu
DESCRIPTION:LunchChicken Noodle Soup or AlternateSliced TurkeyBunsDessert \nSupper   Breaded PorkDipping Sauce or Alternate Scalloped PotatoesCarrots and TurnipsBread Cafeteria Lunch SpecialLoaded Cheesy Baked Potato Soup
URL:https://www.salemhome.ca/event/daily-menu-1671/
CATEGORIES:Daily Menu
END:VEVENT
BEGIN:VEVENT
DTSTART;VALUE=DATE:20260712
DTEND;VALUE=DATE:20260713
DTSTAMP:20260423T060917
CREATED:20260421T052035Z
LAST-MODIFIED:20260423T053537Z
UID:65189-1783814400-1783900799@www.salemhome.ca
SUMMARY:Day of Rest
DESCRIPTION:
URL:https://www.salemhome.ca/event/day-of-rest-523/
CATEGORIES:Maple North
END:VEVENT
BEGIN:VEVENT
DTSTART;VALUE=DATE:20260712
DTEND;VALUE=DATE:20260713
DTSTAMP:20260423T060917
CREATED:20260418T200747Z
LAST-MODIFIED:20260421T202249Z
UID:65142-1783814400-1783900799@www.salemhome.ca
SUMMARY:Day of Rest
DESCRIPTION:
URL:https://www.salemhome.ca/event/day-of-rest-522/
CATEGORIES:Cottonwood
END:VEVENT
BEGIN:VEVENT
DTSTART;VALUE=DATE:20260712
DTEND;VALUE=DATE:20260713
DTSTAMP:20260423T060917
CREATED:20251225T194807Z
LAST-MODIFIED:20260419T202053Z
UID:61042-1783814400-1783900799@www.salemhome.ca
SUMMARY:Daily Menu
DESCRIPTION:Lunch  \nGreen Bean Soup with Sausage or Alternate \nCheese \nBuns \nDessert \n  \nSupper  \nCabbage Rolls or Alternate \nSteamed Potatoes  \nSchmaunt Fatt  \nPeas and Carrots \nBread
URL:https://www.salemhome.ca/event/daily-menu-1670/
CATEGORIES:Daily Menu
END:VEVENT
BEGIN:VEVENT
DTSTART;TZID=America/Winnipeg:20260711T100000
DTEND;TZID=America/Winnipeg:20260711T110000
DTSTAMP:20260423T060917
CREATED:20260421T203840Z
LAST-MODIFIED:20260421T203840Z
UID:65247-1783764000-1783767600@www.salemhome.ca
SUMMARY:Bingo
DESCRIPTION:
URL:https://www.salemhome.ca/event/bingo-1269/
CATEGORIES:Maple South
END:VEVENT
BEGIN:VEVENT
DTSTART;TZID=America/Winnipeg:20260711T100000
DTEND;TZID=America/Winnipeg:20260711T110000
DTSTAMP:20260423T060917
CREATED:20260421T052035Z
LAST-MODIFIED:20260423T053537Z
UID:65188-1783764000-1783767600@www.salemhome.ca
SUMMARY:Bingo
DESCRIPTION:
URL:https://www.salemhome.ca/event/bingo-1265/
CATEGORIES:Maple North
END:VEVENT
BEGIN:VEVENT
DTSTART;TZID=America/Winnipeg:20260711T100000
DTEND;TZID=America/Winnipeg:20260711T110000
DTSTAMP:20260423T060917
CREATED:20260418T200747Z
LAST-MODIFIED:20260421T202249Z
UID:65141-1783764000-1783767600@www.salemhome.ca
SUMMARY:Bingo
DESCRIPTION:
URL:https://www.salemhome.ca/event/bingo-1263/
CATEGORIES:Cottonwood
END:VEVENT
BEGIN:VEVENT
DTSTART;VALUE=DATE:20260711
DTEND;VALUE=DATE:20260712
DTSTAMP:20260423T060917
CREATED:20251224T193307Z
LAST-MODIFIED:20260419T202053Z
UID:61008-1783728000-1783814399@www.salemhome.ca
SUMMARY:Daily Menu
DESCRIPTION:Lunch Tuscan Chicken Soup or Alternate Egg SaladHomemade BreadDessertSupper  Glazed Ham or Alternate Scalloped PotatoesBeet PicklesBread
URL:https://www.salemhome.ca/event/daily-menu-1669/
CATEGORIES:Daily Menu
END:VEVENT
BEGIN:VEVENT
DTSTART;TZID=America/Winnipeg:20260710T150000
DTEND;TZID=America/Winnipeg:20260710T160000
DTSTAMP:20260423T060917
CREATED:20260420T052033Z
LAST-MODIFIED:20260423T053537Z
UID:65166-1783695600-1783699200@www.salemhome.ca
SUMMARY:Men's Coffee
DESCRIPTION:
URL:https://www.salemhome.ca/event/mens-coffee-810/
CATEGORIES:Maple North
END:VEVENT
BEGIN:VEVENT
DTSTART;TZID=America/Winnipeg:20260710T150000
DTEND;TZID=America/Winnipeg:20260710T160000
DTSTAMP:20260423T060917
CREATED:20260417T175032Z
LAST-MODIFIED:20260421T202249Z
UID:65106-1783695600-1783699200@www.salemhome.ca
SUMMARY:Sing along
DESCRIPTION:
URL:https://www.salemhome.ca/event/sing-along-248/
CATEGORIES:Cottonwood
END:VEVENT
BEGIN:VEVENT
DTSTART;TZID=America/Winnipeg:20260710T150000
DTEND;TZID=America/Winnipeg:20260710T160000
DTSTAMP:20260423T060917
CREATED:20260416T173529Z
LAST-MODIFIED:20260421T202249Z
UID:65091-1783695600-1783699200@www.salemhome.ca
SUMMARY:Music Therapy
DESCRIPTION:
URL:https://www.salemhome.ca/event/music-therapy-346/
CATEGORIES:Cottonwood
END:VEVENT
BEGIN:VEVENT
DTSTART;TZID=America/Winnipeg:20260710T110000
DTEND;TZID=America/Winnipeg:20260710T120000
DTSTAMP:20260423T060917
CREATED:20260421T203840Z
LAST-MODIFIED:20260421T203840Z
UID:65245-1783681200-1783684800@www.salemhome.ca
SUMMARY:Move With Grace
DESCRIPTION:
URL:https://www.salemhome.ca/event/move-with-grace-222/
CATEGORIES:Maple South
END:VEVENT
BEGIN:VEVENT
DTSTART;TZID=America/Winnipeg:20260710T100000
DTEND;TZID=America/Winnipeg:20260710T110000
DTSTAMP:20260423T060917
CREATED:20260421T203840Z
LAST-MODIFIED:20260421T203840Z
UID:65246-1783677600-1783681200@www.salemhome.ca
SUMMARY:Men's Coffee
DESCRIPTION:
URL:https://www.salemhome.ca/event/mens-coffee-816/
CATEGORIES:Maple South
END:VEVENT
BEGIN:VEVENT
DTSTART;TZID=America/Winnipeg:20260710T100000
DTEND;TZID=America/Winnipeg:20260710T110000
DTSTAMP:20260423T060917
CREATED:20260420T052033Z
LAST-MODIFIED:20260423T053537Z
UID:65165-1783677600-1783681200@www.salemhome.ca
SUMMARY:Men's Coffee
DESCRIPTION:
URL:https://www.salemhome.ca/event/mens-coffee-809/
CATEGORIES:Maple North
END:VEVENT
BEGIN:VEVENT
DTSTART;TZID=America/Winnipeg:20260710T100000
DTEND;TZID=America/Winnipeg:20260710T110000
DTSTAMP:20260423T060917
CREATED:20260416T173528Z
LAST-MODIFIED:20260421T202249Z
UID:65090-1783677600-1783681200@www.salemhome.ca
SUMMARY:Men's Coffee Shop
DESCRIPTION:
URL:https://www.salemhome.ca/event/mens-coffee-shop-1463/
CATEGORIES:Cottonwood
END:VEVENT
BEGIN:VEVENT
DTSTART;VALUE=DATE:20260710
DTEND;VALUE=DATE:20260711
DTSTAMP:20260423T060917
CREATED:20251223T191804Z
LAST-MODIFIED:20260419T202053Z
UID:60982-1783641600-1783727999@www.salemhome.ca
SUMMARY:Daily Menu
DESCRIPTION:Lunch  Cabbage Borscht with Chicken or AlternateTurkey Sandwich Dessert \nSupper  Meatloaf or AlternateMashed PotatoesGravy Peas Bread Cafeteria Lunch SpecialChicken Chimichangas
URL:https://www.salemhome.ca/event/daily-menu-1668/
CATEGORIES:Daily Menu
END:VEVENT
BEGIN:VEVENT
DTSTART;TZID=America/Winnipeg:20260709T101500
DTEND;TZID=America/Winnipeg:20260709T111500
DTSTAMP:20260423T060917
CREATED:20260421T203840Z
LAST-MODIFIED:20260422T205315Z
UID:65244-1783592100-1783595700@www.salemhome.ca
SUMMARY:Hymn Sing
DESCRIPTION:
URL:https://www.salemhome.ca/event/hymn-sing-781/
CATEGORIES:Maple South
END:VEVENT
END:VCALENDAR